Workbook
Name D1_Participants10YO: #REF!
Name D1_Participants11YO: #REF!
Name D1_Participants12YO: #REF!
Name D1_Participants13YOA: #REF!
Name D1_Participants6YOU: #REF!
Name D1_Participants7YO: #REF!
Name D1_Participants8YO: #REF!
Name D1_Participants9YO: #REF!

Sheet MeetResults
D1: Age Group | E1: 6 & Under | P1: Date | Q1: 7/23/2017
X2: ABS | Z2: ABS | AA2: ABS | AJ2: ABS | AL2: ABS | AM2: ABS
C3: Age and Gender | E3: 6 & Under Girls | O3: Age and Gender | Q3: 6 & Under Boys | W3: Config | X3: 1 | Y3: ID | Z3: ID | AB3: 1 | AE3: Tied | AG3: Raw | AJ3: 13 | AK3: ID | AL3: ID | AN3: 2 | AQ3: Tied | AS3: Raw
C4: Count | E4: 22 | O4: Count | Q4: 17 | X4: FG | Y4: Final | Z4: Lookup | AD4: Final | AE4: Points | AG4: Points | AJ4: FB | AK4: Final | AL4: Lookup | AP4: Final | AQ4: Points | AS4: Points
C5: Place | D5: 6 & Under Girls | F5: Score | G5: Team | O5: Place | P5: 6 & Under Boys | R5: Score | S5: Team | W5: Place | X5: Score | Y5: H | Z5: H | AA5: V | AB5: Name | AC5: Team | AD5: Points | AE5: H | AF5: V | AG5: H | AH5: V | AI5: Place | AJ5: Score | AK5: H | AL5: H | AM5: V | AN5: Name | AO5: Team | AP5: Points | AQ5: H | AR5: V | AS5: H | AT5: V
C6: 1 | D6: Olivia Berik | F6: 41.65 | G6: HS | O6: 1 | P6: Cristiano Garcia | R6: 51.05 | S6: S | W6: 1 | X6: 41.65 | Y6: H62 | Z6: H62 | AA6: #NUM! | AB6: Olivia Berik | AC6: HS | AD6: 5 | AE6: 5 | AG6: 5 | AI6: 1 | AJ6: 51.05 | AK6: V68 | AL6: #NUM! | AM6: V68 | AN6: Cristiano Garcia | AO6: S | AP6: 5 | AR6: 5 | AT6: 5
C7: 2 | D7: Caroline Berry | F7: 34.05 | G7: RH | O7: 2 | P7: Gabriel Laprise | R7: 45.85 | S7: T | W7: 2 | X7: 34.05 | Y7: H63 | Z7: H63 | AA7: #NUM! | AB7: Caroline Berry | AC7: RH | AD7: 3 | AE7: 3 | AG7: 3 | AI7: 2 | AJ7: 45.85 | AK7: V613 | AL7: #NUM! | AM7: V613 | AN7: Gabriel Laprise | AO7: T | AP7: 3 | AR7: 3 | AT7: 3
C8: 3 | D8: Katelyn Thackaberry | F8: 28.45 | G8: RH | O8: 3 | P8: Jonah Lanthier | R8: 36.9 | S8: WG | W8: 3 | X8: 28.45 | Y8: H623 | Z8: H623 | AA8: #NUM! | AB8: Katelyn Thackaberry | AC8: RH | AD8: 1 | AE8: 1 | AG8: 1 | AI8: 3 | AJ8: 36.9 | AK8: V612 | AL8: #NUM! | AM8: V612 | AN8: Jonah Lanthier | AO8: WG | AP8: 1 | AR8: 1 | AT8: 1
C9: 4 | D9: Brooke Fellow | F9: 27.4 | G9: DL | O9: 4 | P9: Mason Beggs | R9: 32.8 | S9: CB | W9: 4 | X9: 27.4 | Y9: H66 | Z9: H66 | AA9: #NUM! | AB9: Brooke Fellow | AC9: DL | AG9: 0 | AI9: 4 | AJ9: 32.8 | AK9: V63 | AL9: #NUM! | AM9: V63 | AN9: Mason Beggs | AO9: CB | AT9: 0
C10: 5 | D10: Lexi Hintos | F10: 27.15 | G10: OKM | O10: 5 | P10: James Madden | R10: 31 | S10: DR | W10: 5 | X10: 27.15 | Y10: H610 | Z10: H610 | AA10: #NUM! | AB10: Lexi Hintos | AC10: OKM | AG10: 0 | AI10: 5 | AJ10: 31 | AK10: V616 | AL10: #NUM! | AM10: V616 | AN10: James Madden | AO10: DR | AT10: 0
C11: 6 | D11: Anya Osterhout | F11: 25.65 | G11: OKM | O11: 6 | P11: Cole Pointkowski | R11: 30.2 | S11: CH | W11: 6 | X11: 25.65 | Y11: H620 | Z11: H620 | AA11: #NUM! | AB11: Anya Osterhout | AC11: OKM | AG11: 0 | AI11: 6 | AJ11: 30.2 | AK11: V621 | AL11: #NUM! | AM11: V621 | AN11: Cole Pointkowski | AO11: CH | AT11: 0
C12: 7 | D12: Corinne Murphy | F12: 23.3 | G12: CP | O12: 7 | P12: Vikram Murphy | R12: 29.05 | S12: M | W12: 7 | X12: 23.3 | Y12: H619 | Z12: H619 | AA12: #NUM! | AB12: Corinne Murphy | AC12: CP | AG12: 0 | AI12: 7 | AJ12: 29.05 | AK12: V620 | AL12: #NUM! | AM12: V620 | AN12: Vikram Murphy | AO12: M | AT12: 0
C13: T8 | D13: Lena Kaufmann | F13: 23.25 | G13: SHB | O13: 8 | P13: Bennie Lineweaver | R13: 27.6 | S13: DR | W13: 8 | X13: 23.25 | Y13: H613 | Z13: H613 | AA13: #NUM! | AB13: Lena Kaufmann | AC13: SHB | AG13: 0 | AI13: 8 | AJ13: 27.6 | AK13: V614 | AL13: #NUM! | AM13: V614 | AN13: Bennie Lineweaver | AO13: DR | AT13: 0
C14: T8 | D14: Caroline King | F14: 23.25 | G14: KG | O14: 9 | P14: Aiden Mathias | R14: 25.85 | S14: SR | W14: 9 | X14: 23.25 | Y14: H614 | Z14: H614 | AA14: #NUM! | AB14: Caroline King | AC14: KG | AG14: 0 | AI14: 9 | AJ14: 25.85 | AK14: V617 | AL14: #NUM! | AM14: V617 | AN14: Aiden Mathias | AO14: SR | AT14: 0
C15: 10 | D15: Annabelle Levy | F15: 19.95 | G15: SHR | O15: 10 | P15: Ethan Johns | R15: 21 | S15: CP | W15: 10 | X15: 19.95 | Y15: H615 | Z15: H615 | AA15: #NUM! | AB15: Annabelle Levy | AC15: SHR | AG15: 0 | AI15: 10 | AJ15: 21 | AK15: V610 | AL15: #NUM! | AM15: V610 | AN15: Ethan Johns | AO15: CP | AT15: 0
C16: 11 | D16: Mia Gumucio | F16: 19.5 | G16: SHB | O16: 11 | P16: Nate Connelly | R16: 18.9 | S16: SHR | W16: 11 | X16: 19.5 | Y16: H69 | Z16: H69 | AA16: #NUM! | AB16: Mia Gumucio | AC16: SHB | AG16: 0 | AI16: 11 | AJ16: 18.9 | AK16: V67 | AL16: #NUM! | AM16: V67 | AN16: Nate Connelly | AO16: SHR | AT16: 0
C17: 12 | D17: Naomi Floyd | F17: 19.35 | G17: MHC | O17: 12 | P17: Cooper Jaskot | R17: 17.65 | S17: CH | W17: 12 | X17: 19.35 | Y17: H68 | Z17: H68 | AA17: #NUM! | AB17: Naomi Floyd | AC17: MHC | AG17: 0 | AI17: 12 | AJ17: 17.65 | AK17: V69 | AL17: #NUM! | AM17: V69 | AN17: Cooper Jaskot | AO17: CH | AT17: 0
C18: 13 | D18: Sophia Morgan | F18: 18.9 | G18: DL | O18: 13 | P18: Austin Lant | R18: 17 | S18: MHC | W18: 13 | X18: 18.9 | Y18: H618 | Z18: H618 | AA18: #NUM! | AB18: Sophia Morgan | AC18: DL | AG18: 0 | AI18: 13 | AJ18: 17 | AK18: V611 | AL18: #NUM! | AM18: V611 | AN18: Austin Lant | AO18: MHC | AT18: 0
C19: 14 | D19: Maria Coury | F19: 17.3 | G19: DL | O19: 14 | P19: Calvin Butler | R19: 15.25 | S19: CH | W19: 14 | X19: 17.3 | Y19: H65 | Z19: H65 | AA19: #NUM! | AB19: Maria Coury | AC19: DL | AG19: 0 | AI19: 14 | AJ19: 15.25 | AK19: V65 | AL19: #NUM! | AM19: V65 | AN19: Calvin Butler | AO19: CH | AT19: 0
C20: 15 | D20: Sofia Silvester | F20: 16.5 | G20: MHC | O20: 15 | P20: Desmond Morrow | R20: 13.25 | S20: SHR | W20: 15 | X20: 16.5 | Y20: H622 | Z20: H622 | AA20: #NUM! | AB20: Sofia Silvester | AC20: MHC | AG20: 0 | AI20: 15 | AJ20: 13.25 | AK20: V619 | AL20: #NUM! | AM20: V619 | AN20: Desmond Morrow | AO20: SHR | AT20: 0
C21: 16 | D21: Grace Fennell | F21: 15.75 | G21: DL | O21: 16 | P21: Colin Sample | R21: 12.75 | S21: SHR | W21: 16 | X21: 15.75 | Y21: H67 | Z21: H67 | AA21: #NUM! | AB21: Grace Fennell | AC21: DL | AG21: 0 | AI21: 16 | AJ21: 12.75 | AK21: V622 | AL21: #NUM! | AM21: V622 | AN21: Colin Sample | AO21: SHR | AT21: 0
C22: 17 | D22: Maya Bryant | F22: 14.5 | G22: SHR | O22: 17 | P22: Webb Stewart | R22: 11.25 | S22: DL | W22: 17 | X22: 14.5 | Y22: H64 | Z22: H64 | AA22: #NUM! | AB22: Maya Bryant | AC22: SHR | AG22: 0 | AI22: 17 | AJ22: 11.25 | AK22: V624 | AL22: #NUM! | AM22: V624 | AN22: Webb Stewart | AO22: DL | AT22: 0
C23: T18 | D23: Teagan Johns | F23: 14 | G23: CP | W23: 18 | X23: 14 | Y23: H612 | Z23: H612 | AA23: #NUM! | AB23: Teagan Johns | AC23: CP | AG23: 0 | AI23: 18 | AS23: 0 | AT23: 0
C24: T18 | D24: Lily Scherer | F24: 14 | G24: SHR | W24: 19 | X24: 14 | Y24: H621 | Z24: H621 | AA24: #NUM! | AB24: Lily Scherer | AC24: SHR | AG24: 0 | AI24: 19 | AS24: 0 | AT24: 0
C25: 20 | D25: Moira Lummer | F25: 13 | G25: RH | W25: 20 | X25: 13 | Y25: H616 | Z25: H616 | AA25: #NUM! | AB25: Moira Lummer | AC25: RH | AG25: 0 | AI25: 20 | AS25: 0 | AT25: 0
C26: 21 | D26: Aspen Abruzzese | F26: 9.75 | G26: HS | W26: 21 | X26: 9.75 | Y26: H61 | Z26: H61 | AA26: #NUM! | AB26: Aspen Abruzzese | AC26: HS | AG26: 0 | AI26: 21 | AS26: 0 | AT26: 0
C27: 22 | D27: Makena McMahon | F27: 8 | G27: T | W27: 22 | X27: 8 | Y27: H617 | Z27: H617 | AA27: #NUM! | AB27: Makena McMahon | AC27: T | AG27: 0 | AI27: 22 | AS27: 0 | AT27: 0
W28: 51 | AI28: 51
C29: Comments
C30: 0
D36: Age Form | E36: 7 Year Old | P36: Date | Q36: 7/23/2017
X37: ABS | Z37: ABS | AA37: ABS | AJ37: ABS | AL37: ABS | AM37: ABS
C38: Age and Gender | E38: 7 Year Old Girls | O38: Age and Gender | Q38: 7 Year Old Boys | W38: Config | X38: 1 | Y38: ID | Z38: ID | AB38: 1 | AE38: Tied | AG38: Raw | AJ38: 13 | AK38: ID | AL38: ID | AN38: 2 | AQ38: Tied | AS38: Raw
C39: Count | E39: 22 | O39: Count | Q39: 28 | X39: FG | Y39: Final | Z39: Lookup | AD39: Final | AE39: Points | AG39: Points | AJ39: FB | AK39: Final | AL39: Lookup | AP39: Final | AQ39: Points | AS39: Points
C40: Place | D40: 7 Year Old Girls | F40: Score | G40: Team | O40: Place | P40: 7 Year Old Boys | R40: Score | S40: Team | W40: Place | X40: Score | Y40: H | Z40: H | AA40: V | AB40: Name | AC40: Team | AD40: Points | AE40: H | AF40: V | AG40: H | AH40: V | AI40: Place | AJ40: Score | AK40: H | AL40: H | AM40: V | AN40: Name | AO40: Team | AP40: Points | AQ40: H | AR40: V | AS40: H | AT40: V
C41: 1 | D41: Jayde Kalinock | F41: 54.1 | G41: VW | O41: 1 | P41: Madison Worthington | R41: 59.85 | S41: THA | W41: 1 | X41: 54.1 | Y41: H720 | Z41: H720 | AA41: #NUM! | AB41: Jayde Kalinock | AC41: VW | AD41: 5 | AE41: 5 | AG41: 5 | AI41: 1 | AJ41: 59.85 | AK41: V733 | AL41: #NUM! | AM41: V733 | AN41: Madison Worthington | AO41: THA | AP41: 5 | AR41: 5 | AT41: 5
C42: 2 | D42: Carly Schweers | F42: 51.05 | G42: VW | O42: 2 | P42: Colin Gallagher | R42: 50.75 | S42: GF | W42: 2 | X42: 51.05 | Y42: H730 | Z42: H730 | AA42: #NUM! | AB42: Carly Schweers | AC42: VW | AD42: 3 | AE42: 3 | AG42: 3 | AI42: 2 | AJ42: 50.75 | AK42: V79 | AL42: #NUM! | AM42: V79 | AN42: Colin Gallagher | AO42: GF | AP42: 3 | AR42: 3 | AT42: 3
C43: 3 | D43: Madison Allard | F43: 42.3 | G43: LG | O43: 3 | P43: Nate Butler | R43: 49.15 | S43: CH | W43: 3 | X43: 42.3 | Y43: H71 | Z43: H71 | AA43: #NUM! | AB43: Madison Allard | AC43: LG | AD43: 1 | AE43: 1 | AG43: 1 | AI43: 3 | AJ43: 49.15 | AK43: V73 | AL43: #NUM! | AM43: V73 | AN43: Nate Butler | AO43: CH | AP43: 1 | AR43: 1 | AT43: 1
C44: 4 | D44: Zoe Mar | F44: 41.85 | G44: LG | O44: 4 | P44: Cameron Parkhomenko | R44: 44.8 | S44: CB | W44: 4 | X44: 41.85 | Y44: H724 | Z44: H724 | AA44: #NUM! | AB44: Zoe Mar | AC44: LG | AG44: 0 | AI44: 4 | AJ44: 44.8 | AK44: V734 | AL44: #NUM! | AM44: V734 | AN44: Cameron Parkhomenko | AO44: CB | AT44: 0
C45: 5 | D45: Anna Dober | F45: 39.95 | G45: SHR | O45: 5 | P45: Henry Phoel | R45: 44.7 | S45: KG | W45: 5 | X45: 39.95 | Y45: H710 | Z45: H710 | AA45: #NUM! | AB45: Anna Dober | AC45: SHR | AG45: 0 | AI45: 5 | AJ45: 44.7 | AK45: V726 | AL45: #NUM! | AM45: V726 | AN45: Henry Phoel | AO45: KG | AT45: 0
...

Sheet Lookup-Schedule
A1: =IFERROR(__xludf.DUMMYFUNCTION("importrange(""https://docs.google.com/a/marlinmultimedia.com/spreadsheets/d/1oSDZlRpKI1Rl18gp2l040IpPIw0MfV9v42_cGvRLN3k/edit"",""Lookup-schedule-""&$R$1&""!a1:l50"")"),"") | C1: Visitor | E1: Home | I1: Home | J1: Visitor | K1: Schedule Link: | L1: http://dive.mynvsl.com/schedules?year=2017 | Q1: Display Schedule: | R1: 20170705
C3: 42921
C4: #REF!
A5: 1 | C5: Division I
A6: 11 | C6: Mansion House | D6: at | E6: Overlee | F6: 0.75 | G6: MAP | I6: O-Overlee | J6: MHC-Mansion House
A7: 12 | C7: Vienna Woods | D7: at | E7: Dunn Loring | F7: 0.75 | G7: MAP | I7: DL-Dunn Loring | J7: VW-Vienna Woods
A8: 13 | C8: Sideburn Run | D8: at | E8: Walden Glen | F8: 0.75 | G8: MAP | I8: WG-Walden Glen | J8: SR-Sideburn Run
A9: 2 | C9: Division II
A10: 21 | C10: Tuckahoe | D10: at | E10: Lee-Graham | F10: 0.75 | G10: MAP | I10: LG-Lee Graham | J10: T-Tuckahoe
A11: 22 | C11: Old Keene Mill | D11: at | E11: Truro | F11: 0.75 | G11: MAP | I11: THA-Truro Homes Assn | J11: OKM-Old Keene Mill
A12: 23 | C12: Pinecrest | D12: at | E12: Crosspointe | F12: 0.75 | G12: MAP | I12: CP-Crosspointe | J12: PC-Pinecrest
A13: 3 | C13: Division III
A14: 31 | C14: Hayfield Farm | D14: at | E14: Mantua | F14: 0.75 | G14: MAP | I14: M-Mantua | J14: HF-Hayfield Farm
A15: 32 | C15: Chesterbrook | D15: at | E15: Arlington Forest | F15: 0.75 | G15: MAP | I15: AF-Arlington Forest | J15: CB-Chesterbrook
A16: 33 | C16: Sleepy Hollow B & R | D16: at | E16: Oakton | F16: 0.75 | G16: MAP | I16: OAK-Oakton | J16: SHB-Sleepy Hollow Bath
A17: 4 | C17: Division IV
A18: 41 | C18: Fairfax | D18: at | E18: Camelot | F18: 0.75 | G18: MAP | I18: CCC-Camelot Community Club | J18: F-Fairfax
A19: 42 | C19: Dominion Hills | D19: at | E19: Highland Park | F19: 0.75 | G19: MAP | I19: HP-Highland Park | J19: DH-Dominion Hills
A20: 43 | C20: Cardinal Hill | D20: at | E20: Great Falls | F20: 0.75 | G20: MAP | I20: GF-Great Falls | J20: CH-Cardinal Hill
A21: 5 | C21: Division V
A22: 51 | C22: Wakefield Chapel | D22: at | E22: Woodley | F22: 0.75 | G22: MAP | I22: W-Woodley | J22: WC-Wakefield Chapel
A23: 52 | C23: Kent Gardens | D23: at | E23: Greenbriar | F23: 0.75 | G23: MAP | I23: GB-Greenbriar | J23: KG-Kent Gardens
A24: 53 | C24: Lakeview | D24: at | E24: Hamlet | F24: 0.75 | G24: MAP | I24: HSC-Hamlet Swim | J24: LV-Lakeview
A25: 6 | C25: Division VI
A26: 61 | C26: Donaldson Run | D26: at | E26: Highlands Swim | F26: 0.75 | G26: MAP | I26: HS-Highlands Swim | J26: DR-Donaldson Run
A27: 62 | C27: North Springfield | D27: at | E27: Sleepy Hollow Rec | F27: 0.75 | G27: MAP | I27: SHR-Sleepy Hollow Rec | J27: NS-North Springfield
A28: 63 | C28: Orange Hunt | D28: at | E28: Stratford | F28: 0.75 | G28: MAP | I28: SRA-Stratford Rec Association | J28: OH-Orange Hunt
A29: 7 | C29: Division VII
A30: 71 | C30: Hunt Valley | D30: at | E30: Ilda Community | F30: 0.75 | G30: MAP | I30: IC-Ilda Community | J30: HV-Hunt Valley
A31: 72 | C31: Commonwealth | D31: at | E31: Ravensworth Farm | F31: 0.75 | G31: MAP | I31: R-Ravensworth Farm | J31: CSC-Commonwealth Swim Club
A32: 73 | C32: Fairfax Station | D32: at | E32: Rolling Hills | F32: 0.75 | G32: MAP | I32: RH-Rolling Hills | J32: FS-Fairfax Station
A33: 8 | C33: Division VIII
A34: 81 | C34: BYE | D34: at | E34: Rutherford | F34: 0.75 | G34: MAP | I34: RFD-Rutherford | J34: BYE-Bye
A35: 82 | C35: Annandale | D35: at | E35: Springboard | F35: 0.75 | G35: MAP | I35: SB-Springboard Recreration Club | J35: A-Annandale
A36: 83 | C36: Springfield | D36: at | E36: Parliament | F36: 0.75 | G36: MAP | I36: PAR-Parliament | J36: S-Springfield

Sheet Lookup-ClubData
A1: =IFERROR(__xludf.DUMMYFUNCTION("importrange(""https://docs.google.com/a/marlinmultimedia.com/spreadsheets/d/1oSDZlRpKI1Rl18gp2l040IpPIw0MfV9v42_cGvRLN3k/edit"",""Lookup-ClubData!a1:f150"")"),"Division") -> Division | B1: TeamCode | C1: TeamCodeDropdown | D1: TeamName | E1: Nickname | F1: TeamCodeLookup | G1: =IFERROR(__xludf.DUMMYFUNCTION("importrange(""https://docs.google.com/a/marlinmultimedia.com/spreadsheets/d/1oSDZlRpKI1Rl18gp2l040IpPIw0MfV9v42_cGvRLN3k/edit"",""Lookup-ClubData!g1:g50"")"),"ContactName") -> ContactName | H1: =IFERROR(__xludf.DUMMYFUNCTION("importrange(""https://docs.google.com/a/marlinmultimedia.com/spreadsheets/d/1oSDZlRpKI1Rl18gp2l040IpPIw0MfV9v42_cGvRLN3k/edit"",""Lookup-ClubData!k1:k50"")"),"Contact2Name") -> Contact2Name | I1: =IFERROR(__xludf.DUMMYFUNCTION("importrange(""https://docs.google.com/a/marlinmultimedia.com/spreadsheets/d/1oSDZlRpKI1Rl18gp2l040IpPIw0MfV9v42_cGvRLN3k/edit"",""Lookup-ClubData!o1:o50"")"),"Contact3Name") -> Contact3Name
A2: 8 | B2: A | C2: A-Annandale | D2: Annandale | E2: Annandale | F2: A-Annandale | G2: Rae Tran
A3: 3 | B3: AF | C3: AF-Arlington Forest | D3: Arlington Forest | E3: Arlington Forest | F3: AF-Arlington Forest | G3: Laura Smialowicz | H3: Tom Smialowicz
A4: 3 | B4: CB | C4: CB-Chesterbrook | D4: Chesterbrook | E4: Chesterbrook | F4: CB-Chesterbrook | G4: Marie Keough | H4: Katy Beach | I4: Dave Troskey
A5: 4 | B5: CCC | C5: CCC-Camelot Community Club | D5: Camelot Community Club | E5: Camelot | F5: CCC-Camelot Community Club | G5: Cathy Hurkamp | H5: Brenda Greene
A6: 4 | B6: CH | C6: CH-Cardinal Hill | D6: Cardinal Hill | E6: Cardinal Hill | F6: CH-Cardinal Hill | G6: Michelle Butler | H6: Tricia Rizzo | I6: Ilana Feuchter
A7: 2 | B7: CP | C7: CP-Crosspointe | D7: Crosspointe | E7: Crosspointe | F7: CP-Crosspointe | G7: Ann Powell | H7: George Harbort
A8: 7 | B8: CSC | C8: CSC-Commonwealth Swim Club | D8: Commonwealth Swim Club | E8: Commonwealth | F8: CSC-Commonwealth Swim Club | G8: Kendra Altmann-Gross | H8: Linda Jackson | I8: Jessica Flinn
A9: 4 | B9: DH | C9: DH-Dominion Hills | D9: Dominion Hills | E9: Dominion Hills | F9: DH-Dominion Hills | G9: Angela DiBenigno | H9: Thomas Joyce
A10: 1 | B10: DL | C10: DL-Dunn Loring | D10: Dunn Loring | E10: Dunn Loring | F10: DL-Dunn Loring | G10: Sonya Marsden | H10: Tracy Bloom
A11: 6 | B11: DR | C11: DR-Donaldson Run | D11: Donaldson Run | E11: Donaldson Run | F11: DR-Donaldson Run | G11: Marilyn Judson | H11: Kay Hart
A12: 4 | B12: F | C12: F-Fairfax | D12: Fairfax | E12: Fairfax | F12: F-Fairfax | G12: Cathy Ottomanelli | I12: Mary Stinnett
A13: 7 | B13: FS | C13: FS-Fairfax Station | D13: Fairfax Station | E13: Fairfax Station | F13: FS-Fairfax Station | G13: Paige Schuppin | H13: Leann Parente
A14: 5 | B14: GB | C14: GB-Greenbriar | D14: Greenbriar | E14: Greenbriar | F14: GB-Greenbriar | G14: Rich McFadden | H14: Tim Metzinger | I14: Jaane McFadden
A15: 4 | B15: GF | C15: GF-Great Falls | D15: Great Falls | E15: Great Falls | F15: GF-Great Falls | G15: Amy Vroom | H15: Pam Torok
A16: 3 | B16: HF | C16: HF-Hayfield Farm | D16: Hayfield Farm | E16: Hayfield Farm | F16: HF-Hayfield Farm | G16: Donna Fillman | I16: Mike Schaeffer
A17: 4 | B17: HP | C17: HP-Highland Park | D17: Highland Park | E17: Highland Park | F17: HP-Highland Park | G17: Rachel Townsend
A18: 6 | B18: HS | C18: HS-Highlands Swim | D18: Highlands Swim | E18: Highlands Swim | F18: HS-Highlands Swim | G18: Neil Wills
A19: 5 | B19: HSC | C19: HSC-Hamlet Swim | D19: Hamlet Swim | E19: Hamlet | F19: HSC-Hamlet Swim | G19: Bill Hauda | H19: Karen Hauda | I19: Linda McElligott
A20: 7 | B20: HV | C20: HV-Hunt Valley | D20: Hunt Valley | E20: Hunt Valley | F20: HV-Hunt Valley | G20: Julie Ericson | H20: Mary Gelbach | I20: Doug Gelbach
A21: 7 | B21: IC | C21: IC-Ilda Community | D21: Ilda Community | E21: Ilda Community | F21: IC-Ilda Community | G21: James Murray | H21: Maureen Bush
A22: 5 | B22: KG | C22: KG-Kent Gardens | D22: Kent Gardens | E22: Kent Gardens | F22: KG-Kent Gardens | G22: Malia Asfour | H22: Claudia Tielking | I22: Teresa Mattick
A23: 2 | B23: LG | C23: LG-Lee Graham | D23: Lee Graham | E23: Lee-Graham | F23: LG-Lee Graham | G23: Scott Friedman | H23: Peggy Di Scipio
A24: 5 | B24: LV | C24: LV-Lakeview | D24: Lakeview | E24: Lakeview | F24: LV-Lakeview | G24: Lori O’Dea | H24: Ann Hardman | I24: Betty Koo
A25: 3 | B25: M | C25: M-Mantua | D25: Mantua | E25: Mantua | F25: M-Mantua | G25: Ena Murphy | H25: Arlene Pripeton | I25: Kristi Pohland
A26: 1 | B26: MHC | C26: MHC-Mansion House | D26: Mansion House | E26: Mansion House | F26: MHC-Mansion House | H26: Karen Lant
A27: 6 | B27: NS | C27: NS-North Springfield | D27: North Springfield | E27: North Springfield | F27: NS-North Springfield | G27: Dana Cibulski | H27: Celeste Leyhe | I27: Bernadette Reilly
A28: 1 | B28: O | C28: O-Overlee | D28: Overlee | E28: Overlee | F28: O-Overlee | G28: Ravena Creedon | H28: Tammy Stoker
A29: 3 | B29: OAK | C29: OAK-Oakton | D29: Oakton | E29: Oakton | F29: OAK-Oakton | G29: Mark Klopfenstein | H29: Lisa Vaughan
A30: 6 | B30: OH | C30: OH-Orange Hunt | D30: Orange Hunt | E30: Orange Hunt | F30: OH-Orange Hunt | G30: Linda Ruff | H30: Sarah Wolfe
A31: 2 | B31: OKM | C31: OKM-Old Keene Mill | D31: Old Keene Mill | E31: Old Keene Mill | F31: OKM-Old Keene Mill | G31: Kathy Pape | H31: Pat Shipman
A32: 8 | B32: PAR | C32: PAR-Parliament | D32: Parliament | E32: Parliament | F32: PAR-Parliament | G32: Kate Anderson
A33: 2 | B33: PC | C33: PC-Pinecrest | D33: Pinecrest | E33: Pinecrest | F33: PC-Pinecrest | G33: Kathy Brown | H33: Jody Lawrence
A34: 7 | B34: R | C34: R-Ravensworth Farm | D34: Ravensworth Farm | E34: Ravensworth Farm | F34: R-Ravensworth Farm | G34: Heather Vogus
A35: 8 | B35: RFD | C35: RFD-Rutherford | D35: Rutherford | E35: Rutherford | F35: RFD-Rutherford | G35: Chris Wade | H35: Stacy Wade
A36: 7 | B36: RH | C36: RH-Rolling Hills | D36: Rolling Hills | E36: Rolling Hills | F36: RH-Rolling Hills | G36: Becky Schulz
A37: 8 | B37: S | C37: S-Springfield | D37: Springfield | E37: Springfield | F37: S-Springfield | G37: Denise Steene | H37: Heather Bogstad | I37: Raphaela O'Brien
A38: 8 | B38: SB | C38: SB-Springboard Recreration Club | D38: Springboard Recreration Club | E38: Springboard | F38: SB-Springboard Recreration Club | G38: Carol Davis | H38: Carylin Waterval
A39: 3 | B39: SHB | C39: SHB-Sleepy Hollow Bath | D39: Sleepy Hollow Bath | E39: Sleepy Hollow B & R | F39: SHB-Sleepy Hollow Bath | G39: Amy King | H39: Kendra Martin
A40: 6 | B40: SHR | C40: SHR-Sleepy Hollow Rec | D40: Sleepy Hollow Rec | E40: Sleepy Hollow Rec | F40: SHR-Sleepy Hollow Rec | G40: Sheri Crotty | H40: Mike Crotty
...

Sheet Lookup-DiverRoster
A1: =IFERROR(__xludf.DUMMYFUNCTION("importrange(""https://docs.google.com/a/marlinmultimedia.com/spreadsheets/d/1oSDZlRpKI1Rl18gp2l040IpPIw0MfV9v42_cGvRLN3k/edit"",""Lookup-Diver-Secure!$i$1:$af$2000"")"),"!DiverTeam: 1860 Entries") -> !DiverTeam: 1860 Entries | B1: !DiverName: 1860 Entries | C1: !DiverAgeOn61: 1860 Entries | D1: DiverGender: 1860 Entries G:1018 B:842 | E1: !Calculated DiverEvent F:984 J:407 I:257 S:212 #N/A:0 | F1: Calculated DiveUpEvent | G1: Division Lookup | H1: Club Lookup | I1: Dual Meets Diver Completed | J1: Diver Dual-Meet 1-4 High Score | K1: 06/27/17 Dual Meet Results | M1: 07/05/17 Dual Meet Results | O1: 07/11/17 Dual Meet Results | Q1: 07/18/17 Dual Meet Results | S1: 07/25/17 Dual Meet Results | U1: 07/23/17 CJ Meet Results | V1: 07/25/17 Will Dive at CJ? Y/N: 411 | W1: 07/30/17 Will Dive at Divs? Y/N: 665 | X1: 08/06/17 Will Dive at All Stars? Y/N: 149
A2: !DO NOT DELETE
A3: A | B3: Ben Tran | C3: 8 | D3: B | E3: F | F3: J | G3: 8 | H3: A | I3: 4 | J3: 38.8 | M3: 38.8 | O3: 27.05 | Q3: 33.25 | S3: 27.05 | W3: Y
A4: A | B4: Brian Tran | C4: 10 | D4: B | E4: F | F4: J | G4: 8 | H4: A | I4: 4 | J4: 34.45 | M4: 33.8 | O4: 34.45 | Q4: 29.35 | S4: 35.2 | W4: Y
A5: A | B5: Cody Tran | C5: 8 | D5: B | E5: F | F5: J | G5: 8 | H5: A | I5: 4 | J5: 19.7 | M5: 14.55 | O5: 12 | Q5: 19.7 | S5: 19.8 | W5: Y
A6: A | B6: Bridget Bushman | C6: 10 | D6: G | E6: F | F6: J | G6: 8 | H6: A | I6: 3 | J6: 42.55 | M6: 42.55 | O6: 34.6 | S6: 38.55 | W6: Y
A7: A | B7: Celine Tran | C7: 7 | D7: G | E7: F | F7: J | G7: 8 | H7: A | I7: 3 | J7: 25.2 | O7: 25.2 | Q7: 10.5 | S7: 22.1 | W7: Y
A8: A | B8: Crystal Tran | C8: 10 | D8: G | E8: F | F8: J | G8: 8 | H8: A | I8: 4 | J8: 37.1 | M8: 34.75 | O8: 32.15 | Q8: 37.1 | S8: 36.75 | W8: Y
A9: A | B9: Jolie Nguyen | C9: 9 | D9: G | E9: F | F9: J | G9: 8 | H9: A | I9: 3 | J9: 41.1 | M9: 37.7 | O9: 41.1 | S9: 43.05 | W9: Y
A10: A | B10: Anna Bushman | C10: 13 | D10: G | E10: I | F10: S | G10: 8 | H10: A | I10: 3 | J10: 140.25 | M10: 117.25 | O10: 140.25 | S10: 115.65 | W10: Y | X10: Y
A11: A | B11: Lillian Mills | C11: 14 | D11: G | E11: I | F11: S | G11: 8 | H11: A | I11: 0 | J11: 0
A12: A | B12: Rachel Tran | C12: 14 | D12: G | E12: I | F12: S | G12: 8 | H12: A | I12: 4 | J12: 182.3 | M12: 154.4 | O12: 182.3 | Q12: 171.75 | S12: 139.35 | W12: Y | X12: Y
A13: A | B13: Darren Nguyen | C13: 11 | D13: B | E13: J | F13: I | G13: 8 | H13: A | I13: 3 | J13: 57.85 | M13: 57.85 | O13: 54.35 | S13: 39.65 | W13: Y
A14: A | B14: Matthew Tran | C14: 12 | D14: B | E14: J | F14: I | G14: 8 | H14: A | I14: 0 | J14: 0
A15: A | B15: Nathan Tran | C15: 11 | D15: B | E15: J | F15: I | G15: 8 | H15: A | I15: 4 | J15: 129.2 | M15: 92.75 | O15: 119.85 | Q15: 129.2 | S15: 126.25 | W15: Y | X15: Y
A16: A | B16: Charlie Jacoby | C16: 15 | D16: B | E16: S | F16: S | G16: 8 | H16: A | I16: 4 | J16: 104.4 | M16: 104.4 | O16: 89.2 | Q16: 95.55 | S16: 71.55 | W16: Y
A17: AF | B17: Alex Hans | C17: 9 | D17: B | E17: F | F17: J | G17: 3 | H17: AF | I17: 4 | J17: 78.25 | K17: 68.25 | M17: 72.9 | O17: 78.25 | S17: 82.3 | W17: Y | X17: Y
A18: AF | B18: Banks Buergler | C18: 6 | D18: B | E18: F | F18: J | G18: 3 | H18: AF | I18: 2 | J18: 38.3 | Q18: 38.3 | S18: 32.8
A19: AF | B19: Billy Hans | C19: 8 | D19: B | E19: F | F19: J | G19: 3 | H19: AF | I19: 5 | J19: 78.3 | K19: 71.15 | M19: 63.6 | O19: 61.15 | Q19: 78.3 | S19: 59.1 | W19: Y
A20: AF | B20: Connor Hogan | C20: 8 | D20: B | E20: F | F20: J | G20: 3 | H20: AF | I20: 1 | J20: 35.7 | O20: 35.7
A21: AF | B21: Greyson Schroeher | C21: 9 | D21: B | E21: F | F21: J | G21: 3 | H21: AF | I21: 0 | J21: 0
A22: AF | B22: Henry Smialowicz | C22: 10 | D22: B | E22: F | F22: J | G22: 3 | H22: AF | I22: 2 | J22: 46.65 | M22: 46.65 | S22: 55.1
A23: AF | B23: Ian Dowler | C23: 9 | D23: B | E23: F | F23: J | G23: 3 | H23: AF | I23: 0 | J23: 0
A24: AF | B24: Jack Kandies | C24: 7 | D24: B | E24: F | F24: J | G24: 3 | H24: AF | I24: 1 | J24: 0 | S24: 27.35
A25: AF | B25: Liam Keish | C25: 10 | D25: B | E25: F | F25: J | G25: 3 | H25: AF | I25: 4 | J25: 42.75 | M25: 42.75 | O25: 38.25 | Q25: 30.3 | S25: 50.15
A26: AF | B26: Mark Bjorn | C26: 8 | D26: B | E26: F | F26: J | G26: 3 | H26: AF | I26: 5 | J26: 54.45 | K26: 47.1 | M26: 50.9 | O26: 52.1 | Q26: 54.45 | S26: 53 | W26: Y
A27: AF | B27: William Mount | C27: 10 | D27: B | E27: F | F27: J | G27: 3 | H27: AF | I27: 0 | J27: 0
A28: AF | B28: Ada Jordan | C28: 9 | D28: G | E28: F | F28: J | G28: 3 | H28: AF | I28: 4 | J28: 51.55 | K28: 49.05 | M28: 51.55 | O28: 47.1 | S28: 57.6
A29: AF | B29: Addison Hans | C29: 9 | D29: G | E29: F | F29: J | G29: 3 | H29: AF | I29: 5 | J29: 60.95 | K29: 55.5 | M29: 55.25 | O29: 52.4 | Q29: 60.95 | S29: 60.55 | W29: Y
A30: AF | B30: Annie Madden | C30: 10 | D30: G | E30: F | F30: J | G30: 3 | H30: AF | I30: 3 | J30: 57.2 | M30: 57.2 | O30: 53.8 | S30: 59.65 | W30: Y
A31: AF | B31: Caroline Mason | C31: 10 | D31: G | E31: F | F31: J | G31: 3 | H31: AF | I31: 5 | J31: 62.05 | K31: 52.15 | M31: 52.8 | O31: 55.7 | Q31: 62.05 | S31: 57.75 | W31: Y | X31: Y
A32: AF | B32: Claire Bella Polsinelli | C32: 6 | D32: G | E32: F | F32: J | G32: 3 | H32: AF | I32: 0 | J32: 0
A33: AF | B33: Julia Green | C33: 8 | D33: G | E33: F | F33: J | G33: 3 | H33: AF | I33: 3 | J33: 50.5 | M33: 38.8 | O33: 50.5 | S33: 55.45
A34: AF | B34: Maya Audi | C34: 10 | D34: G | E34: F | F34: J | G34: 3 | H34: AF | I34: 2 | J34: 58.2 | K34: 58.2 | M34: 56.75
A35: AF | B35: Mina Dowler | C35: 9 | D35: G | E35: F | F35: J | G35: 3 | H35: AF | I35: 2 | J35: 30.7 | K35: 30.7 | S35: 48.75
A36: AF | B36: Sarah Ayscue | C36: 10 | D36: G | E36: F | F36: J | G36: 3 | H36: AF | I36: 2 | J36: 56.95 | Q36: 56.95 | S36: 50.75
A37: AF | B37: Teegan Boone | C37: 10 | D37: G | E37: F | F37: J | G37: 3 | H37: AF | I37: 1 | J37: 38.35 | Q37: 38.35
A38: AF | B38: Anthony Tridico | C38: 14 | D38: B | E38: I | F38: S | G38: 3 | H38: AF | I38: 2 | J38: 83.3 | O38: 58.1 | Q38: 83.3
A39: AF | B39: Tyler Neumann | C39: 13 | D39: B | E39: I | F39: S | G39: 3 | H39: AF | I39: 2 | J39: 64.7 | Q39: 64.7 | S39: 59.3
A40: AF | B40: Atti Rattelman | C40: 14 | D40: G | E40: I | F40: S | G40: 3 | H40: AF | I40: 5 | J40: 129.85 | K40: 124.85 | M40: 129.85 | O40: 125 | Q40: 124 | S40: 145.5 | W40: Y
...

Sheet CJScoresSummary
A1: =IFERROR(__xludf.DUMMYFUNCTION("sort(importrange(""https://docs.google.com/a/marlinmultimedia.com/spreadsheets/d/1oSDZlRpKI1Rl18gp2l040IpPIw0MfV9v42_cGvRLN3k/edit"",""Lookup-Diver-Secure!$i$1:$o$2000""),1,true,5,true,4,true,2,true)"),"!DiverTeam: 1860 Entries") -> !DiverTeam: 1860 Entries | B1: !DiverName: 1860 Entries | C1: !DiverAgeOn61: 1860 Entries | D1: DiverGender: 1860 Entries G:1018 B:842 | E1: !Calculated DiverEvent F:984 J:407 I:257 S:212 #N/A:0 | F1: Calculated DiveUpEvent | G1: Division Lookup | H1: =TEXT(MeetResults!#REF!,"mm/dd/yy")&" Dive Results Raw" -> #REF! | I1: =TEXT(MeetResults!#REF!,"mm/dd/yy")&" CJ Meet Results" -> #REF!
A2: !DO NOT DELETE
A3: A | B3: Ben Tran | C3: 8 | D3: B | E3: F | F3: J | G3: 8 | H3: =IF($B3>"''",IF(ISNA(VLOOKUP($B3,MeetResults!$D:$F,3,0)),"",VLOOKUP($B3,MeetResults!$D:$F,3,0))&IF(ISNA(VLOOKUP($B3,MeetResults!$P:$R,3,0)),"",VLOOKUP($B3,MeetResults!$P:$R,3,0)),"") | I3: =IF($H3="","",IF($H3="DQ","DQ",VALUE($H3)))
A4: A | B4: Brian Tran | C4: 10 | D4: B | E4: F | F4: J | G4: 8 | H4: =IF($B4>"''",IF(ISNA(VLOOKUP($B4,MeetResults!$D:$F,3,0)),"",VLOOKUP($B4,MeetResults!$D:$F,3,0))&IF(ISNA(VLOOKUP($B4,MeetResults!$P:$R,3,0)),"",VLOOKUP($B4,MeetResults!$P:$R,3,0)),"") | I4: =IF($H4="","",IF($H4="DQ","DQ",VALUE($H4)))
A5: A | B5: Cody Tran | C5: 8 | D5: B | E5: F | F5: J | G5: 8 | H5: =IF($B5>"''",IF(ISNA(VLOOKUP($B5,MeetResults!$D:$F,3,0)),"",VLOOKUP($B5,MeetResults!$D:$F,3,0))&IF(ISNA(VLOOKUP($B5,MeetResults!$P:$R,3,0)),"",VLOOKUP($B5,MeetResults!$P:$R,3,0)),"") | I5: =IF($H5="","",IF($H5="DQ","DQ",VALUE($H5)))
A6: A | B6: Bridget Bushman | C6: 10 | D6: G | E6: F | F6: J | G6: 8 | H6: =IF($B6>"''",IF(ISNA(VLOOKUP($B6,MeetResults!$D:$F,3,0)),"",VLOOKUP($B6,MeetResults!$D:$F,3,0))&IF(ISNA(VLOOKUP($B6,MeetResults!$P:$R,3,0)),"",VLOOKUP($B6,MeetResults!$P:$R,3,0)),"") | I6: =IF($H6="","",IF($H6="DQ","DQ",VALUE($H6)))
A7: A | B7: Celine Tran | C7: 7 | D7: G | E7: F | F7: J | G7: 8 | H7: =IF($B7>"''",IF(ISNA(VLOOKUP($B7,MeetResults!$D:$F,3,0)),"",VLOOKUP($B7,MeetResults!$D:$F,3,0))&IF(ISNA(VLOOKUP($B7,MeetResults!$P:$R,3,0)),"",VLOOKUP($B7,MeetResults!$P:$R,3,0)),"") | I7: =IF($H7="","",IF($H7="DQ","DQ",VALUE($H7)))
A8: A | B8: Crystal Tran | C8: 10 | D8: G | E8: F | F8: J | G8: 8 | H8: =IF($B8>"''",IF(ISNA(VLOOKUP($B8,MeetResults!$D:$F,3,0)),"",VLOOKUP($B8,MeetResults!$D:$F,3,0))&IF(ISNA(VLOOKUP($B8,MeetResults!$P:$R,3,0)),"",VLOOKUP($B8,MeetResults!$P:$R,3,0)),"") | I8: =IF($H8="","",IF($H8="DQ","DQ",VALUE($H8)))
A9: A | B9: Jolie Nguyen | C9: 9 | D9: G | E9: F | F9: J | G9: 8 | H9: =IF($B9>"''",IF(ISNA(VLOOKUP($B9,MeetResults!$D:$F,3,0)),"",VLOOKUP($B9,MeetResults!$D:$F,3,0))&IF(ISNA(VLOOKUP($B9,MeetResults!$P:$R,3,0)),"",VLOOKUP($B9,MeetResults!$P:$R,3,0)),"") | I9: =IF($H9="","",IF($H9="DQ","DQ",VALUE($H9)))
A10: A | B10: Anna Bushman | C10: 13 | D10: G | E10: I | F10: S | G10: 8 | H10: =IF($B10>"''",IF(ISNA(VLOOKUP($B10,MeetResults!$D:$F,3,0)),"",VLOOKUP($B10,MeetResults!$D:$F,3,0))&IF(ISNA(VLOOKUP($B10,MeetResults!$P:$R,3,0)),"",VLOOKUP($B10,MeetResults!$P:$R,3,0)),"") | I10: =IF($H10="","",IF($H10="DQ","DQ",VALUE($H10)))
A11: A | B11: Lillian Mills | C11: 14 | D11: G | E11: I | F11: S | G11: 8 | H11: =IF($B11>"''",IF(ISNA(VLOOKUP($B11,MeetResults!$D:$F,3,0)),"",VLOOKUP($B11,MeetResults!$D:$F,3,0))&IF(ISNA(VLOOKUP($B11,MeetResults!$P:$R,3,0)),"",VLOOKUP($B11,MeetResults!$P:$R,3,0)),"") | I11: =IF($H11="","",IF($H11="DQ","DQ",VALUE($H11)))
A12: A | B12: Rachel Tran | C12: 14 | D12: G | E12: I | F12: S | G12: 8 | H12: =IF($B12>"''",IF(ISNA(VLOOKUP($B12,MeetResults!$D:$F,3,0)),"",VLOOKUP($B12,MeetResults!$D:$F,3,0))&IF(ISNA(VLOOKUP($B12,MeetResults!$P:$R,3,0)),"",VLOOKUP($B12,MeetResults!$P:$R,3,0)),"") | I12: =IF($H12="","",IF($H12="DQ","DQ",VALUE($H12)))
A13: A | B13: Darren Nguyen | C13: 11 | D13: B | E13: J | F13: I | G13: 8 | H13: =IF($B13>"''",IF(ISNA(VLOOKUP($B13,MeetResults!$D:$F,3,0)),"",VLOOKUP($B13,MeetResults!$D:$F,3,0))&IF(ISNA(VLOOKUP($B13,MeetResults!$P:$R,3,0)),"",VLOOKUP($B13,MeetResults!$P:$R,3,0)),"") | I13: =IF($H13="","",IF($H13="DQ","DQ",VALUE($H13)))
A14: A | B14: Matthew Tran | C14: 12 | D14: B | E14: J | F14: I | G14: 8 | H14: =IF($B14>"''",IF(ISNA(VLOOKUP($B14,MeetResults!$D:$F,3,0)),"",VLOOKUP($B14,MeetResults!$D:$F,3,0))&IF(ISNA(VLOOKUP($B14,MeetResults!$P:$R,3,0)),"",VLOOKUP($B14,MeetResults!$P:$R,3,0)),"") | I14: =IF($H14="","",IF($H14="DQ","DQ",VALUE($H14)))
... A1862: WG | B1862: Shelby Clardy | C1862: 18 | D1862: G | E1862: S | F1862: S | G1862: 1 | H1862: =IF($B1862>"''",IF(ISNA(VLOOKUP($B1862,MeetResults!$D:$F,3,0)),"",VLOOKUP($B1862,MeetResults!$D:$F,3,0))&IF(ISNA(VLOOKUP($B1862,MeetResults!$P:$R,3,0)),"",VLOOKUP($B1862,MeetResults!$P:$R,3,0)),"") | I1862: =IF($H1862="","",IF($H1862="DQ","DQ",VALUE($H1862)))
H1863: =IF($B1863>"''",IF(ISNA(VLOOKUP($B1863,MeetResults!$D:$F,3,0)),"",VLOOKUP($B1863,MeetResults!$D:$F,3,0))&IF(ISNA(VLOOKUP($B1863,MeetResults!$P:$R,3,0)),"",VLOOKUP($B1863,MeetResults!$P:$R,3,0)),"") | I1863: =IF($H1863="","",IF($H1863="DQ","DQ",VALUE($H1863)))
H1864: =IF($B1864>"''",IF(ISNA(VLOOKUP($B1864,MeetResults!$D:$F,3,0)),"",VLOOKUP($B1864,MeetResults!$D:$F,3,0))&IF(ISNA(VLOOKUP($B1864,MeetResults!$P:$R,3,0)),"",VLOOKUP($B1864,MeetResults!$P:$R,3,0)),"") | I1864: =IF($H1864="","",IF($H1864="DQ","DQ",VALUE($H1864)))
H1865: =IF($B1865>"''",IF(ISNA(VLOOKUP($B1865,MeetResults!$D:$F,3,0)),"",VLOOKUP($B1865,MeetResults!$D:$F,3,0))&IF(ISNA(VLOOKUP($B1865,MeetResults!$P:$R,3,0)),"",VLOOKUP($B1865,MeetResults!$P:$R,3,0)),"") | I1865: =IF($H1865="","",IF($H1865="DQ","DQ",VALUE($H1865)))
H1866: =IF($B1866>"''",IF(ISNA(VLOOKUP($B1866,MeetResults!$D:$F,3,0)),"",VLOOKUP($B1866,MeetResults!$D:$F,3,0))&IF(ISNA(VLOOKUP($B1866,MeetResults!$P:$R,3,0)),"",VLOOKUP($B1866,MeetResults!$P:$R,3,0)),"") | I1866: =IF($H1866="","",IF($H1866="DQ","DQ",VALUE($H1866)))
H1867: =IF($B1867>"''",IF(ISNA(VLOOKUP($B1867,MeetResults!$D:$F,3,0)),"",VLOOKUP($B1867,MeetResults!$D:$F,3,0))&IF(ISNA(VLOOKUP($B1867,MeetResults!$P:$R,3,0)),"",VLOOKUP($B1867,MeetResults!$P:$R,3,0)),"") | I1867: =IF($H1867="","",IF($H1867="DQ","DQ",VALUE($H1867)))
H1868: =IF($B1868>"''",IF(ISNA(VLOOKUP($B1868,MeetResults!$D:$F,3,0)),"",VLOOKUP($B1868,MeetResults!$D:$F,3,0))&IF(ISNA(VLOOKUP($B1868,MeetResults!$P:$R,3,0)),"",VLOOKUP($B1868,MeetResults!$P:$R,3,0)),"") | I1868: =IF($H1868="","",IF($H1868="DQ","DQ",VALUE($H1868)))
H1869: =IF($B1869>"''",IF(ISNA(VLOOKUP($B1869,MeetResults!$D:$F,3,0)),"",VLOOKUP($B1869,MeetResults!$D:$F,3,0))&IF(ISNA(VLOOKUP($B1869,MeetResults!$P:$R,3,0)),"",VLOOKUP($B1869,MeetResults!$P:$R,3,0)),"") | I1869: =IF($H1869="","",IF($H1869="DQ","DQ",VALUE($H1869)))
H1870: =IF($B1870>"''",IF(ISNA(VLOOKUP($B1870,MeetResults!$D:$F,3,0)),"",VLOOKUP($B1870,MeetResults!$D:$F,3,0))&IF(ISNA(VLOOKUP($B1870,MeetResults!$P:$R,3,0)),"",VLOOKUP($B1870,MeetResults!$P:$R,3,0)),"") | I1870: =IF($H1870="","",IF($H1870="DQ","DQ",VALUE($H1870)))
H1871: =IF($B1871>"''",IF(ISNA(VLOOKUP($B1871,MeetResults!$D:$F,3,0)),"",VLOOKUP($B1871,MeetResults!$D:$F,3,0))&IF(ISNA(VLOOKUP($B1871,MeetResults!$P:$R,3,0)),"",VLOOKUP($B1871,MeetResults!$P:$R,3,0)),"") | I1871: =IF($H1871="","",IF($H1871="DQ","DQ",VALUE($H1871)))
H1872: =IF($B1872>"''",IF(ISNA(VLOOKUP($B1872,MeetResults!$D:$F,3,0)),"",VLOOKUP($B1872,MeetResults!$D:$F,3,0))&IF(ISNA(VLOOKUP($B1872,MeetResults!$P:$R,3,0)),"",VLOOKUP($B1872,MeetResults!$P:$R,3,0)),"") | I1872: =IF($H1872="","",IF($H1872="DQ","DQ",VALUE($H1872)))
H1873: =IF($B1873>"''",IF(ISNA(VLOOKUP($B1873,MeetResults!$D:$F,3,0)),"",VLOOKUP($B1873,MeetResults!$D:$F,3,0))&IF(ISNA(VLOOKUP($B1873,MeetResults!$P:$R,3,0)),"",VLOOKUP($B1873,MeetResults!$P:$R,3,0)),"") | I1873: =IF($H1873="","",IF($H1873="DQ","DQ",VALUE($H1873)))
H1874: =IF($B1874>"''",IF(ISNA(VLOOKUP($B1874,MeetResults!$D:$F,3,0)),"",VLOOKUP($B1874,MeetResults!$D:$F,3,0))&IF(ISNA(VLOOKUP($B1874,MeetResults!$P:$R,3,0)),"",VLOOKUP($B1874,MeetResults!$P:$R,3,0)),"") | I1874: =IF($H1874="","",IF($H1874="DQ","DQ",VALUE($H1874)))
... H1900: =IF($B1900>"''",IF(ISNA(VLOOKUP($B1900,MeetResults!$D:$F,3,0)),"",VLOOKUP($B1900,MeetResults!$D:$F,3,0))&IF(ISNA(VLOOKUP($B1900,MeetResults!$P:$R,3,0)),"",VLOOKUP($B1900,MeetResults!$P:$R,3,0)),"") | I1900: =IF($H1900="","",IF($H1900="DQ","DQ",VALUE($H1900)))
