Workbook

Sheet AdminNotes
A1: Step # | B1: Step Name | C1: File/Folder Type | D1: File/Tab Name | E1: Step Instructions
A2: 1 | B2: Create Dive Folder | C2: Dive Folder | D2: FLD: NVSL_DiveMeetResults-YYYY-MM-DD | E2: Make a new folder for that week's dive and name it using this format: "NVSL_DiveMeetResults-2017-07-11"
A3: =A2+1 -> 2 | B3: Create DiveTOC Sheet | C3: DiveTOC Sheet | D3: FLE: NVSL_ADiveMeetResults-YYYY-MM-DD-TOC | E3: Make a copy of the DiveTOC document, using the MOST RECENT DiveToc sheet, and move it into that week's dive folder, and name it using this format: "NVSL_ADiveResults_2017-07-11-TOC"
A4: =A3+1 -> 3 | B4: Create D1 Divisional Sheet | C4: D1 Divisional Sheet | D4: FLE: NVSL_DiveMeetResults-YYYY-MM-DD-D1 | E4: Make a copy of the DiveMeetMaster document, using the master document titled "NVSL-Dive-MasterTemplate-Reg", and move it into that week's dive folder, and name it using this format: "NVSL_DiveResults_2017-07-11-D1"
A5: =A4+1 -> 4 | B5: Prepare D1 Divisional Sheet | C5: D1 Divisional Sheet | D5: TAB: Lookup-Schedule | E5: Unhide tab "Lookup-Schedule" (View>HiddenSheets>Lookup-Schedule), grant access to the link in cell A1 (red cell) to pull in the schedule data from master database, and then select the correct week from the pulldown in cell R1. Hide this tab when done.
A6: =A5+1 -> 5 | D6: TAB: Lookup-DiverRoster | E6: On the tab "Lookup-DiverRoster", grant access to the link in cell A1 (red cell) to pull in all diver data from master database. This may have happened automatically, but confirm.
A7: =A6+1 -> 6 | D7: TAB: MeetParticipants | E7: On the tab "MeetParticipants", select Division Nbr 1 in cell J1, then confirm the date and meets populated correctly. Delete all sample data from all the home and visitor meets and the comments. Ensure all report statuses are set to "01-Awaiting Scores". Update any notes in the graphic to the right of Form #1. Ensure links 1, 2 and 3 are working at the top of the document to correctly jump you to each form.
A8: =A7+1 -> 7 | D8: TAB: MeetParticipants | E8: On the tab "MeetParticipants", hide all admin columns from the yellow line to the right, including the yellow line, columns L to DJ.
A9: =A8+1 -> 8 | D9: TAB: MeetResults | E9: On the tab "MeetResults", ensure the date and teams are correct for the indicated division, and confirm links 1, 2 and 3 are working at the top of the document to correctly jump you to each form.
A10: =A9+1 -> 9 | D10: TAB: MeetResults | E10: On the tab "MeetResults", hide all admin columns from the yellow line to the right, including the yellow line, columns V to BF.
A11: =A10+1 -> 10 | B11: Prepare D2-D8 Divisional Sheets | C11: D2-D8 Divisional Sheets | D11: FLE: NVSL_DiveMeetResults-YYYY-MM-DD-D2 | E11: Make a copy of the D1 Divisional Sheet created previously and rename to change to D2. Make copies of the D1 Divisional Sheet for divisions D3-D8 and rename to make them all similar except for the division number at the end
A12: =A11+1 -> 11 | E12: Ensure that the meet folder contains the TOC document and 8 Divisional Sheets
A13: =A12+1 -> 12 | B13: Prepare DiveTOC Sheet | C13: DiveTOC Sheet | D13: TAB: Lookup-TOC | E13: Unhide tab "Lookup-TOC" (View>HiddenSheets>Lookup-TOC), update the document ID's in Column C to the 8 new Divisional Sheets created previously,. Now grant access to all 8 documents in Column F and confirm the snippert shown includes the correct date and division. Hide this tab when done.
A14: =A13+1 -> 13 | D14: TAB: TOC | E14: On the tab titled "TOC", update the Date in Section 1 and the instructions in Section 2, and confirm the links at the top open up the 8 new Divisional Sheets
A15: =A14+1 -> 14 | D15: TAB: D1-MeetResults | E15: On the tab titled "D1-MeetResults", ensure the date and teams are correct for the indicated Division 1. Repeat confirmation for tabs D2-D8.
A16: =A15+1 -> 15 | D16: TAB: MeetResultsScoreboard | E16: On the tab titled "MeetResultsScoreboard", ensure the date, teams, status are correctly summarized and that the comments are blank. If anything is showing incorrect,ly, edit the appropriate Divisional Sheet created previously and then confirm again in the Scoreboard.
A17: =A16+1 -> 16 | B17: Authorize Access | C17: DiveTOC Sheet | E17: Authorize the two main NVSL admins, Arlene and Kate, to have edit access to the DiveTOC sheet.
A18: =A17+1 -> 17 | E18: Change the link settings to "Anyone with the link can view".
A19: =A18+1 -> 18 | E19: Send the link to the DiveTOC document to the NVSL admin for posting on the NVSL website and distribuition to the team reps and secretaries
A20: =A19+1 -> 19 | B20: Authorize Access | C20: D1-D8 Divisional Sheets | E20: Authorize the two main NVSL admins, Arlene and Kate, to have edit access to all 8 Divisional Sheets created previously.
A21: =A20+1 -> 20 | E21: Authorize the two team reps, one team secretary, and divisional coordinator to have edit access to their specific Divisional Sheets created previously. E.g., Div1 reps, secretary and Div Coordinator should only have access to Div1 Divisional Sheet. Repeat for D2-D8
A22: =A21+1 -> 21 | B22: Revoke Access | C22: D1-D8 Divisional Sheets | E22: After the cut-off time on the Wednesday after the meet, 12pm, change all reps, secretaries and Div coordinators to view-only, leaving just the two main NVSL admin with edit-access. If any meets were rain-delayed, leave those team's reps, secretaries and Div Coordinators as edit-access until those meets have been completed.
A23: =A22+1 -> 22 | B23: Refresh DiveTOC copies | C23: DiveTOC Sheet | D23: TAB: Lookup-TOC | E23: On the tab titled "Lookup-TOC", refresh each of the ImportRange links in Column I, by simply placing the cursor in Column I2, press delete, and you shoudl see the data flash and refresh. Do the same for columns I3-I9
A24: =A23+1 -> 23 | B24: Update Diver Database with Diver Max Score Reference | C24: DiverDB-Secure Sheet | D24: TAB: Lookup-Diver-Secure | E24: On the tab titled "Lookup-Diver-Secure", add the importrange function for each DiveTOC document, in columns S-W, as this will import all the diver's scores from this meet to allow the maximum to be calculated for the Cracker Jack meet.
A25: =A24+1 -> 24
A26: =A25+1 -> 25
A27: =A26+1 -> 26
A28: =A27+1 -> 27
A29: =A28+1 -> 28
A30: =A29+1 -> 29
A31: =A30+1 -> 30

Sheet D1-MeetResults
D1: 44383 | F1: NVSL DIVING MEET RESULTS | Q1: Div | R1: 1
B2: Link | D2: Home Team | F2: Score | I2: Err | P2: Visiting Team | R2: Score
A3: 1 | B3: 1 | D3: VW-Vienna Woods | F3: 28 | I3: 0 | L3: vs | P3: DL-Dunn Loring | R3: 44 | U3: 0
A4: 2 | B4: 2 | D4: OKM-Old Keene Mill | F4: 46 | I4: 1 | L4: vs | P4: SR-Sideburn Run | R4: 25 | U4: 0
A5: 3 | B5: 3 | D5: O-Overlee | F5: 39 | I5: 0 | L5: vs | P5: THA-Truro Homes Assn | R5: 32 | U5: 0
D6: Results Form # | E6: 1 | P6: Date | Q6: 44383
D7: * These results are calculated automatically and are non-editable | P7: Report Status | Q7: 10-Finalized
C9: Home Team | E9: VW-Vienna Woods | H9: VW | O9: Visiting Team | Q9: DL-Dunn Loring | T9: DL
C10: Score | E10: 28 | O10: Score | Q10: 44
G12: H | H12: V | S12: H | T12: V
C13: FG | D13: Freshman Girls | G13: 1 | H13: 8 | O13: FB | P13: Freshman Boys | S13: 4 | T13: 5
C14: JG | D14: Junior Girls | G14: 0 | H14: 9 | O14: JB | P14: Junior Boys | S14: 3 | T14: 6
C15: IG | D15: Intermediate Girls | G15: 5 | H15: 4 | O15: IB | P15: Intermediate Boys | S15: 8 | T15: 1
C16: SG | D16: Senior Girls | G16: 1 | H16: 8 | O16: SB | P16: Senior Boys | S16: 6 | T16: 3
D17: TOTALS | G17: 7 | H17: 29 | P17: TOTALS | S17: 21 | T17: 15
A21: FG | C21: Place | D21: Freshman Girls | E21: Score | F21: Team | G21: H | H21: V | M21: FB | O21: Place | P21: Freshman Boys | Q21: Score | R21: Team | S21: H | T21: V
A22: FG | C22: 1 | D22: Erin Martonik | E22: 67.05 | F22: DL | H22: 5 | M22: FB | O22: 1 | P22: George Miller | Q22: 81.15 | R22: DL | T22: 5
A23: FG | C23: 2 | D23: Marie Eisele | E23: 56.5 | F23: DL | H23: 3 | M23: FB | O23: 2 | P23: Noah Kim | Q23: 57.2 | R23: VW | S23: 3
A24: FG | C24: 3 | D24: Reagan Nolan | E24: 48.9 | F24: VW | G24: 1 | M24: FB | O24: 3 | P24: Theodore Hathaway | Q24: 55.1 | R24: VW | S24: 1
A25: FG | C25: 4 | D25: Libby Wigglesworth | E25: 47.5 | F25: VW | M25: FB | O25: 4 | P25: Timothy Hazzard | Q25: 41.65 | R25: VW
A26: FG | C26: 5 | D26: Claire Keating | E26: 39.8 | F26: VW | M26: FB | O26: 5 | P26: Ryan Hermann | Q26: 38.7 | R26: VW
A27: FG | C27: 6 | D27: Alaina Ramella | E27: 33.55 | F27: DL | M27: FB | O27: 6 | P27: Jacob Yang | Q27: 34 | R27: DL
A28: FG | C28: 7 | D28: Elise Esquivel | E28: 31.95 | F28: DL | M28: FB | O28: 7 | P28: Jeremy Yang | Q28: 33.45 | R28: DL
A29: FG | C29: 8 | D29: Quinn Baskett | E29: 31.8 | F29: DL | M29: FB | O29: 8 | P29: Zouli Alexandratos | Q29: 33.05 | R29: DL
A30: FG | C30: 9 | D30: Isabella Falsone | E30: 30.65 | F30: DL
A31: FG | C31: 10 | D31: Ava Ramella | E31: 27.25 | F31: DL
C47: Freshman Girls TOTALS | G47: 1 | H47: 8 | O47: Freshman Boys TOTALS | S47: 4 | T47: 5
A50: JG | C50: Place | D50: Junior Girls | E50: Score | F50: Team | G50: H | H50: V | M50: JB | O50: Place | P50: Junior Boys | Q50: Score | R50: Team | S50: H | T50: V
A51: JG | C51: 1 | D51: Kiran Vasudevan | E51: 98.4 | F51: DL | H51: 5 | M51: JB | O51: 1 | P51: Peyton Reed | Q51: 132.7 | R51: DL | T51: 5
A52: JG | C52: 2 | D52: Sophie Ratner | E52: 89.3 | F52: DL | H52: 3 | M52: JB | O52: 2 | P52: Zachary Wigglesworth | Q52: 89.85 | R52: VW | S52: 3
A53: JG | C53: 3 | D53: Asha Stewart | E53: 84.95 | F53: DL | H53: 1 | M53: JB | O53: 3 | P53: Joshua Taliaferro | Q53: 88.3 | R53: DL | T53: 1
A54: JG | C54: 4 | D54: Jayde Kalinock | E54: 84.4 | F54: VW | M54: JB | O54: 4 | P54: Luke Atkins | Q54: 85.6 | R54: VW
A55: JG | C55: 5 | D55: Sophie Bourdelais | E55: 75.9 | F55: VW | M55: JB | O55: 5 | P55: Everett Weedman | Q55: 81.65 | R55: VW
A56: JG | C56: 6 | D56: Kaitlyn Herrmann | E56: 68.05 | F56: VW | M56: JB | O56: 6 | P56: Elliott Lam | Q56: 75.8 | R56: DL
M57: JB | O57: 7 | P57: Declan Hathaway | Q57: 71.75 | R57: VW
C66: Junior Girls TOTALS | G66: 0 | H66: 9 | O66: Junior Boys TOTALS | S66: 3 | T66: 6
A69: IG | C69: Place | D69: Intermediate Girls | E69: Score | F69: Team | G69: H | H69: V | M69: IB | O69: Place | P69: Intermediate Boys | Q69: Score | R69: Team | S69: H | T69: V
A70: IG | C70: 1 | D70: Marleigh daSilva | E70: 184.7 | F70: VW | G70: 5 | M70: IB | O70: 1 | P70: Ivor Brown | Q70: 176.15 | R70: VW | S70: 5
A71: IG | C71: 2 | D71: Ashley Scinto | E71: 100.6 | F71: DL | H71: 3 | M71: IB | O71: 2 | P71: Dylan Paci | Q71: 139.95 | R71: VW | S71: 3
A72: IG | C72: 3 | D72: Audrey Burns | E72: 100.4 | F72: DL | H72: 1 | M72: IB | O72: 3 | P72: Mike DeSando | Q72: 114.9 | R72: DL | T72: 1
...

Sheet D2-MeetResults
D1: 44383 | F1: NVSL DIVING MEET RESULTS | Q1: Div | R1: 2
B2: Link | D2: Home Team | F2: Score | P2: Visiting Team | R2: Score
A3: 1 | B3: 1 | D3: WG-Walden Glen | F3: 31 | I3: 0 | L3: vs | P3: KG-Kent Gardens | R3: 41 | U3: 0
A4: 2 | B4: 2 | D4: OAK-Oakton | F4: 58 | I4: 0 | L4: vs | P4: MHC-Mansion House | R4: 14 | U4: 0
A5: 3 | B5: 3 | D5: F-Fairfax | F5: 45.5 | I5: 0 | L5: vs | P5: GF-Great Falls | R5: 26.5 | U5: 0
D6: Results Form # | E6: 1 | P6: Date | Q6: 44383
D7: * These results are calculated automatically and are non-editable | P7: Report Status | Q7: 10-Finalized
C9: Home Team | E9: WG-Walden Glen | H9: WG | O9: Visiting Team | Q9: KG-Kent Gardens | T9: KG
C10: Score | E10: 31 | O10: Score | Q10: 41
G12: H | H12: V | S12: H | T12: V
C13: FG | D13: Freshman Girls | G13: 9 | H13: 0 | O13: FB | P13: Freshman Boys | S13: 3 | T13: 6
C14: JG | D14: Junior Girls | G14: 3 | H14: 6 | O14: JB | P14: Junior Boys | S14: 5 | T14: 4
C15: IG | D15: Intermediate Girls | G15: 3 | H15: 6 | O15: IB | P15: Intermediate Boys | S15: 3 | T15: 6
C16: SG | D16: Senior Girls | G16: 0 | H16: 9 | O16: SB | P16: Senior Boys | S16: 5 | T16: 4
D17: TOTALS | G17: 15 | H17: 21 | P17: TOTALS | S17: 16 | T17: 20
A21: FG | C21: Place | D21: Freshman Girls | E21: Score | F21: Team | G21: H | H21: V | O21: Place | P21: Freshman Boys | Q21: Score | R21: Team | S21: H | T21: V
A22: FG | C22: T1 | D22: Elin Geraghty | E22: 52.5 | F22: WG | G22: 4 | O22: 1 | P22: Gavan Nasr | Q22: 66.3 | R22: KG | T22: 5
A23: FG | C23: T1 | D23: Daphne Hwang | E23: 52.5 | F23: WG | G23: 4 | O23: 2 | P23: Jonah Lanthier | Q23: 65 | R23: WG | S23: 3
A24: FG | C24: 3 | D24: Molly Donnelly | E24: 48.75 | F24: WG | G24: 1 | O24: 3 | P24: Lucas Moreno | Q24: 50.9 | R24: KG | T24: 1
A25: FG | C25: 4 | D25: Maggie Donnelly | E25: 48.7 | F25: WG | O25: 4 | P25: Declan Nguyen | Q25: 48.9 | R25: KG
A26: FG | C26: 5 | D26: Caroline Van Order | E26: 46.65 | F26: KG | O26: 5 | P26: Owen Webb | Q26: 48.6 | R26: WG
A27: FG | C27: 6 | D27: Samantha Lathier | E27: 44.05 | F27: WG | O27: 6 | P27: Liam Seubert | Q27: 11.75 | R27: WG
A28: FG | C28: 7 | D28: Callyn Lalime | E28: 43.65 | F28: WG
A29: FG | C29: 8 | D29: Amelia Cafer | E29: 42.2 | F29: KG
A30: FG | C30: 9 | D30: Emma Webb | E30: 41.85 | F30: WG
A31: FG | C31: 10 | D31: Sloane Nguyen | E31: 40 | F31: KG
A32: FG | C32: 11 | D32: Kaitlyn Ma | E32: 38.3 | F32: WG
A33: FG | C33: 12 | D33: Norah Wittman | E33: 38.2 | F33: KG
C47: Freshman Girls TOTALS | G47: 9 | H47: 0 | O47: Freshman Boys TOTALS | S47: 3 | T47: 6
A50: JG | C50: Place | D50: Junior Girls | E50: Score | F50: Team | G50: H | H50: V | O50: Place | P50: Junior Boys | Q50: Score | R50: Team | S50: H | T50: V
A51: JG | C51: 1 | D51: Katie Gorsline | E51: 103.15 | F51: KG | H51: 5 | O51: 1 | P51: Asher Lanthier | Q51: 99.7 | R51: WG | S51: 5
A52: JG | C52: 2 | D52: Jessica Buechler | E52: 82.6 | F52: WG | G52: 3 | O52: 2 | P52: Reagan Diaz | Q52: 71.2 | R52: KG | T52: 3 | U52: ^
A53: JG | C53: 3 | D53: Isabella Hampton | E53: 73.95 | F53: KG | H53: 1 | O53: 3 | P53: Andy Wu | Q53: 67.6 | R53: KG | T53: 1
A54: JG | C54: 4 | D54: Mya Merkel | E54: 65.95 | F54: WG | O54: 4 | P54: Henry Phoel | Q54: 67.15 | R54: KG
A55: JG | C55: 5 | D55: Isabella Uribarri-Tibabuzo | E55: 61.35 | F55: WG | O55: 5 | P55: Ramsay Latham | Q55: 53.4 | R55: WG
A56: JG | C56: 6 | D56: Riley Diaz | E56: 60.1 | F56: KG | O56: 6 | P56: Landon Manwaring | Q56: 49.7 | R56: KG
A57: JG | C57: 7 | D57: Sophia Hwang | E57: 60 | F57: WG
C66: Junior Girls TOTALS | G66: 3 | H66: 6 | O66: Junior Boys TOTALS | S66: 5 | T66: 4
A69: IG | C69: Place | D69: Intermediate Girls | E69: Score | F69: Team | G69: H | H69: V | O69: Place | P69: Intermediate Boys | Q69: Score | R69: Team | S69: H | T69: V
A70: IG | C70: 1 | D70: Kate Li | E70: 144.45 | F70: KG | H70: 5 | O70: 1 | P70: Sean Memon | Q70: 147.45 | R70: KG | T70: 5
...

Sheet D3-MeetResults
D1: 44383 | F1: NVSL DIVING MEET RESULTS | Q1: Div | R1: 3
B2: Link | D2: Home Team | F2: Score | I2: Err | P2: Visiting Team | R2: Score | U2: Err
A3: 1 | B3: 1 | D3: AF-Arlington Forest | F3: 24 | I3: 0 | L3: vs | P3: PC-Pinecrest | R3: 48 | U3: 0
A4: 2 | B4: 2 | D4: LG-Lee Graham | F4: 36 | I4: 1 | L4: vs | P4: HV-Hunt Valley | R4: 35 | U4: 0
A5: 3 | B5: 3 | D5: SHR-Sleepy Hollow Rec | F5: 44 | I5: 0 | L5: vs | P5: DR-Donaldson Run | R5: 28 | U5: 1
D6: Results Form # | E6: 1 | P6: Date | Q6: 44383
D7: * These results are calculated automatically and are non-editable | P7: Report Status | Q7: 10-Finalized
C9: Home Team | E9: AF-Arlington Forest | H9: AF | O9: Visiting Team | Q9: PC-Pinecrest | T9: PC
C10: Score | E10: 24 | O10: Score | Q10: 48
G12: H | H12: V | S12: H | T12: V
C13: FG | D13: Freshman Girls | G13: 0 | H13: 9 | O13: FB | P13: Freshman Boys | S13: 8 | T13: 1
C14: JG | D14: Junior Girls | G14: 0 | H14: 9 | O14: JB | P14: Junior Boys | S14: 1 | T14: 8
C15: IG | D15: Intermediate Girls | G15: 6 | H15: 3 | O15: IB | P15: Intermediate Boys | S15: 4 | T15: 5
C16: SG | D16: Senior Girls | G16: 1 | H16: 8 | O16: SB | P16: Senior Boys | S16: 4 | T16: 5
D17: TOTALS | G17: 7 | H17: 29 | P17: TOTALS | S17: 17 | T17: 19
A21: FG | C21: Place | D21: Freshman Girls | E21: Score | F21: Team | G21: H | H21: V | O21: Place | P21: Freshman Boys | Q21: Score | R21: Team | S21: H | T21: V
A22: FG | C22: 1 | D22: Ella Dunlavy | E22: 68.75 | F22: PC | H22: 5 | O22: 1 | P22: Banks Buergler | Q22: 66.65 | R22: AF | S22: 5
A23: FG | C23: 2 | D23: Annie Dunlavy | E23: 63.95 | F23: PC | H23: 3 | O23: 2 | P23: Alex Stewart | Q23: 57.1 | R23: AF | S23: 3
A24: FG | C24: 3 | D24: Leandra Barger | E24: 62.25 | F24: PC | H24: 1 | O24: 3 | P24: Aaron Barger | Q24: 48.6 | R24: PC | T24: 1
A25: FG | C25: 4 | D25: Julia Kennedy | E25: 56.5 | F25: PC | O25: 4 | P25: Matthew Vogt | Q25: 31.45 | R25: AF
A26: FG | C26: 5 | D26: Libby Costello | E26: 54.45 | F26: PC | O26: 5 | P26: Timothy Barger | Q26: 29.95 | R26: PC
A27: FG | C27: 6 | D27: Ella Turner | E27: 54.25 | F27: AF
A28: FG | C28: 7 | D28: Maddie Yappel | E28: 48.9 | F28: PC
A29: FG | C29: 8 | D29: Abby Galanes | E29: 46.05 | F29: AF
A30: FG | C30: 9 | D30: Caris Allen | E30: 34.35 | F30: PC
A31: FG | C31: 10 | D31: Chloe Kennedy | E31: 33.8 | F31: PC
C47: Freshman Girls TOTALS | G47: 0 | H47: 9 | O47: Freshman Boys TOTALS | S47: 8 | T47: 1
A50: JG | C50: Place | D50: Junior Girls | E50: Score | F50: Team | G50: H | H50: V | O50: Place | P50: Junior Boys | Q50: Score | R50: Team | S50: H | T50: V
A51: JG | C51: 1 | D51: Gia Yappel | E51: 82.95 | F51: PC | H51: 5 | O51: 1 | P51: Connor Ryan | Q51: 79.4 | R51: PC | T51: 5
A52: JG | C52: 2 | D52: Natalie Rutland | E52: 81.05 | F52: PC | H52: 3 | O52: 2 | P52: Akash Kaji | Q52: 79.2 | R52: PC | T52: 3
A53: JG | C53: 3 | D53: Isla Eckhardt | E53: 79.95 | F53: PC | H53: 1 | O53: 3 | P53: Daniel Vogt | Q53: 75.35 | R53: AF | S53: 1
A54: JG | C54: 4 | D54: Lauren Ivey | E54: 69.2 | F54: PC
A55: JG | C55: 5 | D55: Caroline Ivey | E55: 53.2 | F55: PC
C66: Junior Girls TOTALS | G66: 0 | H66: 9 | O66: Junior Boys TOTALS | S66: 1 | T66: 8
A69: IG | C69: Place | D69: Intermediate Girls | E69: Score | F69: Team | G69: H | H69: V | O69: Place | P69: Intermediate Boys | Q69: Score | R69: Team | S69: H | T69: V
A70: IG | C70: 1 | D70: Ada Jordan | E70: 123.7 | F70: AF | G70: 5 | O70: 1 | P70: Jackson Ward | Q70: 124 | R70: PC | T70: 5
A71: IG | C71: 2 | D71: Graci Vlattas | E71: 103.9 | F71: PC | H71: 3 | O71: 2 | P71: Greyson Schroeher | Q71: 119.9 | R71: AF | S71: 3
A72: IG | C72: 3 | D72: Teagan Boone | E72: 86.15 | F72: AF | G72: 1 | O72: 3 | P72: Benjamin Tahu | Q72: 98.5 | R72: AF | S72: 1
C80: Intermediate Girls TOTALS | G80: 6 | H80: 3 | O80: Intermediate Boys TOTALS | S80: 4 | T80: 5
A83: SG | C83: Place | D83: Senior Girls | E83: Score | F83: Team | G83: H | H83: V | O83: Place | P83: Senior Boys | Q83: Score | R83: Team | S83: H | T83: V
...

Sheet D4-MeetResults
D1: 44383 | F1: NVSL DIVING MEET RESULTS | Q1: Div | R1: 4
B2: Link | D2: Home Team | F2: Score | P2: Visiting Team | R2: Score
A3: 1 | B3: 1 | D3: HS-Highlands Swim | F3: 32 | I3: 0 | L3: vs | P3: WC-Wakefield Chapel | R3: 36 | U3: 0
A4: 2 | B4: 2 | D4: T-Tuckahoe | F4: 33 | I4: 0 | L4: vs | P4: CB-Chesterbrook | R4: 35 | U4: 0
A5: 3 | B5: 3 | D5: DH-Dominion Hills | F5: 30 | I5: 0 | L5: vs | P5: HF-Hayfield Farm | R5: 42 | U5: 0
D6: Results Form # | E6: 1 | P6: Date | Q6: 44383
D7: * These results are calculated automatically and are non-editable | P7: Report Status | Q7: 10-Finalized
C9: Home Team | E9: HS-Highlands Swim | H9: HS | O9: Visiting Team | Q9: WC-Wakefield Chapel | T9: WC
C10: Score | E10: 32 | O10: Score | Q10: 36
G12: H | H12: V | S12: H | T12: V
C13: FG | D13: Freshman Girls | G13: 0 | H13: 9 | O13: FB | P13: Freshman Boys | S13: 4 | T13: 5
C14: JG | D14: Junior Girls | G14: 8 | H14: 1 | O14: JB | P14: Junior Boys | S14: 4 | T14: 5
C15: IG | D15: Intermediate Girls | G15: 6 | H15: 3 | O15: IB | P15: Intermediate Boys | S15: 0 | T15: 5
C16: SG | D16: Senior Girls | G16: 9 | H16: 0 | O16: SB | P16: Senior Boys | S16: 1 | T16: 8
D17: TOTALS | G17: 23 | H17: 13 | P17: TOTALS | S17: 9 | T17: 23
A21: FG | C21: Place | D21: Freshman Girls | E21: Score | F21: Team | G21: H | H21: V | O21: Place | P21: Freshman Boys | Q21: Score | R21: Team | S21: H | T21: V
A22: FG | C22: 1 | D22: Annabelle Ebaugh | E22: 68.9 | F22: WC | H22: 5 | O22: 1 | P22: Sullivan McNamara | Q22: 65.3 | R22: WC | T22: 5
A23: FG | C23: 2 | D23: Joelle Saunders | E23: 64.1 | F23: WC | H23: 3 | O23: 2 | P23: Franklin Fiske | Q23: 43.1 | R23: HS | S23: 3
A24: FG | C24: 3 | D24: Emily Fay | E24: 63.5 | F24: WC | H24: 1 | O24: 3 | P24: Azadi Castellano | Q24: 42.8 | R24: HS | S24: 1
A25: FG | C25: 4 | D25: Emilia Vayra | E25: 58.6 | F25: HS | O25: 4 | P25: Garrett Mansuy | Q25: 41.6 | R25: WC
A26: FG | C26: 5 | D26: Eva Negrelli | E26: 57.5 | F26: WC | O26: 5 | P26: Randolph Shults | Q26: 41.4 | R26: WC
A27: FG | C27: 6 | D27: Julia Paukovits | E27: 57.3 | F27: HS | O27: 6 | P27: Faustino Fredes | Q27: 36.1 | R27: HS
A28: FG | C28: 7 | D28: Lily Verne | E28: 49.7 | F28: WC
A29: FG | C29: 8 | D29: Eleanor Manos | E29: 47.6 | F29: WC
A30: FG | C30: 9 | D30: Aspen Rose Abruzzese | E30: 42.3 | F30: HS
A31: FG | C31: 10 | D31: Lydia Bremer | E31: 40.9 | F31: WC
A32: FG | C32: 11 | D32: Erin Grinnell | E32: 40.4 | F32: WC
A33: FG | C33: 12 | D33: Lily Kissinger | E33: 37.3 | F33: HS
A34: FG | C34: 13 | D34: Annelise Saunders | E34: 30.9 | F34: WC
C47: Freshman Girls TOTALS | G47: 0 | H47: 9 | O47: Freshman Boys TOTALS | S47: 4 | T47: 5
A50: JG | C50: Place | D50: Junior Girls | E50: Score | F50: Team | G50: H | H50: V | O50: Place | P50: Junior Boys | Q50: Score | R50: Team | S50: H | T50: V
A51: JG | C51: 1 | D51: Olivia Berik | E51: 111.4 | F51: HS | G51: 5 | I51: ^ | O51: 1 | P51: Seamus McNamara | Q51: 120.2 | R51: WC | T51: 5
A52: JG | C52: 2 | D52: Charlotte Berik | E52: 86.7 | F52: HS | G52: 3 | O52: 2 | P52: John Paul Kissinger | Q52: 76.8 | R52: HS | S52: 3 | U52: ^
A53: JG | C53: 3 | D53: Madison Ebaugh | E53: 82 | F53: WC | H53: 1 | O53: 3 | P53: John Berik | Q53: 73.7 | R53: HS | S53: 1 | U53: ^
A54: JG | C54: 4 | D54: Charlotte Fay | E54: 80.2 | F54: WC | O54: 4 | P54: Walter Shiu | Q54: 50 | R54: HS
A55: JG | C55: 5 | D55: Madeline Roche | E55: 72.2 | F55: HS
C66: Junior Girls TOTALS | G66: 8 | H66: 1 | O66: Junior Boys TOTALS | S66: 4 | T66: 5
A69: IG | C69: Place | D69: Intermediate Girls | E69: Score | F69: Team | G69: H | H69: V | O69: Place | P69: Intermediate Boys | Q69: Score | R69: Team | S69: H | T69: V
A70: IG | C70: 1 | D70: Norah Kissinger | E70: 128.9 | F70: HS | G70: 5 | O70: 1 | P70: Matthew Lazo-Kaser | Q70: 93.7 | R70: WC | T70: 5 | U70: ^
A71: IG | C71: 2 | D71: Alexa Mansuy | E71: 117.8 | F71: WC | H71: 3 | I71: ^
...

Sheet D5-MeetResults
D1: 44383 | F1: NVSL DIVING MEET RESULTS | Q1: Div | R1: 5
B2: Link | D2: Home Team | F2: Score | P2: Visiting Team | R2: Score
A3: 1 | B3: 1 | D3: LV-Lakeview | F3: 31 | I3: 0 | L3: vs | P3: CP-Crosspointe | R3: 36 | U3: 0
A4: 2 | B4: 2 | D4: SHB-Sleepy Hollow Bath | F4: 31 | I4: 0 | L4: vs | P4: RH-Rolling Hills | R4: 40 | U4: 0
A5: 3 | B5: 3 | D5: CCC-Camelot Community Club | F5: 19 | I5: 0 | L5: vs | P5: R-Ravensworth Farm | R5: 48 | U5: 0
D6: Results Form # | E6: 1 | P6: Date | Q6: 44383
D7: * These results are calculated automatically and are non-editable | P7: Report Status | Q7: 10-Finalized
C9: Home Team | E9: LV-Lakeview | H9: LV | O9: Visiting Team | Q9: CP-Crosspointe | T9: CP
C10: Score | E10: 31 | O10: Score | Q10: 36
G12: H | H12: V | S12: H | T12: V
C13: FG | D13: Freshman Girls | G13: 1 | H13: 8 | O13: FB | P13: Freshman Boys | S13: 5 | T13: 4
C14: JG | D14: Junior Girls | G14: 1 | H14: 8 | O14: JB | P14: Junior Boys | S14: 4 | T14: 5
C15: IG | D15: Intermediate Girls | G15: 6 | H15: 3 | O15: IB | P15: Intermediate Boys | S15: 3 | T15: 5
C16: SG | D16: Senior Girls | G16: 6 | H16: 3 | O16: SB | P16: Senior Boys | S16: 5 | T16: 0
D17: TOTALS | G17: 14 | H17: 22 | P17: TOTALS | S17: 17 | T17: 14
A21: FG | C21: Place | D21: Freshman Girls | E21: Score | F21: Team | G21: H | H21: V | O21: Place | P21: Freshman Boys | Q21: Score | R21: Team | S21: H | T21: V
A22: FG | C22: 1 | D22: Sloan Tann | E22: 90.1 | F22: CP | H22: 5 | O22: 1 | P22: Arik Stone | Q22: 77.6 | R22: LV | S22: 5
A23: FG | C23: 2 | D23: Haley Schwab | E23: 70.45 | F23: CP | H23: 3 | O23: 2 | P23: Caleb Cherryholmes-Wesley | Q23: 72.25 | R23: CP | T23: 3
A24: FG | C24: 3 | D24: Isabelle Koenig | E24: 67.55 | F24: LV | G24: 1 | O24: 3 | P24: Ethan Johns | Q24: 69.2 | R24: CP | T24: 1
A25: FG | C25: 4 | D25: Teagan Johns | E25: 65.25 | F25: CP | O25: 4 | P25: Zachary Holden | Q25: 60.25 | R25: LV
A26: FG | C26: 5 | D26: Eleena Manser | E26: 59.9 | F26: CP | O26: 5 | P26: Pax Whritenour | Q26: 50.55 | R26: LV
A27: FG | C27: 6 | D27: Casimira Betz | E27: 50.2 | F27: CP | O27: 6 | P27: Luke Sabo | Q27: 43.3 | R27: CP
A28: FG | C28: 7 | D28: Mimei Minato | E28: 48.55 | F28: LV | O28: 7 | P28: Logan Gernatt | Q28: 35.95 | R28: LV
A29: FG | C29: 8 | D29: Lacey Slone | E29: 44.95 | F29: LV
A30: FG | C30: 9 | D30: Hannah Carroll | E30: 40.9 | F30: LV
A31: FG | C31: 10 | D31: Addy Whritenour | E31: 38.5 | F31: LV
A32: FG | C32: 11 | D32: Claire Webster | E32: 37.3 | F32: LV
A33: FG | C33: 12 | D33: Karoline Slone | E33: 34.8 | F33: LV
A34: FG | C34: 13 | D34: Reese Andresen | E34: 32.2 | F34: LV
A35: FG | C35: 14 | D35: Deena Epstein | E35: 31.7 | F35: LV
A36: FG | C36: 15 | D36: Norah Flintoft | E36: 27.15 | F36: LV
C47: Freshman Girls TOTALS | G47: 1 | H47: 8 | O47: Freshman Boys TOTALS | S47: 5 | T47: 4
A50: JG | C50: Place | D50: Junior Girls | E50: Score | F50: Team | G50: H | H50: V | O50: Place | P50: Junior Boys | Q50: Score | R50: Team | S50: H | T50: V
A51: JG | C51: 1 | D51: Quinn Harris | E51: 116 | F51: CP | H51: 5 | O51: 1 | P51: Dylan Johns | Q51: 90.3 | R51: CP | T51: 5
A52: JG | C52: 2 | D52: Josie Anderson | E52: 100.8 | F52: CP | H52: 3 | O52: 2 | P52: Ethan Hubbard | Q52: 88.8 | R52: LV | S52: 3
A53: JG | C53: 3 | D53: Claire Andresen | E53: 97.3 | F53: LV | G53: 1 | I53: ^ | O53: 3 | P53: Gunner Larson | Q53: 87.05 | R53: LV | S53: 1 | U53: ^
A54: JG | C54: 4 | D54: Caroline Apergis | E54: 92.35 | F54: CP | O54: 4 | P54: Enrique Ugalde | Q54: 82.1 | R54: CP
A55: JG | C55: 5 | D55: Kelsey Davis | E55: 92.05 | F55: CP | O55: 5 | P55: Caleb Schwab | Q55: 81.45 | R55: CP
A56: JG | C56: 6 | D56: Carleigh Haskins | E56: 80.85 | F56: CP
C66: Junior Girls TOTALS | G66: 1 | H66: 8 | O66: Junior Boys TOTALS | S66: 4 | T66: 5
...

Sheet D6-MeetResults
D1: 44383 | F1: NVSL DIVING MEET RESULTS | Q1: Div | R1: 6
B2: Link | D2: Home Team | F2: Score | I2: Err | P2: Visiting Team | R2: Score
A3: 1 | B3: 1 | D3: HP-Highland Park | F3: 40 | I3: 0 | L3: vs | P3: OH-Orange Hunt | R3: 32 | U3: 0
A4: 2 | B4: 2 | D4: G-Greenbriar | F4: 45 | I4: 1 | L4: vs | P4: PAR-Parliament | R4: 27 | U4: 0
A5: 3 | B5: 3 | D5: FS-Fairfax Station | F5: 32 | I5: 0 | L5: vs | P5: CH-Cardinal Hill | R5: 40 | U5: 0
D6: Results Form # | E6: 1 | P6: Date | Q6: 44383
D7: * These results are calculated automatically and are non-editable | P7: Report Status | Q7: 10-Finalized
C9: Home Team | E9: HP-Highland Park | H9: HP | O9: Visiting Team | Q9: OH-Orange Hunt | T9: OH
C10: Score | E10: 40 | O10: Score | Q10: 32
G12: H | H12: V | S12: H | T12: V
C13: FG | D13: Freshman Girls | G13: 6 | H13: 3 | O13: FB | P13: Freshman Boys | S13: 6 | T13: 3
C14: JG | D14: Junior Girls | G14: 3 | H14: 6 | O14: JB | P14: Junior Boys | S14: 0 | T14: 9
C15: IG | D15: Intermediate Girls | G15: 6 | H15: 3 | O15: IB | P15: Intermediate Boys | S15: 6 | T15: 3
C16: SG | D16: Senior Girls | G16: 4 | H16: 5 | O16: SB | P16: Senior Boys | S16: 9 | T16: 0
D17: TOTALS | G17: 19 | H17: 17 | P17: TOTALS | S17: 21 | T17: 15
A21: FG | C21: Place | D21: Freshman Girls | E21: Score | F21: Team | G21: H | H21: V | O21: Place | P21: Freshman Boys | Q21: Score | R21: Team | S21: H | T21: V
A22: FG | C22: 1 | D22: Katie Lee Cutts | E22: 63.85 | F22: HP | G22: 5 | O22: 1 | P22: Benjamin Margolis | Q22: 74.9 | R22: HP | S22: 5
A23: FG | C23: 2 | D23: Gabby Heredia | E23: 57.45 | F23: OH | H23: 3 | O23: 2 | P23: Andrew Barber | Q23: 67.1 | R23: OH | T23: 3
A24: FG | C24: 3 | D24: Maddy Guy | E24: 49.75 | F24: HP | G24: 1 | O24: 3 | P24: Philip Stigliano | Q24: 59 | R24: HP | S24: 1
A25: FG | C25: 4 | D25: Caroline Todd | E25: 49.65 | F25: HP | O25: 4 | P25: Theodore Romanosky | Q25: 51.4 | R25: HP
A26: FG | C26: 5 | D26: Phoebe Guy | E26: 45.25 | F26: HP | O26: 5 | P26: Ben Berona | Q26: 49.8 | R26: OH
A27: FG | C27: 6 | D27: Molly Foster | E27: 43.05 | F27: HP | O27: 6 | P27: Teddy Anderson | Q27: 47.9 | R27: HP
A28: FG | C28: 7 | D28: Roxie Griffith | E28: 41.19 | F28: OH | O28: 7 | P28: Liam Painter | Q28: 47.25 | R28: HP
A29: FG | C29: 8 | D29: Emily LaSalle | E29: 39 | F29: HP | O29: 8 | P29: Will Dickinson | Q29: 46.6 | R29: OH
A30: FG | C30: 9 | D30: Kyra Drobnis | E30: 38.85 | F30: OH | O30: 9 | P30: Benjamin Allen | Q30: 43.2 | R30: HP
A31: FG | C31: 10 | D31: Leah Jandrain | E31: 37.2 | F31: HP | O31: 10 | P31: Joshua Berona | Q31: 37.3 | R31: OH
A32: FG | C32: 11 | D32: Kiera Carpenter | E32: 31.4 | F32: OH | O32: 11 | P32: Zack Stickel | Q32: 36.8 | R32: OH
A33: FG | C33: 12 | D33: Bridget Snyder | E33: 25.75 | F33: HP | O33: 12 | P33: Adam Zimmer | Q33: 31.25 | R33: OH
A34: FG | C34: 13 | D34: Peyton Anderson | E34: 22.2 | F34: HP | O34: 13 | P34: Ryan Fournier | Q34: 26.7 | R34: OH
A35: FG | C35: 14 | D35: Clara Taylor | E35: DQ | F35: HP | O35: 14 | P35: Max Gura | Q35: 19.95 | R35: HP
O36: 15 | P36: Devon Taylor | Q36: 12.5 | R36: HP
C47: Freshman Girls TOTALS | G47: 6 | H47: 3 | O47: Freshman Boys TOTALS | S47: 6 | T47: 3
A50: JG | C50: Place | D50: Junior Girls | E50: Score | F50: Team | G50: H | H50: V | O50: Place | P50: Junior Boys | Q50: Score | R50: Team | S50: H | T50: V
A51: JG | C51: 1 | D51: Rebecca Drobnis | E51: 93.4 | F51: OH | H51: 5 | O51: 1 | P51: Jayden Perry | Q51: 83 | R51: OH | T51: 5
A52: JG | C52: 2 | D52: Lily Coulby | E52: 84.35 | F52: HP | G52: 3 | O52: 2 | P52: Casper Bing | Q52: 71.6 | R52: OH | T52: 3
A53: JG | C53: 3 | D53: Bethany Telleria | E53: 83.15 | F53: OH | H53: 1 | O53: 3 | P53: Michael Neville | Q53: 63.65 | R53: OH | T53: 1
A54: JG | C54: 4 | D54: Piper Guy | E54: 70.05 | F54: HP | O54: 4 | P54: Luke Stickel | Q54: 57.85 | R54: OH
A55: JG | C55: 5 | D55: Brianna Land Riekse | E55: 67.75 | F55: OH | O55: 5 | P55: Caleb Urias | Q55: 54.25 | R55: OH
A56: JG | C56: 6 | D56: Lina Elbekri | E56: 62.55 | F56: HP | O56: 6 | P56: Henry Cutts | Q56: 49.9 | R56: HP | U56: ^
A57: JG | C57: 7 | D57: Lucy Barber | E57: 62.45 | F57: OH
...

Sheet D7-MeetResults
D1: 44383 | F1: NVSL DIVING MEET RESULTS | Q1: Div | R1: 7
B2: Link | D2: Home Team | F2: Score | P2: Visiting Team | R2: Score
A3: 1 | B3: 1 | D3: SRA-Stratford Rec Association | F3: 36 | I3: 0 | L3: vs | P3: M-Mantua | R3: 36 | U3: 0
A4: 2 | B4: 2 | D4: HSC-Hamlet Swim | F4: 42 | I4: 0 | L4: vs | P4: SB-Springboard Recreration Club | R4: 22 | U4: 0
A5: 3 | B5: 3 | D5: W-Woodley | F5: 45 | I5: 0 | L5: vs | P5: RFD-Rutherford | R5: 24 | U5: 0
D6: Results Form # | E6: 1 | P6: Date | Q6: 44383
D7: * These results are calculated automatically and are non-editable | P7: Report Status | Q7: 10-Finalized
C9: Home Team | E9: SRA-Stratford Rec Association | H9: SRA | O9: Visiting Team | Q9: M-Mantua | T9: M
C10: Score | E10: 36 | O10: Score | Q10: 36
G12: H | H12: V | S12: H | T12: V
C13: FG | D13: Freshman Girls | G13: 0 | H13: 9 | O13: FB | P13: Freshman Boys | S13: 4 | T13: 5
C14: JG | D14: Junior Girls | G14: 5 | H14: 4 | O14: JB | P14: Junior Boys | S14: 6 | T14: 3
C15: IG | D15: Intermediate Girls | G15: 3 | H15: 6 | O15: IB | P15: Intermediate Boys | S15: 5 | T15: 4
C16: SG | D16: Senior Girls | G16: 4 | H16: 5 | O16: SB | P16: Senior Boys | S16: 9 | T16: 0
D17: TOTALS | G17: 12 | H17: 24 | P17: TOTALS | S17: 24 | T17: 12
A21: FG | C21: Place | D21: Freshman Girls | E21: Score | F21: Team | G21: H | H21: V | O21: Place | P21: Freshman Boys | Q21: Score | R21: Team | S21: H | T21: V
A22: FG | C22: 1 | D22: Maggie Levi | E22: 56.4 | F22: M | H22: 5 | O22: 1 | P22: Grant Evonuk | Q22: 54.8 | R22: M | T22: 5
A23: FG | C23: 2 | D23: Kate Evonuk | E23: 47.1 | F23: M | H23: 3 | O23: 2 | P23: Liam Ganci | Q23: 42.35 | R23: SRA | S23: 3
A24: FG | C24: 3 | D24: Catherine Redington | E24: 46.45 | F24: M | H24: 1 | O24: 3 | P24: Collin Christ | Q24: 40.05 | R24: SRA | S24: 1
A25: FG | C25: 4 | D25: Paige Finley | E25: 42.45 | F25: SRA | O25: 4 | P25: William Lang | Q25: 39.4 | R25: SRA
A26: FG | C26: 5 | D26: Juliet Tetreault | E26: 34.75 | F26: M | O26: 5 | P26: Grayson Morrisette | Q26: 31.8 | R26: SRA
A27: FG | C27: 6 | D27: Kree Setliff | E27: 31.4 | F27: M | O27: 6 | P27: Matteo Fazio | Q27: 30.2 | R27: SRA
A28: FG | C28: 7 | D28: Leila White | E28: 30.8 | F28: M | O28: 7 | P28: Liam Redington | Q28: 28.1 | R28: M
A29: FG | C29: 8 | D29: Adele Pino | E29: 25.35 | F29: M | O29: 8 | P29: Max Molina Weir | Q29: 27.35 | R29: M
A30: FG | C30: 9 | D30: Emily Wills | E30: 22.85 | F30: M | O30: 9 | P30: Nicolas Hill | Q30: 25.65 | R30: M
A31: FG | C31: 10 | D31: Annabel Rider | E31: 22.7 | F31: M | O31: 10 | P31: Finn Price | Q31: 18.2 | R31: SRA
A32: FG | C32: 11 | D32: Claire Cashin | E32: 22.1 | F32: M
A33: FG | C33: 12 | D33: Cara Tansey | E33: 9.5 | F33: M
C47: Freshman Girls TOTALS | G47: 0 | H47: 9 | O47: Freshman Boys TOTALS | S47: 4 | T47: 5
A50: JG | C50: Place | D50: Junior Girls | E50: Score | F50: Team | G50: H | H50: V | O50: Place | P50: Junior Boys | Q50: Score | R50: Team | S50: H | T50: V
A51: JG | C51: 1 | D51: Debbie Burke | E51: 79.15 | F51: SRA | G51: 5 | O51: 1 | P51: Aelan Elder | Q51: 67 | R51: SRA | S51: 5
A52: JG | C52: 2 | D52: Lydia Tetreault | E52: 73.9 | F52: M | H52: 3 | O52: 2 | P52: Owen Molina Weir | Q52: 58.85 | R52: M | T52: 3 | U52: ^
A53: JG | C53: 3 | D53: Stina Nystrom | E53: 68.65 | F53: M | H53: 1 | O53: 3 | P53: Wesley Ferguson | Q53: 44.6 | R53: SRA | S53: 1
A54: JG | C54: 4 | D54: Maggie Burke | E54: 66.45 | F54: SRA
A55: JG | C55: 5 | D55: Emery Mize | E55: 64.6 | F55: M
A56: JG | C56: 6 | D56: Aysel El Bourini | E56: 46.3 | F56: SRA
C66: Junior Girls TOTALS | G66: 5 | H66: 4 | O66: Junior Boys TOTALS | S66: 6 | T66: 3
A69: IG | C69: Place | D69: Intermediate Girls | E69: Score | F69: Team | G69: H | H69: V | O69: Place | P69: Intermediate Boys | Q69: Score | R69: Team | S69: H | T69: V
A70: IG | C70: 1 | D70: Samantha Eldred | E70: 107.3 | F70: M | H70: 5 | O70: 1 | P70: Ryan Calligaro | Q70: 119.6 | R70: SRA | S70: 5
A71: IG | C71: 2 | D71: Lily Ross | E71: 100.15 | F71: SRA | G71: 3 | O71: 2 | P71: Henry Levi | Q71: 116.65 | R71: M | T71: 3
...

Sheet D8-MeetResults
D1: 44383 | F1: NVSL DIVING MEET RESULTS | Q1: Div | R1: 8
B2: Link | D2: Home Team | F2: Score | P2: Visiting Team | R2: Score
A3: 1 | B3: 1 | D3: IC-Ilda Community | F3: 23 | I3: 0 | L3: vs | P3: CSC-Commonwealth Swim Club | R3: 30 | U3: 0
A4: 2 | B4: 2 | D4: S-Springfield | F4: 45 | I4: 0 | L4: vs | P4: A-Annandale | R4: 15 | U4: 0
A5: 3 | B5: 3 | D5: PL-Parklawn | F5: 34 | I5: 0 | L5: vs | P5: NS-North Springfield | R5: 34 | U5: 0
D6: Results Form # | E6: 1 | P6: Date | Q6: 44383
D7: * These results are calculated automatically and are non-editable | P7: Report Status | Q7: 10-Finalized
C9: Home Team | E9: IC-Ilda Community | H9: IC | O9: Visiting Team | Q9: CSC-Commonwealth Swim Club | T9: CSC
C10: Score | E10: 23 | O10: Score | Q10: 30
G12: H | H12: V | S12: H | T12: V
C13: FG | D13: Freshman Girls | G13: 1 | H13: 8 | O13: FB | P13: Freshman Boys | S13: 0 | T13: 9
C14: JG | D14: Junior Girls | G14: 5 | H14: 3 | O14: JB | P14: Junior Boys | S14: 3 | T14: 5
C15: IG | D15: Intermediate Girls | G15: 5 | H15: 0 | O15: IB | P15: Intermediate Boys | S15: 5 | T15: 0
C16: SG | D16: Senior Girls | G16: 4 | H16: 5 | O16: SB | P16: Senior Boys | S16: 0 | T16: 0
D17: TOTALS | G17: 15 | H17: 16 | P17: TOTALS | S17: 8 | T17: 14
A21: FG | C21: Place | D21: Freshman Girls | E21: Score | F21: Team | G21: H | H21: V | O21: Place | P21: Freshman Boys | Q21: Score | R21: Team | S21: H | T21: V
A22: FG | C22: 1 | D22: Soraya Lora-Pena | E22: 76.25 | F22: CSC | H22: 5 | O22: 1 | P22: Lucas Nguyen | Q22: 66.7 | R22: CSC | T22: 5
A23: FG | C23: 2 | D23: Mackenzie Rose Healy | E23: 68.45 | F23: CSC | H23: 3 | O23: 2 | P23: Nick Jenkins | Q23: 64.1 | R23: CSC | T23: 3
A24: FG | C24: 3 | D24: Amaya Erb | E24: 67.65 | F24: IC | G24: 1 | O24: 3 | P24: Nathan Pierce | Q24: 59.7 | R24: CSC | T24: 1
A25: FG | C25: 4 | D25: Rosalie Thornton | E25: 46.2 | F25: IC | O25: 4 | P25: Harrison Ali | Q25: 59.45 | R25: CSC
A26: FG | C26: 5 | D26: Natalia Torres | E26: 44.8 | F26: CSC | O26: 5 | P26: Liam Swearingen | Q26: 49.55 | R26: CSC
A27: FG | C27: 6 | D27: Katya Kankadze | E27: 42.15 | F27: CSC | O27: 6 | P27: Alex Erchov | Q27: 47.35 | R27: CSC
O28: 7 | P28: Luke Kropf | Q28: 46 | R28: IC
O29: 8 | P29: Noah Pierce | Q29: 45.5 | R29: CSC
O30: 9 | P30: Lincoln Ali | Q30: 28.5 | R30: CSC
O31: 10 | P31: Emmett Kropf | Q31: 27.2 | R31: IC
C47: Freshman Girls TOTALS | G47: 1 | H47: 8 | O47: Freshman Boys TOTALS | S47: 0 | T47: 9
A50: JG | C50: Place | D50: Junior Girls | E50: Score | F50: Team | G50: H | H50: V | O50: Place | P50: Junior Boys | Q50: Score | R50: Team | S50: H | T50: V
A51: JG | C51: 1 | D51: Madeline Fay | E51: 104.95 | F51: IC | G51: 5 | O51: 1 | P51: Carter Jenkins | Q51: 95.35 | R51: CSC | T51: 5 | U51: ^
A52: JG | C52: 2 | D52: Karie Egan | E52: 96 | F52: CSC | H52: 3 | I52: ^ | O52: 2 | P52: Everett Thornton | Q52: 87.55 | R52: IC | S52: 3
C66: Junior Girls TOTALS | G66: 5 | H66: 3 | O66: Junior Boys TOTALS | S66: 3 | T66: 5
A69: IG | C69: Place | D69: Intermediate Girls | E69: Score | F69: Team | G69: H | H69: V | O69: Place | P69: Intermediate Boys | Q69: Score | R69: Team | S69: H | T69: V
A70: IG | C70: 1 | D70: Emily Bush | E70: 128.5 | F70: IC | G70: 5 | O70: 1 | P70: Grant Thornton | Q70: 101.5 | R70: IC | S70: 5
C80: Intermediate Girls TOTALS | G80: 5 | H80: 0 | O80: Intermediate Boys TOTALS | S80: 5 | T80: 0
A83: SG | C83: Place | D83: Senior Girls | E83: Score | F83: Team | G83: H | H83: V | O83: Place | P83: Senior Boys | Q83: Score | R83: Team | S83: H | T83: V
A84: SG | C84: 1 | D84: Madi Flinn | E84: 189.55 | F84: CSC | H84: 5
A85: SG | C85: 2 | D85: Maura Fay | E85: 166.25 | F85: IC | G85: 3
A86: SG | C86: 3 | D86: Nina Gillette | E86: 129.85 | F86: IC | G86: 1
C94: Senior Girls TOTALS | G94: 4 | H94: 5 | O94: Senior Boys TOTALS | S94: 0 | T94: 0
C96: Judges | O96: Referee | Q96: Connie Gillette
...

Sheet AdminDashboard
C1: Action Sched | D1: Action ID | E1: Action | F1: All | G1: Div1 | H1: Div2 | I1: Div3 | J1: Div4 | K1: Div5 | L1: Div6 | M1: Div7 | N1: Div8 | O1: Results | Q1: Processing Notes
C2: Weekly | D2: 1 | E2: DuplicateMeetSheets | F2: FALSE | Q2: Each Friday, create the Dual Meet Reporting Sheets for the coming week by doing the following: 1. Create this week's folder 2. Put a copy of Div1 and the ScoreBoard file into that folder 3. Update the Div1 file to include the correct week, clear out all the diver and official data 4. Run Action "DuplicateMeetSheets". This action will create Div2-8 and populate the Lookup-TOC tab with the eight Div links. 5. Open each of the Div1-8 Meet Sheets, authorize access to the DB-Secure file, and confirm teams are showing 6. Navigate to the hidden Lookup-TOC tab and authorize access to each of the new Div1-8 Meet Sheets 7. Run ALL the Weekly schedule actions to authorize access and hide unnecessary tabs on the Div 1-8 Meet Sheets 8. Send a link to the new ScoreBoard file to all the Dive Reps and Division Coordinators to use for this week's meet
C3: Weekly | D3: 2 | E3: AddTriggerExpiration | F3: FALSE | Q3: Run this action to add the trigger that will automatically remove all Editors from all the Divisional Reporting Meet Sheets at noon on Wednesday after the meet. This should be run after Action "DuplicateMeetSheets" and you have confirmed that all the new Divisional Reporting Meet Sheets look correct.
C5: Admin | E5: RemoveViewers | F5: FALSE | G5: FALSE | H5: FALSE | I5: FALSE | J5: FALSE | K5: FALSE | L5: FALSE | M5: FALSE | N5: FALSE | Q5: Run this action to remove access to all VIEWERS from the specified Divisional Reporting Meet Sheets. Use this action if you need to manually removed everyone from a specific Divisional Reporting Meet Sheet.
C6: Admin | E6: RemoveEditors | F6: FALSE | G6: FALSE | H6: FALSE | I6: FALSE | J6: FALSE | K6: FALSE | L6: FALSE | M6: FALSE | N6: FALSE | Q6: Run this action to remove access to all EDITORS from the specified Divisional Reporting Meet Sheets. Use this action if you need to manually removed everyone from a specific Divisional Reporting Meet Sheet. They will be removed entirely and not have EDITOR or VIEWER access. If they need VIEWER access, run action "AddViewers" afterwards.
C8: Admin | E8: AddViewers | F8: FALSE | G8: FALSE | H8: FALSE | I8: FALSE | J8: FALSE | K8: FALSE | L8: FALSE | M8: FALSE | N8: FALSE | Q8: Run this action to add VIEWER access for all the Divr Reps and Coordinators listed in the Secure-DB for each Division to their specific Divisional Reporting Meet Sheet.
C9: Weekly | D9: 3 | E9: AddEditors | F9: FALSE | G9: FALSE | H9: FALSE | I9: FALSE | J9: FALSE | K9: FALSE | L9: FALSE | M9: FALSE | N9: FALSE | O9: Executed-All | Q9: Run this action to add EDITOR access for all the Divr Reps and Coordinators listed in the Secure-DB for each Division to their specific Divisional Reporting Meet Sheet.
C10: Weekly | D10: 4 | E10: AddDivCoordinators | F10: FALSE | G10: FALSE | H10: FALSE | I10: FALSE | J10: FALSE | K10: FALSE | L10: FALSE | M10: FALSE | N10: FALSE | Q10: Run this action to add EDITOR access for JUST the Div Coordinators listed in the Secure-DB for each Division to their specific Divisional Reporting Meet Sheet.
C12: Weekly | D12: 5 | E12: HideAllTabs | F12: FALSE | G12: FALSE | H12: FALSE | I12: FALSE | J12: FALSE | K12: FALSE | L12: FALSE | M12: FALSE | N12: FALSE | Q12: Run this action to HIDE all the tabs on all the Divisional Reporting Meet Sheets except for the Participant and Results tabs.
C13: Admin | E13: ShowAllTabs | F13: FALSE | G13: FALSE | H13: FALSE | I13: FALSE | J13: FALSE | K13: FALSE | L13: FALSE | M13: FALSE | N13: FALSE | Q13: Run this action to SHOW all the tabs on all the Divisional Reporting Meet Sheets except for the Participant and Results tabs. This would be done for Admin purposes to review the tabs and prepare the meet sheet prior to granting access to Dive Reps.
C15: Admin | E15: HideRosterTab | F15: FALSE | G15: FALSE | H15: FALSE | I15: FALSE | J15: FALSE | K15: FALSE | L15: FALSE | M15: FALSE | N15: FALSE | Q15: Run this action to HIDE the Roster tab on all the Divisional Reporting Meet Sheets. This is usually not needed, but would be done for Admin purposes if needed.
C16: Weekly | D16: 6 | E16: ShowRosterTab | F16: FALSE | G16: FALSE | H16: FALSE | I16: FALSE | J16: FALSE | K16: FALSE | L16: FALSE | M16: FALSE | N16: FALSE | Q16: Run this action to SHOW the Roster tab on all the Divisional Reporting Meet Sheets. Use this action after you have prepared all the Divisional Reporting Meet Sheets and run Action "HideAllTabs", then you can run this action.
C18: Weekly | D18: 7 | E18: AddViewersToScoreBoard | F18: FALSE | Q18: Run this action to add VIEWER access for ANYONE to the ScoreBoard file. This is necessary for all Dive Reps and Div Coordinators to be able to find their Divisional Meet Sheets for the week, and also for Parents to be able to see the meet results

Sheet Lookup-TOC
A1: DO NOT UPDATE DATA HERE - This information is populated automatically by selecting "DuplicateMeetSheets" on the tab "AdminDashboard" and clicking the blue button titled "Process Actions"
A2: Once the links to this week's Divisional Reporting files are populated in ColF, authorize each of the eight sheets in ColG.
B3: Div # Text - This text is displayed on the first tab titled "Start Here!" | C3: File Link (converted) - These are the hyperlinks to this week's divisional files which are active after you have run the "DuplicateMeetSheets" action above | D3: MeetResults - This is the range to load from each of this week's Divisional Meet Sheets to show on each tab in this sheet titled "D1-MeetResults" | E3: ="RevokeAccess"&"=MDautoExpire(C2)" -> RevokeAccess=MDautoExpire(C2) | F3: File LInk (get shareable link and paste here) - this should automatically be populated via the "DuplicateMeetSheets" action above | G3: Sheet Auth - after running the "DuplicateMeetSheets"action described above, authorize access to each of this week's Divisional Meet Sheets below so the data can be consolidated into this Spreadsheet
