Workbook
Name D1_Participants12YOUB: #REF!
Name D1_Participants12YOUG: #REF!
Name D1_Participants13YOA: #REF!
Name D1_Participants13YOOB: #REF!
Name D1_Participants13YOOG: #REF!

Sheet MeetParticipants
A1: ='Lookup-DiverRoster'!$T:$T -> 0 | C1: 45480 | D1: ="NVSL WALLY MARTIN SYNCHRO PARTICIPANTS FOR " & TEXT( C1, "MM/DD/YYYY" ) -> NVSL WALLY MARTIN SYNCHRO PARTICIPANTS FOR 07/07/2024
C2: Age Group | D2: Cnt | E2: Status | G2: Cmnts | H2: =IF(SUM(H3:H7)>0,"D1 Msgs","") -> D1 Msgs | I2: =IF(SUM(I3:I7)>0,"D2 Msgs","") -> D2 Msgs
A3: 1 | C3: 12 & Under Girls | D3: =COUNTIF(INDIRECT("$c$"&VALUE(($A3-1)*100+13)&":"&"$c$"&VALUE(($A3-1)*100+62)),">''") -> 26 | E3: =INDIRECT("D"&VALUE((A3-1)*100+65)) -> 01-Awaiting Scores | G3: =IF(INDIRECT("$c$"&VALUE(($A3-1)*100+80))="","","YES") | H3: =COUNTIF(INDIRECT("$h$"&VALUE(($A3-1)*100+13)&":"&"$h$"&VALUE(($A3-1)*100+62)),">''") -> 0 | I3: =COUNTIF(INDIRECT("$i$"&VALUE(($A3-1)*100+13)&":"&"$i$"&VALUE(($A3-1)*100+62)),">''") -> 0
A4: 2 | C4: 12 & Under Boys | D4: =COUNTIF(INDIRECT("$c$"&VALUE(($A4-1)*100+13)&":"&"$c$"&VALUE(($A4-1)*100+62)),">''") -> 15 | E4: =INDIRECT("D"&VALUE((A4-1)*100+65)) -> 01-Awaiting Scores | G4: =IF(INDIRECT("$c$"&VALUE(($A4-1)*100+80))="","","YES") | H4: =COUNTIF(INDIRECT("$h$"&VALUE(($A4-1)*100+13)&":"&"$h$"&VALUE(($A4-1)*100+62)),">''") -> 0 | I4: =COUNTIF(INDIRECT("$i$"&VALUE(($A4-1)*100+13)&":"&"$i$"&VALUE(($A4-1)*100+62)),">''") -> 0
A5: 3 | C5: 13 & Over Girls | D5: =COUNTIF(INDIRECT("$c$"&VALUE(($A5-1)*100+13)&":"&"$c$"&VALUE(($A5-1)*100+62)),">''") -> 23 | E5: =INDIRECT("D"&VALUE((A5-1)*100+65)) -> 01-Awaiting Scores | G5: =IF(INDIRECT("$c$"&VALUE(($A5-1)*100+80))="","","YES") | H5: =COUNTIF(INDIRECT("$h$"&VALUE(($A5-1)*100+13)&":"&"$h$"&VALUE(($A5-1)*100+62)),">''") -> 1 | I5: =COUNTIF(INDIRECT("$i$"&VALUE(($A5-1)*100+13)&":"&"$i$"&VALUE(($A5-1)*100+62)),">''") -> 3 | K5: Diver Lookups
A6: 4 | C6: 13 & Over Boys | D6: =COUNTIF(INDIRECT("$c$"&VALUE(($A6-1)*100+13)&":"&"$c$"&VALUE(($A6-1)*100+62)),">''") -> 19 | E6: =INDIRECT("D"&VALUE((A6-1)*100+65)) -> 01-Awaiting Scores | G6: =IF(INDIRECT("$c$"&VALUE(($A6-1)*100+80))="","","YES") | H6: =COUNTIF(INDIRECT("$h$"&VALUE(($A6-1)*100+13)&":"&"$h$"&VALUE(($A6-1)*100+62)),">''") -> 3 | I6: =COUNTIF(INDIRECT("$i$"&VALUE(($A6-1)*100+13)&":"&"$i$"&VALUE(($A6-1)*100+62)),">''") -> 1 | K6: Diver 1 Info | Q6: Diver 2 Info
A7: 8 | C7: Total | D7: =SUM(D3:D6) -> 83 | K7: D1Name | L7: D1Club | M7: D1Gend | N7: D1Max | O7: D1Limit | P7: D1Err | Q7: D2Name | R7: D2Club | S7: D2Gend | T7: D2Max | U7: D2Limit | V7: D2Err
A8: =LEFT($D11,2)&"g" -> 12g | C8: ="Age Group: " & D11 -> Age Group: 12 & Under Girls | G8: Event Date: | H8: =C$1 -> 45480
C9: * Enter Diver name, event and score in yellow sections, (enter "DQ" for score as needed) * Diver is allowed to dive-up a division, as long as the other diver is age-appropriate * If you need to move a diver, please DO NOT cut/paste them, please DO copy/paste them instead. * When pasting data, to help preserve the formatting, please use edit>pasteSpecial>valuesOnly (shift+cntl+v), :-)
C10: * Enter Judge, Rep and any comments below Diver Details, and change "Report Status" when done * Click "MeetResults" tab at bottom to review team scores and diver placement
C11: Age and Gender | D11: 12 & Under Girls | K11: =IFERROR(__xludf.DUMMYFUNCTION("ARRAYFORMULA( IF( ( (NOT(ISNUMBER( $A11:$A383 )))+($C11:$C383="""") ), """", SPLIT( VLOOKUP( $C11:$C383, {'Lookup-DiverRoster'!$B:$B , 'Lookup-DiverRoster'!$B:$B & ""|"" & 'Lookup-DiverRoster'!$A:$A & ""|"" & 'Lookup-DiverRoster'!$D:$D & 'Lookup-Div"&"erRoster'!$C:$C & ""|"" & 'Lookup-DiverRoster'!$J:$J }, 2, 0), ""|"", true)))"),"") | L11: =IFERROR(__xludf.DUMMYFUNCTION("""COMPUTED_VALUE"""),"") | M11: =IFERROR(__xludf.DUMMYFUNCTION("""COMPUTED_VALUE"""),"") | N11: =IFERROR(__xludf.DUMMYFUNCTION("""COMPUTED_VALUE"""),"") | Q11: =IFERROR(__xludf.DUMMYFUNCTION("ARRAYFORMULA( IF( ( (NOT(ISNUMBER( $A11:$A383 )))+($E11:$E383="""") ), """", SPLIT( VLOOKUP( $E11:$E383, {'Lookup-DiverRoster'!$B:$B , 'Lookup-DiverRoster'!$B:$B & ""|"" & 'Lookup-DiverRoster'!$A:$A & ""|"" & 'Lookup-DiverRoster'!$D:$D & 'Lookup-Div"&"erRoster'!$C:$C & ""|"" & 'Lookup-DiverRoster'!$J:$J }, 2, 0), ""|"", true)))"),"") | R11: =IFERROR(__xludf.DUMMYFUNCTION("""COMPUTED_VALUE"""),"") | S11: =IFERROR(__xludf.DUMMYFUNCTION("""COMPUTED_VALUE"""),"") | T11: =IFERROR(__xludf.DUMMYFUNCTION("""COMPUTED_VALUE"""),"")
C12: Diver 1 Name | D12: Diver 1 Club | E12: Diver 2 Name | F12: Diver 2 Club | G12: Score | H12: D1 Msgs | I12: D2 Msgs | K12: =IFERROR(__xludf.DUMMYFUNCTION("""COMPUTED_VALUE"""),"") | L12: =IFERROR(__xludf.DUMMYFUNCTION("""COMPUTED_VALUE"""),"") | M12: =IFERROR(__xludf.DUMMYFUNCTION("""COMPUTED_VALUE"""),"") | N12: =IFERROR(__xludf.DUMMYFUNCTION("""COMPUTED_VALUE"""),"") | Q12: =IFERROR(__xludf.DUMMYFUNCTION("""COMPUTED_VALUE"""),"") | R12: =IFERROR(__xludf.DUMMYFUNCTION("""COMPUTED_VALUE"""),"") | S12: =IFERROR(__xludf.DUMMYFUNCTION("""COMPUTED_VALUE"""),"") | T12: =IFERROR(__xludf.DUMMYFUNCTION("""COMPUTED_VALUE"""),"")
A13: {=_xludf.SEQUENCE( 50 )} -> #NAME? | B13: 143 | C13: Ingrid Lander | D13: G | E13: Lacey Niedzialek | F13: G | G13: 37.62 | K13: =IFERROR(__xludf.DUMMYFUNCTION("""COMPUTED_VALUE"""),"Ingrid Lander") -> Ingrid Lander | L13: =IFERROR(__xludf.DUMMYFUNCTION("""COMPUTED_VALUE"""),"G") -> G | M13: =IFERROR(__xludf.DUMMYFUNCTION("""COMPUTED_VALUE"""),"G8") -> G8 | N13: =IFERROR(__xludf.DUMMYFUNCTION("""COMPUTED_VALUE"""),5) -> 5 | P13: =IFERROR(__xludf.DUMMYFUNCTION("ARRAYFORMULA( IF( ( NOT( ISNUMBER( VALUE($A13:$A62)) )+( ( $C13:$C62="""" )*( $E13:$E62="""" ) ) ), """", IF( ISNA( K13:K62 ), ""Diver-NF"", IF( ($K13:$K62 = """") * ($Q13:$Q62 <> """"), ""Diver-NF"", IF( ( ( ISNA( L13:L62 ))+( D13:D62 <>"&" L13:L62 ) ), ""Club-""&L13:L62, IF( VLOOKUP( K13:K62&L13:L62, QUERY( { $C:$C&$D:$D; $E:$E&$F:$F }, ""SELECT Col1, COUNT(Col1) GROUP BY Col1 LABEL COUNT(Col1) ''""),2,0 ) > 1, ""Duplicate"", IF( UPPER( LEFT( M13:M62,1))<> UPPER( RIGHT( $A8, 1)),""Gend"&"er"", IF( VALUE( MID( M13:M62,2,2)) > VALUE( TRIM( LEFT( $D11,2))),""Age-"" & MID( M13:M62,2,2),"""")))) ))))"),"") | Q13: =IFERROR(__xludf.DUMMYFUNCTION("""COMPUTED_VALUE"""),"Lacey Niedzialek") -> Lacey Niedzialek | R13: =IFERROR(__xludf.DUMMYFUNCTION("""COMPUTED_VALUE"""),"G") -> G | S13: =IFERROR(__xludf.DUMMYFUNCTION("""COMPUTED_VALUE"""),"G8") -> G8 | T13: =IFERROR(__xludf.DUMMYFUNCTION("""COMPUTED_VALUE"""),1) -> 1 | U13: {=IF($E13:$E62="","", VLOOKUP(VLOOKUP(VALUE(MID(S13:S62,2,2)),'Lookup-Generic'!$G:$H,2,0)&LEFT(S13:S62,1),'Lookup-Generic'!$M:$N,2,0))} -> 67 | V13: =IFERROR(__xludf.DUMMYFUNCTION("ARRAYFORMULA( IF( ( NOT( ISNUMBER( VALUE($A13:$A62)) )+( ( $C13:$C62="""" )*( $E13:$E62="""" ) ) ), """", IF( ISNA( Q13:Q62 ), ""Diver-NF"", IF( ($K13:$K62 <> """") * ($Q13:$Q62 = """"), ""Diver-NF"", IF( ( ( ISNA( R13:R62 ))+( F13:F62 <"&"> R13:R62 ) ), ""Club-""&R13:R62, IF( VLOOKUP( Q13:Q62&R13:R62, QUERY( { $C:$C&$D:$D; $E:$E&$F:$F }, ""SELECT Col1, COUNT(Col1) GROUP BY Col1 LABEL COUNT(Col1) ''""),2,0 ) > 1, ""Duplicate"", IF( UPPER( LEFT( S13:S62,1))<> UPPER( RIGHT( $A8, 1)),""Gen"&"der"", IF( VALUE( MID( S13:S62,2,2)) > VALUE( TRIM( LEFT( $D11,2))),""Age-"" & MID( S13:S62,2,2),"""")))) ))))"),"")
A14: #NAME? | B14: 385 | C14: Quinn Zahler | D14: RH | E14: Xanthy Kuehne | F14: RH | G14: 70.56 | K14: =IFERROR(__xludf.DUMMYFUNCTION("""COMPUTED_VALUE"""),"Quinn Zahler") -> Quinn Zahler | L14: =IFERROR(__xludf.DUMMYFUNCTION("""COMPUTED_VALUE"""),"RH") -> RH | M14: =IFERROR(__xludf.DUMMYFUNCTION("""COMPUTED_VALUE"""),"G11") -> G11 | N14: =IFERROR(__xludf.DUMMYFUNCTION("""COMPUTED_VALUE"""),4) -> 4 | P14: =IFERROR(__xludf.DUMMYFUNCTION("""COMPUTED_VALUE"""),"") | Q14: =IFERROR(__xludf.DUMMYFUNCTION("""COMPUTED_VALUE"""),"Xanthy Kuehne") -> Xanthy Kuehne | R14: =IFERROR(__xludf.DUMMYFUNCTION("""COMPUTED_VALUE"""),"RH") -> RH | S14: =IFERROR(__xludf.DUMMYFUNCTION("""COMPUTED_VALUE"""),"G11") -> G11 | T14: =IFERROR(__xludf.DUMMYFUNCTION("""COMPUTED_VALUE"""),4) -> 4 | U14: 99 | V14: =IFERROR(__xludf.DUMMYFUNCTION("""COMPUTED_VALUE"""),"")
A15: #NAME? | B15: 470 | C15: Lilly Jessup | D15: RH | E15: Katelyn Thackaberry | F15: RH | G15: 67.65 | K15: =IFERROR(__xludf.DUMMYFUNCTION("""COMPUTED_VALUE"""),"Lilly Jessup") -> Lilly Jessup | L15: =IFERROR(__xludf.DUMMYFUNCTION("""COMPUTED_VALUE"""),"RH") -> RH | M15: =IFERROR(__xludf.DUMMYFUNCTION("""COMPUTED_VALUE"""),"G12") -> G12 | N15: =IFERROR(__xludf.DUMMYFUNCTION("""COMPUTED_VALUE"""),4) -> 4 | P15: =IFERROR(__xludf.DUMMYFUNCTION("""COMPUTED_VALUE"""),"") | Q15: =IFERROR(__xludf.DUMMYFUNCTION("""COMPUTED_VALUE"""),"Katelyn Thackaberry") -> Katelyn Thackaberry | R15: =IFERROR(__xludf.DUMMYFUNCTION("""COMPUTED_VALUE"""),"RH") -> RH | S15: =IFERROR(__xludf.DUMMYFUNCTION("""COMPUTED_VALUE"""),"G12") -> G12 | T15: =IFERROR(__xludf.DUMMYFUNCTION("""COMPUTED_VALUE"""),5) -> 5 | U15: 99 | V15: =IFERROR(__xludf.DUMMYFUNCTION("""COMPUTED_VALUE"""),"")
A16: #NAME? | B16: 512 | C16: Artemisia Hashemi | D16: HSC | E16: Grace Wegner | F16: HSC | G16: 53.67 | K16: =IFERROR(__xludf.DUMMYFUNCTION("""COMPUTED_VALUE"""),"Artemisia Hashemi") -> Artemisia Hashemi | L16: =IFERROR(__xludf.DUMMYFUNCTION("""COMPUTED_VALUE"""),"HSC") -> HSC | M16: =IFERROR(__xludf.DUMMYFUNCTION("""COMPUTED_VALUE"""),"G11") -> G11 | N16: =IFERROR(__xludf.DUMMYFUNCTION("""COMPUTED_VALUE"""),5) -> 5 | P16: =IFERROR(__xludf.DUMMYFUNCTION("""COMPUTED_VALUE"""),"") | Q16: =IFERROR(__xludf.DUMMYFUNCTION("""COMPUTED_VALUE"""),"Grace Wegner") -> Grace Wegner | R16: =IFERROR(__xludf.DUMMYFUNCTION("""COMPUTED_VALUE"""),"HSC") -> HSC | S16: =IFERROR(__xludf.DUMMYFUNCTION("""COMPUTED_VALUE"""),"G10") -> G10 | T16: =IFERROR(__xludf.DUMMYFUNCTION("""COMPUTED_VALUE"""),5) -> 5 | U16: 67 | V16: =IFERROR(__xludf.DUMMYFUNCTION("""COMPUTED_VALUE"""),"")
A17: #NAME? | B17: 757 | C17: Victoria Williams | D17: FS | E17: Elizabeth Pidgeon | F17: FS | G17: 62.82 | K17: =IFERROR(__xludf.DUMMYFUNCTION("""COMPUTED_VALUE"""),"Victoria Williams") -> Victoria Williams | L17: =IFERROR(__xludf.DUMMYFUNCTION("""COMPUTED_VALUE"""),"FS") -> FS | M17: =IFERROR(__xludf.DUMMYFUNCTION("""COMPUTED_VALUE"""),"G10") -> G10 | N17: =IFERROR(__xludf.DUMMYFUNCTION("""COMPUTED_VALUE"""),4) -> 4 | P17: =IFERROR(__xludf.DUMMYFUNCTION("""COMPUTED_VALUE"""),"") | Q17: =IFERROR(__xludf.DUMMYFUNCTION("""COMPUTED_VALUE"""),"Elizabeth Pidgeon") -> Elizabeth Pidgeon | R17: =IFERROR(__xludf.DUMMYFUNCTION("""COMPUTED_VALUE"""),"FS") -> FS | S17: =IFERROR(__xludf.DUMMYFUNCTION("""COMPUTED_VALUE"""),"G11") -> G11 | T17: =IFERROR(__xludf.DUMMYFUNCTION("""COMPUTED_VALUE"""),5) -> 5 | U17: 99 | V17: =IFERROR(__xludf.DUMMYFUNCTION("""COMPUTED_VALUE"""),"")
A18: #NAME? | B18: 811 | C18: Finley McDonnell | D18: DR | E18: Harper Bassler | F18: T | G18: 50.73 | K18: =IFERROR(__xludf.DUMMYFUNCTION("""COMPUTED_VALUE"""),"Finley McDonnell") -> Finley McDonnell | L18: =IFERROR(__xludf.DUMMYFUNCTION("""COMPUTED_VALUE"""),"DR") -> DR | M18: =IFERROR(__xludf.DUMMYFUNCTION("""COMPUTED_VALUE"""),"G10") -> G10 | N18: =IFERROR(__xludf.DUMMYFUNCTION("""COMPUTED_VALUE"""),5) -> 5 | P18: =IFERROR(__xludf.DUMMYFUNCTION("""COMPUTED_VALUE"""),"") | Q18: =IFERROR(__xludf.DUMMYFUNCTION("""COMPUTED_VALUE"""),"Harper Bassler") -> Harper Bassler | R18: =IFERROR(__xludf.DUMMYFUNCTION("""COMPUTED_VALUE"""),"T") -> T | S18: =IFERROR(__xludf.DUMMYFUNCTION("""COMPUTED_VALUE"""),"G10") -> G10 | T18: =IFERROR(__xludf.DUMMYFUNCTION("""COMPUTED_VALUE"""),4) -> 4 | U18: 67 | V18: =IFERROR(__xludf.DUMMYFUNCTION("""COMPUTED_VALUE"""),"")
A19: #NAME? | B19: 958 | C19: Evelyn Sanders | D19: GF | E19: Bennett Barletta | F19: GF | G19: 60.03 | K19: =IFERROR(__xludf.DUMMYFUNCTION("""COMPUTED_VALUE"""),"Evelyn Sanders") -> Evelyn Sanders | L19: =IFERROR(__xludf.DUMMYFUNCTION("""COMPUTED_VALUE"""),"GF") -> GF | M19: =IFERROR(__xludf.DUMMYFUNCTION("""COMPUTED_VALUE"""),"G12") -> G12 | N19: =IFERROR(__xludf.DUMMYFUNCTION("""COMPUTED_VALUE"""),5) -> 5 | P19: =IFERROR(__xludf.DUMMYFUNCTION("""COMPUTED_VALUE"""),"") | Q19: =IFERROR(__xludf.DUMMYFUNCTION("""COMPUTED_VALUE"""),"Bennett Barletta") -> Bennett Barletta | R19: =IFERROR(__xludf.DUMMYFUNCTION("""COMPUTED_VALUE"""),"GF") -> GF | S19: =IFERROR(__xludf.DUMMYFUNCTION("""COMPUTED_VALUE"""),"G12") -> G12 | T19: =IFERROR(__xludf.DUMMYFUNCTION("""COMPUTED_VALUE"""),4) -> 4 | U19: 99 | V19: =IFERROR(__xludf.DUMMYFUNCTION("""COMPUTED_VALUE"""),"")
A20: #NAME? | B20: 1325 | C20: Hadley Miller | D20: PAR | E20: Elena Scott | F20: PAR | G20: 42.18 | K20: =IFERROR(__xludf.DUMMYFUNCTION("""COMPUTED_VALUE"""),"Hadley Miller") -> Hadley Miller | L20: =IFERROR(__xludf.DUMMYFUNCTION("""COMPUTED_VALUE"""),"PAR") -> PAR | M20: =IFERROR(__xludf.DUMMYFUNCTION("""COMPUTED_VALUE"""),"G9") -> G9 | N20: =IFERROR(__xludf.DUMMYFUNCTION("""COMPUTED_VALUE"""),5) -> 5 | P20: =IFERROR(__xludf.DUMMYFUNCTION("""COMPUTED_VALUE"""),"") | Q20: =IFERROR(__xludf.DUMMYFUNCTION("""COMPUTED_VALUE"""),"Elena Scott") -> Elena Scott | R20: =IFERROR(__xludf.DUMMYFUNCTION("""COMPUTED_VALUE"""),"PAR") -> PAR | S20: =IFERROR(__xludf.DUMMYFUNCTION("""COMPUTED_VALUE"""),"G9") -> G9 | T20: =IFERROR(__xludf.DUMMYFUNCTION("""COMPUTED_VALUE"""),5) -> 5 | U20: 67 | V20: =IFERROR(__xludf.DUMMYFUNCTION("""COMPUTED_VALUE"""),"")
A21: #NAME? | B21: 1427 | C21: Josephine Wills | D21: PAR | E21: Ally Argenta | F21: PAR | G21: 51.09 | K21: =IFERROR(__xludf.DUMMYFUNCTION("""COMPUTED_VALUE"""),"Josephine Wills") -> Josephine Wills | L21: =IFERROR(__xludf.DUMMYFUNCTION("""COMPUTED_VALUE"""),"PAR") -> PAR | M21: =IFERROR(__xludf.DUMMYFUNCTION("""COMPUTED_VALUE"""),"G10") -> G10 | N21: =IFERROR(__xludf.DUMMYFUNCTION("""COMPUTED_VALUE"""),4) -> 4 | P21: =IFERROR(__xludf.DUMMYFUNCTION("""COMPUTED_VALUE"""),"") | Q21: =IFERROR(__xludf.DUMMYFUNCTION("""COMPUTED_VALUE"""),"Ally Argenta") -> Ally Argenta | R21: =IFERROR(__xludf.DUMMYFUNCTION("""COMPUTED_VALUE"""),"PAR") -> PAR | S21: =IFERROR(__xludf.DUMMYFUNCTION("""COMPUTED_VALUE"""),"G9") -> G9 | T21: =IFERROR(__xludf.DUMMYFUNCTION("""COMPUTED_VALUE"""),4) -> 4 | U21: 67 | V21: =IFERROR(__xludf.DUMMYFUNCTION("""COMPUTED_VALUE"""),"")
A22: #NAME? | B22: 1605 | C22: Emma Fricke | D22: G | E22: Leighton Raich | F22: G | G22: 65.28 | K22: =IFERROR(__xludf.DUMMYFUNCTION("""COMPUTED_VALUE"""),"Emma Fricke") -> Emma Fricke | L22: =IFERROR(__xludf.DUMMYFUNCTION("""COMPUTED_VALUE"""),"G") -> G | M22: =IFERROR(__xludf.DUMMYFUNCTION("""COMPUTED_VALUE"""),"G12") -> G12 | N22: =IFERROR(__xludf.DUMMYFUNCTION("""COMPUTED_VALUE"""),4) -> 4 | P22: =IFERROR(__xludf.DUMMYFUNCTION("""COMPUTED_VALUE"""),"") | Q22: =IFERROR(__xludf.DUMMYFUNCTION("""COMPUTED_VALUE"""),"Leighton Raich") -> Leighton Raich | R22: =IFERROR(__xludf.DUMMYFUNCTION("""COMPUTED_VALUE"""),"G") -> G | S22: =IFERROR(__xludf.DUMMYFUNCTION("""COMPUTED_VALUE"""),"G12") -> G12 | T22: =IFERROR(__xludf.DUMMYFUNCTION("""COMPUTED_VALUE"""),5) -> 5 | U22: 99 | V22: =IFERROR(__xludf.DUMMYFUNCTION("""COMPUTED_VALUE"""),"")
A23: #NAME? | B23: 1791 | C23: Ellie Phillips | D23: CSC | E23: Emma Magness | F23: CSC | G23: 53.82 | K23: =IFERROR(__xludf.DUMMYFUNCTION("""COMPUTED_VALUE"""),"Ellie Phillips") -> Ellie Phillips | L23: =IFERROR(__xludf.DUMMYFUNCTION("""COMPUTED_VALUE"""),"CSC") -> CSC | M23: =IFERROR(__xludf.DUMMYFUNCTION("""COMPUTED_VALUE"""),"G9") -> G9 | N23: =IFERROR(__xludf.DUMMYFUNCTION("""COMPUTED_VALUE"""),5) -> 5 | P23: =IFERROR(__xludf.DUMMYFUNCTION("""COMPUTED_VALUE"""),"") | Q23: =IFERROR(__xludf.DUMMYFUNCTION("""COMPUTED_VALUE"""),"Emma Magness") -> Emma Magness | R23: =IFERROR(__xludf.DUMMYFUNCTION("""COMPUTED_VALUE"""),"CSC") -> CSC | S23: =IFERROR(__xludf.DUMMYFUNCTION("""COMPUTED_VALUE"""),"G11") -> G11 | T23: =IFERROR(__xludf.DUMMYFUNCTION("""COMPUTED_VALUE"""),5) -> 5 | U23: 99 | V23: =IFERROR(__xludf.DUMMYFUNCTION("""COMPUTED_VALUE"""),"")
A24: #NAME? | B24: 2061 | C24: Victoria Beier | D24: AF | E24: Vi Robert | F24: AF | G24: 39.45 | K24: =IFERROR(__xludf.DUMMYFUNCTION("""COMPUTED_VALUE"""),"Victoria Beier") -> Victoria Beier | L24: =IFERROR(__xludf.DUMMYFUNCTION("""COMPUTED_VALUE"""),"AF") -> AF | M24: =IFERROR(__xludf.DUMMYFUNCTION("""COMPUTED_VALUE"""),"G9") -> G9 | N24: =IFERROR(__xludf.DUMMYFUNCTION("""COMPUTED_VALUE"""),4) -> 4 | P24: =IFERROR(__xludf.DUMMYFUNCTION("""COMPUTED_VALUE"""),"") | Q24: =IFERROR(__xludf.DUMMYFUNCTION("""COMPUTED_VALUE"""),"Vi Robert") -> Vi Robert | R24: =IFERROR(__xludf.DUMMYFUNCTION("""COMPUTED_VALUE"""),"AF") -> AF | S24: =IFERROR(__xludf.DUMMYFUNCTION("""COMPUTED_VALUE"""),"G9") -> G9 | T24: =IFERROR(__xludf.DUMMYFUNCTION("""COMPUTED_VALUE"""),4) -> 4 | U24: 67 | V24: =IFERROR(__xludf.DUMMYFUNCTION("""COMPUTED_VALUE"""),"")
A25: #NAME? | B25: 2238 | C25: CeCe St. Jacques | D25: OAK | E25: Alice Henderson | F25: OAK | G25: 23.94 | K25: =IFERROR(__xludf.DUMMYFUNCTION("""COMPUTED_VALUE"""),"CeCe St. Jacques") -> CeCe St. Jacques | L25: =IFERROR(__xludf.DUMMYFUNCTION("""COMPUTED_VALUE"""),"OAK") -> OAK | M25: =IFERROR(__xludf.DUMMYFUNCTION("""COMPUTED_VALUE"""),"G8") -> G8 | N25: =IFERROR(__xludf.DUMMYFUNCTION("""COMPUTED_VALUE"""),1) -> 1 | P25: =IFERROR(__xludf.DUMMYFUNCTION("""COMPUTED_VALUE"""),"") | Q25: =IFERROR(__xludf.DUMMYFUNCTION("""COMPUTED_VALUE"""),"Alice Henderson") -> Alice Henderson | R25: =IFERROR(__xludf.DUMMYFUNCTION("""COMPUTED_VALUE"""),"OAK") -> OAK | S25: =IFERROR(__xludf.DUMMYFUNCTION("""COMPUTED_VALUE"""),"G7") -> G7 | T25: =IFERROR(__xludf.DUMMYFUNCTION("""COMPUTED_VALUE"""),2) -> 2 | U25: 67 | V25: =IFERROR(__xludf.DUMMYFUNCTION("""COMPUTED_VALUE"""),"")
A26: #NAME? | B26: 2355 | C26: Sophia Blanco | D26: OAK | E26: Chloe Sanglier | F26: OAK | G26: 53.88 | K26: =IFERROR(__xludf.DUMMYFUNCTION("""COMPUTED_VALUE"""),"Sophia Blanco") -> Sophia Blanco | L26: =IFERROR(__xludf.DUMMYFUNCTION("""COMPUTED_VALUE"""),"OAK") -> OAK | M26: =IFERROR(__xludf.DUMMYFUNCTION("""COMPUTED_VALUE"""),"G10") -> G10 | N26: =IFERROR(__xludf.DUMMYFUNCTION("""COMPUTED_VALUE"""),5) -> 5 | P26: =IFERROR(__xludf.DUMMYFUNCTION("""COMPUTED_VALUE"""),"") | Q26: =IFERROR(__xludf.DUMMYFUNCTION("""COMPUTED_VALUE"""),"Chloe Sanglier") -> Chloe Sanglier | R26: =IFERROR(__xludf.DUMMYFUNCTION("""COMPUTED_VALUE"""),"OAK") -> OAK | S26: =IFERROR(__xludf.DUMMYFUNCTION("""COMPUTED_VALUE"""),"G9") -> G9 | T26: =IFERROR(__xludf.DUMMYFUNCTION("""COMPUTED_VALUE"""),5) -> 5 | U26: 67 | V26: =IFERROR(__xludf.DUMMYFUNCTION("""COMPUTED_VALUE"""),"")
A27: #NAME? | B27: 2710 | C27: Simone Wilson | D27: OAK | E27: Lauren Emerick | F27: OAK | G27: 65.22 | K27: =IFERROR(__xludf.DUMMYFUNCTION("""COMPUTED_VALUE"""),"Simone Wilson") -> Simone Wilson | L27: =IFERROR(__xludf.DUMMYFUNCTION("""COMPUTED_VALUE"""),"OAK") -> OAK | M27: =IFERROR(__xludf.DUMMYFUNCTION("""COMPUTED_VALUE"""),"G12") -> G12 | N27: =IFERROR(__xludf.DUMMYFUNCTION("""COMPUTED_VALUE"""),5) -> 5 | P27: =IFERROR(__xludf.DUMMYFUNCTION("""COMPUTED_VALUE"""),"") | Q27: =IFERROR(__xludf.DUMMYFUNCTION("""COMPUTED_VALUE"""),"Lauren Emerick") -> Lauren Emerick | R27: =IFERROR(__xludf.DUMMYFUNCTION("""COMPUTED_VALUE"""),"OAK") -> OAK | S27: =IFERROR(__xludf.DUMMYFUNCTION("""COMPUTED_VALUE"""),"G12") -> G12 | T27: =IFERROR(__xludf.DUMMYFUNCTION("""COMPUTED_VALUE"""),5) -> 5 | U27: 99 | V27: =IFERROR(__xludf.DUMMYFUNCTION("""COMPUTED_VALUE"""),"")
A28: #NAME? | B28: 2805 | C28: Holly Denniston | D28: KG | E28: Julia Denniston | F28: KG | G28: 65.43 | K28: =IFERROR(__xludf.DUMMYFUNCTION("""COMPUTED_VALUE"""),"Holly Denniston") -> Holly Denniston | L28: =IFERROR(__xludf.DUMMYFUNCTION("""COMPUTED_VALUE"""),"KG") -> KG | M28: =IFERROR(__xludf.DUMMYFUNCTION("""COMPUTED_VALUE"""),"G9") -> G9 | N28: =IFERROR(__xludf.DUMMYFUNCTION("""COMPUTED_VALUE"""),5) -> 5 | P28: =IFERROR(__xludf.DUMMYFUNCTION("""COMPUTED_VALUE"""),"") | Q28: =IFERROR(__xludf.DUMMYFUNCTION("""COMPUTED_VALUE"""),"Julia Denniston") -> Julia Denniston | R28: =IFERROR(__xludf.DUMMYFUNCTION("""COMPUTED_VALUE"""),"KG") -> KG | S28: =IFERROR(__xludf.DUMMYFUNCTION("""COMPUTED_VALUE"""),"G11") -> G11 | T28: =IFERROR(__xludf.DUMMYFUNCTION("""COMPUTED_VALUE"""),5) -> 5 | U28: 99 | V28: =IFERROR(__xludf.DUMMYFUNCTION("""COMPUTED_VALUE"""),"")
A29: #NAME? | B29: 2838 | C29: Norah Wittman | D29: KG | E29: Kira Bhasin | F29: KG | G29: 58.41 | K29: =IFERROR(__xludf.DUMMYFUNCTION("""COMPUTED_VALUE"""),"Norah Wittman") -> Norah Wittman | L29: =IFERROR(__xludf.DUMMYFUNCTION("""COMPUTED_VALUE"""),"KG") -> KG | M29: =IFERROR(__xludf.DUMMYFUNCTION("""COMPUTED_VALUE"""),"G10") -> G10 | N29: =IFERROR(__xludf.DUMMYFUNCTION("""COMPUTED_VALUE"""),5) -> 5 | P29: =IFERROR(__xludf.DUMMYFUNCTION("""COMPUTED_VALUE"""),"") | Q29: =IFERROR(__xludf.DUMMYFUNCTION("""COMPUTED_VALUE"""),"Kira Bhasin") -> Kira Bhasin | R29: =IFERROR(__xludf.DUMMYFUNCTION("""COMPUTED_VALUE"""),"KG") -> KG | S29: =IFERROR(__xludf.DUMMYFUNCTION("""COMPUTED_VALUE"""),"G11") -> G11 | T29: =IFERROR(__xludf.DUMMYFUNCTION("""COMPUTED_VALUE"""),5) -> 5 | U29: 99 | V29: =IFERROR(__xludf.DUMMYFUNCTION("""COMPUTED_VALUE"""),"")
A30: #NAME? | B30: 3240 | C30: Mouse Guy | D30: HP | E30: Leah Jandrain | F30: HP | G30: 64.23 | K30: =IFERROR(__xludf.DUMMYFUNCTION("""COMPUTED_VALUE"""),"Mouse Guy") -> Mouse Guy | L30: =IFERROR(__xludf.DUMMYFUNCTION("""COMPUTED_VALUE"""),"HP") -> HP | M30: =IFERROR(__xludf.DUMMYFUNCTION("""COMPUTED_VALUE"""),"G11") -> G11 | N30: =IFERROR(__xludf.DUMMYFUNCTION("""COMPUTED_VALUE"""),5) -> 5 | P30: =IFERROR(__xludf.DUMMYFUNCTION("""COMPUTED_VALUE"""),"") | Q30: =IFERROR(__xludf.DUMMYFUNCTION("""COMPUTED_VALUE"""),"Leah Jandrain") -> Leah Jandrain | R30: =IFERROR(__xludf.DUMMYFUNCTION("""COMPUTED_VALUE"""),"HP") -> HP | S30: =IFERROR(__xludf.DUMMYFUNCTION("""COMPUTED_VALUE"""),"G11") -> G11 | T30: =IFERROR(__xludf.DUMMYFUNCTION("""COMPUTED_VALUE"""),4) -> 4 | U30: 99 | V30: =IFERROR(__xludf.DUMMYFUNCTION("""COMPUTED_VALUE"""),"")
A31: #NAME? | B31: 3326 | C31: Cora Bellomo | D31: SR | E31: Kendall Wilson | F31: SR | G31: 54.72 | K31: =IFERROR(__xludf.DUMMYFUNCTION("""COMPUTED_VALUE"""),"Cora Bellomo") -> Cora Bellomo | L31: =IFERROR(__xludf.DUMMYFUNCTION("""COMPUTED_VALUE"""),"SR") -> SR | M31: =IFERROR(__xludf.DUMMYFUNCTION("""COMPUTED_VALUE"""),"G11") -> G11 | N31: =IFERROR(__xludf.DUMMYFUNCTION("""COMPUTED_VALUE"""),5) -> 5 | P31: =IFERROR(__xludf.DUMMYFUNCTION("""COMPUTED_VALUE"""),"") | Q31: =IFERROR(__xludf.DUMMYFUNCTION("""COMPUTED_VALUE"""),"Kendall Wilson") -> Kendall Wilson | R31: =IFERROR(__xludf.DUMMYFUNCTION("""COMPUTED_VALUE"""),"SR") -> SR | S31: =IFERROR(__xludf.DUMMYFUNCTION("""COMPUTED_VALUE"""),"G11") -> G11 | T31: =IFERROR(__xludf.DUMMYFUNCTION("""COMPUTED_VALUE"""),5) -> 5 | U31: 99 | V31: =IFERROR(__xludf.DUMMYFUNCTION("""COMPUTED_VALUE"""),"")
A32: #NAME? | B32: 3395 | C32: Payton Bennett | D32: HV | E32: Lillian Gunderson | F32: HV | G32: 60.93 | K32: =IFERROR(__xludf.DUMMYFUNCTION("""COMPUTED_VALUE"""),"Payton Bennett") -> Payton Bennett | L32: =IFERROR(__xludf.DUMMYFUNCTION("""COMPUTED_VALUE"""),"HV") -> HV | M32: =IFERROR(__xludf.DUMMYFUNCTION("""COMPUTED_VALUE"""),"G9") -> G9 | N32: =IFERROR(__xludf.DUMMYFUNCTION("""COMPUTED_VALUE"""),5) -> 5 | P32: =IFERROR(__xludf.DUMMYFUNCTION("""COMPUTED_VALUE"""),"") | Q32: =IFERROR(__xludf.DUMMYFUNCTION("""COMPUTED_VALUE"""),"Lillian Gunderson") -> Lillian Gunderson | R32: =IFERROR(__xludf.DUMMYFUNCTION("""COMPUTED_VALUE"""),"HV") -> HV | S32: =IFERROR(__xludf.DUMMYFUNCTION("""COMPUTED_VALUE"""),"G9") -> G9 | T32: =IFERROR(__xludf.DUMMYFUNCTION("""COMPUTED_VALUE"""),4) -> 4 | U32: 67 | V32: =IFERROR(__xludf.DUMMYFUNCTION("""COMPUTED_VALUE"""),"")
A33: #NAME? | B33: 3506 | C33: Mallory Brown | D33: OKM | E33: Taylor Kluger | F33: OKM | G33: 55.83 | K33: =IFERROR(__xludf.DUMMYFUNCTION("""COMPUTED_VALUE"""),"Mallory Brown") -> Mallory Brown | L33: =IFERROR(__xludf.DUMMYFUNCTION("""COMPUTED_VALUE"""),"OKM") -> OKM | M33: =IFERROR(__xludf.DUMMYFUNCTION("""COMPUTED_VALUE"""),"G10") -> G10 | N33: =IFERROR(__xludf.DUMMYFUNCTION("""COMPUTED_VALUE"""),4) -> 4 | P33: =IFERROR(__xludf.DUMMYFUNCTION("""COMPUTED_VALUE"""),"") | Q33: =IFERROR(__xludf.DUMMYFUNCTION("""COMPUTED_VALUE"""),"Taylor Kluger") -> Taylor Kluger | R33: =IFERROR(__xludf.DUMMYFUNCTION("""COMPUTED_VALUE"""),"OKM") -> OKM | S33: =IFERROR(__xludf.DUMMYFUNCTION("""COMPUTED_VALUE"""),"G11") -> G11 | T33: =IFERROR(__xludf.DUMMYFUNCTION("""COMPUTED_VALUE"""),3) -> 3 | U33: 99 | V33: =IFERROR(__xludf.DUMMYFUNCTION("""COMPUTED_VALUE"""),"")
A34: #NAME? | B34: 3523 | C34: Bella DeSando | D34: DL | E34: Stella Baldeon Masturzo | F34: DL | G34: 55.68 | K34: =IFERROR(__xludf.DUMMYFUNCTION("""COMPUTED_VALUE"""),"Bella DeSando") -> Bella DeSando | L34: =IFERROR(__xludf.DUMMYFUNCTION("""COMPUTED_VALUE"""),"DL") -> DL | M34: =IFERROR(__xludf.DUMMYFUNCTION("""COMPUTED_VALUE"""),"G9") -> G9 | N34: =IFERROR(__xludf.DUMMYFUNCTION("""COMPUTED_VALUE"""),4) -> 4 | P34: =IFERROR(__xludf.DUMMYFUNCTION("""COMPUTED_VALUE"""),"") | Q34: =IFERROR(__xludf.DUMMYFUNCTION("""COMPUTED_VALUE"""),"Stella Baldeon Masturzo") -> Stella Baldeon Masturzo | R34: =IFERROR(__xludf.DUMMYFUNCTION("""COMPUTED_VALUE"""),"DL") -> DL | S34: =IFERROR(__xludf.DUMMYFUNCTION("""COMPUTED_VALUE"""),"G10") -> G10 | T34: =IFERROR(__xludf.DUMMYFUNCTION("""COMPUTED_VALUE"""),5) -> 5 | U34: 67 | V34: =IFERROR(__xludf.DUMMYFUNCTION("""COMPUTED_VALUE"""),"")
A35: #NAME? | B35: 3823 | C35: Clara Beatty | D35: DL | E35: Erin Martonik | F35: DL | G35: 59.07 | K35: =IFERROR(__xludf.DUMMYFUNCTION("""COMPUTED_VALUE"""),"Clara Beatty") -> Clara Beatty | L35: =IFERROR(__xludf.DUMMYFUNCTION("""COMPUTED_VALUE"""),"DL") -> DL | M35: =IFERROR(__xludf.DUMMYFUNCTION("""COMPUTED_VALUE"""),"G12") -> G12 | N35: =IFERROR(__xludf.DUMMYFUNCTION("""COMPUTED_VALUE"""),5) -> 5 | P35: =IFERROR(__xludf.DUMMYFUNCTION("""COMPUTED_VALUE"""),"") | Q35: =IFERROR(__xludf.DUMMYFUNCTION("""COMPUTED_VALUE"""),"Erin Martonik") -> Erin Martonik | R35: =IFERROR(__xludf.DUMMYFUNCTION("""COMPUTED_VALUE"""),"DL") -> DL | S35: =IFERROR(__xludf.DUMMYFUNCTION("""COMPUTED_VALUE"""),"G12") -> G12 | T35: =IFERROR(__xludf.DUMMYFUNCTION("""COMPUTED_VALUE"""),5) -> 5 | U35: 99 | V35: =IFERROR(__xludf.DUMMYFUNCTION("""COMPUTED_VALUE"""),"")
A36: #NAME? | B36: 4124 | C36: Elise Esquivel | D36: DL | E36: Carina Bosco | F36: DL | G36: 55.92 | K36: =IFERROR(__xludf.DUMMYFUNCTION("""COMPUTED_VALUE"""),"Elise Esquivel") -> Elise Esquivel | L36: =IFERROR(__xludf.DUMMYFUNCTION("""COMPUTED_VALUE"""),"DL") -> DL | M36: =IFERROR(__xludf.DUMMYFUNCTION("""COMPUTED_VALUE"""),"G10") -> G10 | N36: =IFERROR(__xludf.DUMMYFUNCTION("""COMPUTED_VALUE"""),5) -> 5 | P36: =IFERROR(__xludf.DUMMYFUNCTION("""COMPUTED_VALUE"""),"") | Q36: =IFERROR(__xludf.DUMMYFUNCTION("""COMPUTED_VALUE"""),"Carina Bosco") -> Carina Bosco | R36: =IFERROR(__xludf.DUMMYFUNCTION("""COMPUTED_VALUE"""),"DL") -> DL | S36: =IFERROR(__xludf.DUMMYFUNCTION("""COMPUTED_VALUE"""),"G9") -> G9 | T36: =IFERROR(__xludf.DUMMYFUNCTION("""COMPUTED_VALUE"""),4) -> 4 | U36: 67 | V36: =IFERROR(__xludf.DUMMYFUNCTION("""COMPUTED_VALUE"""),"")
A37: #NAME? | B37: 4454 | C37: Hannah Waters | D37: PAR | E37: Sofia Stanley | F37: PAR | G37: 39.51 | K37: =IFERROR(__xludf.DUMMYFUNCTION("""COMPUTED_VALUE"""),"Hannah Waters") -> Hannah Waters | L37: =IFERROR(__xludf.DUMMYFUNCTION("""COMPUTED_VALUE"""),"PAR") -> PAR | M37: =IFERROR(__xludf.DUMMYFUNCTION("""COMPUTED_VALUE"""),"G10") -> G10 | N37: =IFERROR(__xludf.DUMMYFUNCTION("""COMPUTED_VALUE"""),5) -> 5 | P37: =IFERROR(__xludf.DUMMYFUNCTION("""COMPUTED_VALUE"""),"") | Q37: =IFERROR(__xludf.DUMMYFUNCTION("""COMPUTED_VALUE"""),"Sofia Stanley") -> Sofia Stanley | R37: =IFERROR(__xludf.DUMMYFUNCTION("""COMPUTED_VALUE"""),"PAR") -> PAR | S37: =IFERROR(__xludf.DUMMYFUNCTION("""COMPUTED_VALUE"""),"G9") -> G9 | T37: =IFERROR(__xludf.DUMMYFUNCTION("""COMPUTED_VALUE"""),5) -> 5 | U37: 67 | V37: =IFERROR(__xludf.DUMMYFUNCTION("""COMPUTED_VALUE"""),"")
A38: #NAME? | B38: 5051 | C38: Ari Wiley-Jimenez | D38: GF | E38: Aletheia Wiley-Jimenez | F38: GF | G38: 54.6 | K38: =IFERROR(__xludf.DUMMYFUNCTION("""COMPUTED_VALUE"""),"Ari Wiley-Jimenez") -> Ari Wiley-Jimenez | L38: =IFERROR(__xludf.DUMMYFUNCTION("""COMPUTED_VALUE"""),"GF") -> GF | M38: =IFERROR(__xludf.DUMMYFUNCTION("""COMPUTED_VALUE"""),"G11") -> G11 | N38: =IFERROR(__xludf.DUMMYFUNCTION("""COMPUTED_VALUE"""),5) -> 5 | P38: =IFERROR(__xludf.DUMMYFUNCTION("""COMPUTED_VALUE"""),"") | Q38: =IFERROR(__xludf.DUMMYFUNCTION("""COMPUTED_VALUE"""),"Aletheia Wiley-Jimenez") -> Aletheia Wiley-Jimenez | R38: =IFERROR(__xludf.DUMMYFUNCTION("""COMPUTED_VALUE"""),"GF") -> GF | S38: =IFERROR(__xludf.DUMMYFUNCTION("""COMPUTED_VALUE"""),"G11") -> G11 | T38: =IFERROR(__xludf.DUMMYFUNCTION("""COMPUTED_VALUE"""),5) -> 5 | U38: 99 | V38: =IFERROR(__xludf.DUMMYFUNCTION("""COMPUTED_VALUE"""),"")
A39: #NAME? | B39: 5466 | K39: =IFERROR(__xludf.DUMMYFUNCTION("""COMPUTED_VALUE"""),"") | L39: =IFERROR(__xludf.DUMMYFUNCTION("""COMPUTED_VALUE"""),"") | M39: =IFERROR(__xludf.DUMMYFUNCTION("""COMPUTED_VALUE"""),"") | N39: =IFERROR(__xludf.DUMMYFUNCTION("""COMPUTED_VALUE"""),"") | P39: =IFERROR(__xludf.DUMMYFUNCTION("""COMPUTED_VALUE"""),"") | Q39: =IFERROR(__xludf.DUMMYFUNCTION("""COMPUTED_VALUE"""),"") | R39: =IFERROR(__xludf.DUMMYFUNCTION("""COMPUTED_VALUE"""),"") | S39: =IFERROR(__xludf.DUMMYFUNCTION("""COMPUTED_VALUE"""),"") | T39: =IFERROR(__xludf.DUMMYFUNCTION("""COMPUTED_VALUE"""),"") | V39: =IFERROR(__xludf.DUMMYFUNCTION("""COMPUTED_VALUE"""),"")
A40: #NAME? | B40: 5602 | K40: =IFERROR(__xludf.DUMMYFUNCTION("""COMPUTED_VALUE"""),"") | L40: =IFERROR(__xludf.DUMMYFUNCTION("""COMPUTED_VALUE"""),"") | M40: =IFERROR(__xludf.DUMMYFUNCTION("""COMPUTED_VALUE"""),"") | N40: =IFERROR(__xludf.DUMMYFUNCTION("""COMPUTED_VALUE"""),"") | P40: =IFERROR(__xludf.DUMMYFUNCTION("""COMPUTED_VALUE"""),"") | Q40: =IFERROR(__xludf.DUMMYFUNCTION("""COMPUTED_VALUE"""),"") | R40: =IFERROR(__xludf.DUMMYFUNCTION("""COMPUTED_VALUE"""),"") | S40: =IFERROR(__xludf.DUMMYFUNCTION("""COMPUTED_VALUE"""),"") | T40: =IFERROR(__xludf.DUMMYFUNCTION("""COMPUTED_VALUE"""),"") | V40: =IFERROR(__xludf.DUMMYFUNCTION("""COMPUTED_VALUE"""),"")
...

Sheet MeetResults
D1: 45480 | E1: NVSL WALLY MARTIN SYNCHRO PARTICIPANTS FOR 07/07/2024
D2: Age Group | F2: Cnt | G2: Status
A3: 1 | D3: 12 & Under Girls | F3: 26 | G3: 01-Awaiting Scores
A4: 2 | D4: 12 & Under Boys | F4: 15 | G4: 01-Awaiting Scores
A5: 3 | D5: 13 & Over Girls | F5: 23 | G5: 01-Awaiting Scores
A6: 4 | D6: 13 & Over Boys | F6: 19 | G6: 01-Awaiting Scores
A7: 8
D8: Age Group: 12 & Under Girls | H8: Date | I8: 45480
H9: Report Status | I9: 01-Awaiting Scores
D10: * These results are calculated automatically and are non-editable
C11: Age and Gender | E11: 12 & Under Girls
C12: Count | E12: 26
C13: Place | D13: Diver 1 Name | F13: Pool | G13: Diver 2 Name | I13: Pool | J13: Score | N13: Place | O13: Name1 | P13: Club1 | Q13: Name2 | R13: Club2 | S13: Score
C14: 1 | D14: Quinn Zahler | F14: RH | G14: Xanthy Kuehne | I14: RH | J14: 70.56 | N14: #NAME? | O14: Quinn Zahler | P14: RH | Q14: Xanthy Kuehne | R14: RH | S14: 70.56
C15: 2 | D15: Lilly Jessup | F15: RH | G15: Katelyn Thackaberry | I15: RH | J15: 67.65 | N15: #NAME? | O15: Lilly Jessup | P15: RH | Q15: Katelyn Thackaberry | R15: RH | S15: 67.65
C16: 3 | D16: Holly Denniston | F16: KG | G16: Julia Denniston | I16: KG | J16: 65.43 | N16: #NAME? | O16: Holly Denniston | P16: KG | Q16: Julia Denniston | R16: KG | S16: 65.43
C17: 4 | D17: Emma Fricke | F17: G | G17: Leighton Raich | I17: G | J17: 65.28 | N17: #NAME? | O17: Emma Fricke | P17: G | Q17: Leighton Raich | R17: G | S17: 65.28
C18: 5 | D18: Simone Wilson | F18: OAK | G18: Lauren Emerick | I18: OAK | J18: 65.22 | N18: #NAME? | O18: Simone Wilson | P18: OAK | Q18: Lauren Emerick | R18: OAK | S18: 65.22
C19: 6 | D19: Mouse Guy | F19: HP | G19: Leah Jandrain | I19: HP | J19: 64.23 | N19: #NAME? | O19: Mouse Guy | P19: HP | Q19: Leah Jandrain | R19: HP | S19: 64.23
C20: 7 | D20: Victoria Williams | F20: FS | G20: Elizabeth Pidgeon | I20: FS | J20: 62.82 | N20: #NAME? | O20: Victoria Williams | P20: FS | Q20: Elizabeth Pidgeon | R20: FS | S20: 62.82
C21: 8 | D21: Payton Bennett | F21: HV | G21: Lillian Gunderson | I21: HV | J21: 60.93 | N21: #NAME? | O21: Payton Bennett | P21: HV | Q21: Lillian Gunderson | R21: HV | S21: 60.93
C22: 9 | D22: Evelyn Sanders | F22: GF | G22: Bennett Barletta | I22: GF | J22: 60.03 | N22: #NAME? | O22: Evelyn Sanders | P22: GF | Q22: Bennett Barletta | R22: GF | S22: 60.03
C23: 10 | D23: Clara Beatty | F23: DL | G23: Erin Martonik | I23: DL | J23: 59.07 | N23: #NAME? | O23: Clara Beatty | P23: DL | Q23: Erin Martonik | R23: DL | S23: 59.07
C24: 11 | D24: Norah Wittman | F24: KG | G24: Kira Bhasin | I24: KG | J24: 58.41 | N24: #NAME? | O24: Norah Wittman | P24: KG | Q24: Kira Bhasin | R24: KG | S24: 58.41
C25: 12 | D25: Elise Esquivel | F25: DL | G25: Carina Bosco | I25: DL | J25: 55.92 | N25: #NAME? | O25: Elise Esquivel | P25: DL | Q25: Carina Bosco | R25: DL | S25: 55.92
... C39: 26 | D39: CeCe St. Jacques | F39: OAK | G39: Alice Henderson | I39: OAK | J39: 23.94 | N39: #NAME? | O39: CeCe St. Jacques | P39: OAK | Q39: Alice Henderson | R39: OAK | S39: 23.94
N40: #NAME?
N41: #NAME?
N42: #NAME?
C44: Comments
C45: 0
D87: Age Group: 12 & Under Boys | H87: Date | I87: 45480
H88: Report Status | I88: 01-Awaiting Scores
D89: * These results are calculated automatically and are non-editable
C90: Age and Gender | E90: 12 & Under Boys
C91: Count | E91: 15
C92: Place | D92: Diver 1 Name | F92: Pool | G92: Diver 2 Name | I92: Pool | J92: Score | N92: Place | O92: Name1 | P92: Club1 | Q92: Name2 | R92: Club2 | S92: Score
C93: 1 | D93: Cormac Henderson | F93: PL | G93: Miller Supple | I93: PL | J93: 67.65 | N93: #NAME? | O93: Cormac Henderson | P93: PL | Q93: Miller Supple | R93: PL | S93: 67.65
C94: 2 | D94: Ben Margolis | F94: HP | G94: Julian Castro | I94: HP | J94: 64.41 | N94: #NAME? | O94: Ben Margolis | P94: HP | Q94: Julian Castro | R94: HP | S94: 64.41
C95: 3 | D95: Ravi Martinez | F95: DR | G95: Will McCool | I95: DR | J95: 62.52 | N95: #NAME? | O95: Ravi Martinez | P95: DR | Q95: Will McCool | R95: DR | S95: 62.52
...

Sheet Lookup-DiverRoster
A1: Official NVSL Diver Rosters for year of: | D1: 2024
A2: =IFERROR(__xludf.DUMMYFUNCTION("SORT( QUERY( IMPORTRANGE( VLOOKUP(""DiverDBExport"",'Lookup-Generic'!$O:$P,2,0), ""Lookup-DiverRoster!$A$4:$O$2400"" ), ""SELECT *""), 1, true, 9, true, 2, true)"),"!2024 DiverTeam: 2204 Entries") -> !2024 DiverTeam: 2204 Entries | B2: =IFERROR(__xludf.DUMMYFUNCTION("""COMPUTED_VALUE"""),"!2024 DiverName: 2204 Entries") -> !2024 DiverName: 2204 Entries | C2: =IFERROR(__xludf.DUMMYFUNCTION("""COMPUTED_VALUE"""),"!2024 DiverAgeOn61: 2203 Entries") -> !2024 DiverAgeOn61: 2203 Entries | D2: =IFERROR(__xludf.DUMMYFUNCTION("""COMPUTED_VALUE"""),"!2024 DiverGender: 2203 Entries G:1267 B:936") -> !2024 DiverGender: 2203 Entries G:1267 B:936 | E2: =IFERROR(__xludf.DUMMYFUNCTION("""COMPUTED_VALUE"""),"!Calculated DiverEvent F:1103 J:525 I:312 S:263") -> !Calculated DiverEvent F:1103 J:525 I:312 S:263 | F2: =IFERROR(__xludf.DUMMYFUNCTION("""COMPUTED_VALUE"""),"Calculated DiveUpEvent") -> Calculated DiveUpEvent | G2: =IFERROR(__xludf.DUMMYFUNCTION("""COMPUTED_VALUE"""),"Division Lookup") -> Division Lookup | H2: =IFERROR(__xludf.DUMMYFUNCTION("""COMPUTED_VALUE"""),"Club Lookup") -> Club Lookup | I2: =IFERROR(__xludf.DUMMYFUNCTION("""COMPUTED_VALUE"""),"Event Sort Order") -> Event Sort Order | J2: =IFERROR(__xludf.DUMMYFUNCTION("""COMPUTED_VALUE"""),"Dual Meets Diver Completed") -> Dual Meets Diver Completed | K2: =IFERROR(__xludf.DUMMYFUNCTION("""COMPUTED_VALUE"""),"Diver Dual-Meet 1-4 High Score") -> Diver Dual-Meet 1-4 High Score | L2: =IFERROR(__xludf.DUMMYFUNCTION("""COMPUTED_VALUE"""),"") | M2: =IFERROR(__xludf.DUMMYFUNCTION("""COMPUTED_VALUE"""),"06/18/24 Dual Meet Results") -> 06/18/24 Dual Meet Results | N2: =IFERROR(__xludf.DUMMYFUNCTION("""COMPUTED_VALUE"""),"") | O2: =IFERROR(__xludf.DUMMYFUNCTION("""COMPUTED_VALUE"""),"06/25/24 Dual Meet Results") -> 06/25/24 Dual Meet Results | Q2: 1. Official NVSL Roster for 12 & Under Girls (951 divers) | R2: 2. Official NVSL Roster for 12 & Under Boys (677 divers) | S2: 3. Official NVSL Roster for 13 & Over Girls (1267 divers) | T2: 4. Official NVSL Roster for 13 & Over Boys (936 divers)
A3: =IFERROR(__xludf.DUMMYFUNCTION("""COMPUTED_VALUE"""),"A") -> A | B3: =IFERROR(__xludf.DUMMYFUNCTION("""COMPUTED_VALUE"""),"Elizabeth Rodenbeck") -> Elizabeth Rodenbeck | C3: =IFERROR(__xludf.DUMMYFUNCTION("""COMPUTED_VALUE"""),10) -> 10 | D3: =IFERROR(__xludf.DUMMYFUNCTION("""COMPUTED_VALUE"""),"G") -> G | E3: =IFERROR(__xludf.DUMMYFUNCTION("""COMPUTED_VALUE"""),"F") -> F | F3: =IFERROR(__xludf.DUMMYFUNCTION("""COMPUTED_VALUE"""),"J") -> J | G3: =IFERROR(__xludf.DUMMYFUNCTION("""COMPUTED_VALUE"""),7) -> 7 | H3: =IFERROR(__xludf.DUMMYFUNCTION("""COMPUTED_VALUE"""),"A") -> A | I3: =IFERROR(__xludf.DUMMYFUNCTION("""COMPUTED_VALUE"""),4) -> 4 | J3: =IFERROR(__xludf.DUMMYFUNCTION("""COMPUTED_VALUE"""),4) -> 4 | K3: =IFERROR(__xludf.DUMMYFUNCTION("""COMPUTED_VALUE"""),35.8) -> 35.8 | O3: =IFERROR(__xludf.DUMMYFUNCTION("""COMPUTED_VALUE"""),35.8) -> 35.8 | Q3: =IFERROR(__xludf.DUMMYFUNCTION("SORT( FILTER( $B:$B, VALUE( $C:$C ) <= 12, $D:$D=""G"" ))"),"Aadhya Alla") -> Aadhya Alla | R3: =IFERROR(__xludf.DUMMYFUNCTION("SORT( FILTER( $B:$B, VALUE( $C:$C ) <= 12, $D:$D=""B"" ))"),"Aadi Bhartiya") -> Aadi Bhartiya | S3: =IFERROR(__xludf.DUMMYFUNCTION("SORT( FILTER( $B:$B, $D:$D=""G"" ))"),"Aadhya Alla") -> Aadhya Alla | T3: =IFERROR(__xludf.DUMMYFUNCTION("SORT( FILTER( $B:$B, $D:$D=""B"" ))"),"Aadi Bhartiya") -> Aadi Bhartiya
A4: =IFERROR(__xludf.DUMMYFUNCTION("""COMPUTED_VALUE"""),"A") -> A | B4: =IFERROR(__xludf.DUMMYFUNCTION("""COMPUTED_VALUE"""),"Farah Ahmadi") -> Farah Ahmadi | C4: =IFERROR(__xludf.DUMMYFUNCTION("""COMPUTED_VALUE"""),8) -> 8 | D4: =IFERROR(__xludf.DUMMYFUNCTION("""COMPUTED_VALUE"""),"G") -> G | E4: =IFERROR(__xludf.DUMMYFUNCTION("""COMPUTED_VALUE"""),"F") -> F | F4: =IFERROR(__xludf.DUMMYFUNCTION("""COMPUTED_VALUE"""),"J") -> J | G4: =IFERROR(__xludf.DUMMYFUNCTION("""COMPUTED_VALUE"""),7) -> 7 | H4: =IFERROR(__xludf.DUMMYFUNCTION("""COMPUTED_VALUE"""),"A") -> A | I4: =IFERROR(__xludf.DUMMYFUNCTION("""COMPUTED_VALUE"""),4) -> 4 | J4: =IFERROR(__xludf.DUMMYFUNCTION("""COMPUTED_VALUE"""),0) -> 0 | Q4: =IFERROR(__xludf.DUMMYFUNCTION("""COMPUTED_VALUE"""),"Abbie Colwill") -> Abbie Colwill | R4: =IFERROR(__xludf.DUMMYFUNCTION("""COMPUTED_VALUE"""),"Aaron Barger") -> Aaron Barger | S4: =IFERROR(__xludf.DUMMYFUNCTION("""COMPUTED_VALUE"""),"Abbie Colwill") -> Abbie Colwill | T4: =IFERROR(__xludf.DUMMYFUNCTION("""COMPUTED_VALUE"""),"Aaron Barger") -> Aaron Barger
A5: =IFERROR(__xludf.DUMMYFUNCTION("""COMPUTED_VALUE"""),"A") -> A | B5: =IFERROR(__xludf.DUMMYFUNCTION("""COMPUTED_VALUE"""),"Grace Middendorf") -> Grace Middendorf | C5: =IFERROR(__xludf.DUMMYFUNCTION("""COMPUTED_VALUE"""),8) -> 8 | D5: =IFERROR(__xludf.DUMMYFUNCTION("""COMPUTED_VALUE"""),"G") -> G | E5: =IFERROR(__xludf.DUMMYFUNCTION("""COMPUTED_VALUE"""),"F") -> F | F5: =IFERROR(__xludf.DUMMYFUNCTION("""COMPUTED_VALUE"""),"J") -> J | G5: =IFERROR(__xludf.DUMMYFUNCTION("""COMPUTED_VALUE"""),7) -> 7 | H5: =IFERROR(__xludf.DUMMYFUNCTION("""COMPUTED_VALUE"""),"A") -> A | I5: =IFERROR(__xludf.DUMMYFUNCTION("""COMPUTED_VALUE"""),4) -> 4 | J5: =IFERROR(__xludf.DUMMYFUNCTION("""COMPUTED_VALUE"""),1) -> 1 | K5: =IFERROR(__xludf.DUMMYFUNCTION("""COMPUTED_VALUE"""),14.5) -> 14.5 | O5: =IFERROR(__xludf.DUMMYFUNCTION("""COMPUTED_VALUE"""),14.5) -> 14.5 | Q5: =IFERROR(__xludf.DUMMYFUNCTION("""COMPUTED_VALUE"""),"Abby Bockman") -> Abby Bockman | R5: =IFERROR(__xludf.DUMMYFUNCTION("""COMPUTED_VALUE"""),"Aaron Scruby") -> Aaron Scruby | S5: =IFERROR(__xludf.DUMMYFUNCTION("""COMPUTED_VALUE"""),"Abby Bockman") -> Abby Bockman | T5: =IFERROR(__xludf.DUMMYFUNCTION("""COMPUTED_VALUE"""),"Aaron Scruby") -> Aaron Scruby
A6: =IFERROR(__xludf.DUMMYFUNCTION("""COMPUTED_VALUE"""),"A") -> A | B6: =IFERROR(__xludf.DUMMYFUNCTION("""COMPUTED_VALUE"""),"Jacqueline Landry") -> Jacqueline Landry | C6: =IFERROR(__xludf.DUMMYFUNCTION("""COMPUTED_VALUE"""),7) -> 7 | D6: =IFERROR(__xludf.DUMMYFUNCTION("""COMPUTED_VALUE"""),"G") -> G | E6: =IFERROR(__xludf.DUMMYFUNCTION("""COMPUTED_VALUE"""),"F") -> F | F6: =IFERROR(__xludf.DUMMYFUNCTION("""COMPUTED_VALUE"""),"J") -> J | G6: =IFERROR(__xludf.DUMMYFUNCTION("""COMPUTED_VALUE"""),7) -> 7 | H6: =IFERROR(__xludf.DUMMYFUNCTION("""COMPUTED_VALUE"""),"A") -> A | I6: =IFERROR(__xludf.DUMMYFUNCTION("""COMPUTED_VALUE"""),4) -> 4 | J6: =IFERROR(__xludf.DUMMYFUNCTION("""COMPUTED_VALUE"""),2) -> 2 | K6: =IFERROR(__xludf.DUMMYFUNCTION("""COMPUTED_VALUE"""),23.8) -> 23.8 | M6: =IFERROR(__xludf.DUMMYFUNCTION("""COMPUTED_VALUE"""),23.8) -> 23.8 | O6: =IFERROR(__xludf.DUMMYFUNCTION("""COMPUTED_VALUE"""),6.75) -> 6.75 | Q6: =IFERROR(__xludf.DUMMYFUNCTION("""COMPUTED_VALUE"""),"Abby Desai") -> Abby Desai | R6: =IFERROR(__xludf.DUMMYFUNCTION("""COMPUTED_VALUE"""),"Aayush Chaturvedi") -> Aayush Chaturvedi | S6: =IFERROR(__xludf.DUMMYFUNCTION("""COMPUTED_VALUE"""),"Abby Desai") -> Abby Desai | T6: =IFERROR(__xludf.DUMMYFUNCTION("""COMPUTED_VALUE"""),"Aayush Chaturvedi") -> Aayush Chaturvedi
A7: =IFERROR(__xludf.DUMMYFUNCTION("""COMPUTED_VALUE"""),"A") -> A | B7: =IFERROR(__xludf.DUMMYFUNCTION("""COMPUTED_VALUE"""),"Jenna Jair") -> Jenna Jair | C7: =IFERROR(__xludf.DUMMYFUNCTION("""COMPUTED_VALUE"""),10) -> 10 | D7: =IFERROR(__xludf.DUMMYFUNCTION("""COMPUTED_VALUE"""),"G") -> G | E7: =IFERROR(__xludf.DUMMYFUNCTION("""COMPUTED_VALUE"""),"F") -> F | F7: =IFERROR(__xludf.DUMMYFUNCTION("""COMPUTED_VALUE"""),"J") -> J | G7: =IFERROR(__xludf.DUMMYFUNCTION("""COMPUTED_VALUE"""),7) -> 7 | H7: =IFERROR(__xludf.DUMMYFUNCTION("""COMPUTED_VALUE"""),"A") -> A | I7: =IFERROR(__xludf.DUMMYFUNCTION("""COMPUTED_VALUE"""),4) -> 4 | J7: =IFERROR(__xludf.DUMMYFUNCTION("""COMPUTED_VALUE"""),5) -> 5 | K7: =IFERROR(__xludf.DUMMYFUNCTION("""COMPUTED_VALUE"""),42.65) -> 42.65 | M7: =IFERROR(__xludf.DUMMYFUNCTION("""COMPUTED_VALUE"""),27.35) -> 27.35 | O7: =IFERROR(__xludf.DUMMYFUNCTION("""COMPUTED_VALUE"""),36.85) -> 36.85 | Q7: =IFERROR(__xludf.DUMMYFUNCTION("""COMPUTED_VALUE"""),"Abby Donnelly") -> Abby Donnelly | R7: =IFERROR(__xludf.DUMMYFUNCTION("""COMPUTED_VALUE"""),"Adam Boyd") -> Adam Boyd | S7: =IFERROR(__xludf.DUMMYFUNCTION("""COMPUTED_VALUE"""),"Abby Donnelly") -> Abby Donnelly | T7: =IFERROR(__xludf.DUMMYFUNCTION("""COMPUTED_VALUE"""),"Ace Argentieri") -> Ace Argentieri
A8: =IFERROR(__xludf.DUMMYFUNCTION("""COMPUTED_VALUE"""),"A") -> A | B8: =IFERROR(__xludf.DUMMYFUNCTION("""COMPUTED_VALUE"""),"Katherine Oswald") -> Katherine Oswald | C8: =IFERROR(__xludf.DUMMYFUNCTION("""COMPUTED_VALUE"""),10) -> 10 | D8: =IFERROR(__xludf.DUMMYFUNCTION("""COMPUTED_VALUE"""),"G") -> G | E8: =IFERROR(__xludf.DUMMYFUNCTION("""COMPUTED_VALUE"""),"F") -> F | F8: =IFERROR(__xludf.DUMMYFUNCTION("""COMPUTED_VALUE"""),"J") -> J | G8: =IFERROR(__xludf.DUMMYFUNCTION("""COMPUTED_VALUE"""),7) -> 7 | H8: =IFERROR(__xludf.DUMMYFUNCTION("""COMPUTED_VALUE"""),"A") -> A | I8: =IFERROR(__xludf.DUMMYFUNCTION("""COMPUTED_VALUE"""),4) -> 4 | J8: =IFERROR(__xludf.DUMMYFUNCTION("""COMPUTED_VALUE"""),3) -> 3 | K8: =IFERROR(__xludf.DUMMYFUNCTION("""COMPUTED_VALUE"""),41.55) -> 41.55 | M8: =IFERROR(__xludf.DUMMYFUNCTION("""COMPUTED_VALUE"""),41.55) -> 41.55 | Q8: =IFERROR(__xludf.DUMMYFUNCTION("""COMPUTED_VALUE"""),"Abby Lee") -> Abby Lee | R8: =IFERROR(__xludf.DUMMYFUNCTION("""COMPUTED_VALUE"""),"Adam O'Keefe") -> Adam O'Keefe | S8: =IFERROR(__xludf.DUMMYFUNCTION("""COMPUTED_VALUE"""),"Abby Lee") -> Abby Lee | T8: =IFERROR(__xludf.DUMMYFUNCTION("""COMPUTED_VALUE"""),"Adam Boyd") -> Adam Boyd
A9: =IFERROR(__xludf.DUMMYFUNCTION("""COMPUTED_VALUE"""),"A") -> A | B9: =IFERROR(__xludf.DUMMYFUNCTION("""COMPUTED_VALUE"""),"Peyton Ma") -> Peyton Ma | C9: =IFERROR(__xludf.DUMMYFUNCTION("""COMPUTED_VALUE"""),7) -> 7 | D9: =IFERROR(__xludf.DUMMYFUNCTION("""COMPUTED_VALUE"""),"G") -> G | E9: =IFERROR(__xludf.DUMMYFUNCTION("""COMPUTED_VALUE"""),"F") -> F | F9: =IFERROR(__xludf.DUMMYFUNCTION("""COMPUTED_VALUE"""),"J") -> J | G9: =IFERROR(__xludf.DUMMYFUNCTION("""COMPUTED_VALUE"""),7) -> 7 | H9: =IFERROR(__xludf.DUMMYFUNCTION("""COMPUTED_VALUE"""),"A") -> A | I9: =IFERROR(__xludf.DUMMYFUNCTION("""COMPUTED_VALUE"""),4) -> 4 | J9: =IFERROR(__xludf.DUMMYFUNCTION("""COMPUTED_VALUE"""),4) -> 4 | K9: =IFERROR(__xludf.DUMMYFUNCTION("""COMPUTED_VALUE"""),49.7) -> 49.7 | O9: =IFERROR(__xludf.DUMMYFUNCTION("""COMPUTED_VALUE"""),49.7) -> 49.7 | Q9: =IFERROR(__xludf.DUMMYFUNCTION("""COMPUTED_VALUE"""),"Abby Panko") -> Abby Panko | R9: =IFERROR(__xludf.DUMMYFUNCTION("""COMPUTED_VALUE"""),"Adam Ogrodny") -> Adam Ogrodny | S9: =IFERROR(__xludf.DUMMYFUNCTION("""COMPUTED_VALUE"""),"Abby Panko") -> Abby Panko | T9: =IFERROR(__xludf.DUMMYFUNCTION("""COMPUTED_VALUE"""),"Adam Lash") -> Adam Lash
A10: =IFERROR(__xludf.DUMMYFUNCTION("""COMPUTED_VALUE"""),"A") -> A | B10: =IFERROR(__xludf.DUMMYFUNCTION("""COMPUTED_VALUE"""),"Chase Kemps") -> Chase Kemps | C10: =IFERROR(__xludf.DUMMYFUNCTION("""COMPUTED_VALUE"""),9) -> 9 | D10: =IFERROR(__xludf.DUMMYFUNCTION("""COMPUTED_VALUE"""),"B") -> B | E10: =IFERROR(__xludf.DUMMYFUNCTION("""COMPUTED_VALUE"""),"F") -> F | F10: =IFERROR(__xludf.DUMMYFUNCTION("""COMPUTED_VALUE"""),"J") -> J | G10: =IFERROR(__xludf.DUMMYFUNCTION("""COMPUTED_VALUE"""),7) -> 7 | H10: =IFERROR(__xludf.DUMMYFUNCTION("""COMPUTED_VALUE"""),"A") -> A | I10: =IFERROR(__xludf.DUMMYFUNCTION("""COMPUTED_VALUE"""),5) -> 5 | J10: =IFERROR(__xludf.DUMMYFUNCTION("""COMPUTED_VALUE"""),5) -> 5 | K10: =IFERROR(__xludf.DUMMYFUNCTION("""COMPUTED_VALUE"""),49.8) -> 49.8 | M10: =IFERROR(__xludf.DUMMYFUNCTION("""COMPUTED_VALUE"""),41.35) -> 41.35 | O10: =IFERROR(__xludf.DUMMYFUNCTION("""COMPUTED_VALUE"""),49.8) -> 49.8 | Q10: =IFERROR(__xludf.DUMMYFUNCTION("""COMPUTED_VALUE"""),"Abby Reilly") -> Abby Reilly | R10: =IFERROR(__xludf.DUMMYFUNCTION("""COMPUTED_VALUE"""),"Adam Sabo") -> Adam Sabo | S10: =IFERROR(__xludf.DUMMYFUNCTION("""COMPUTED_VALUE"""),"Abby Pickard") -> Abby Pickard | T10: =IFERROR(__xludf.DUMMYFUNCTION("""COMPUTED_VALUE"""),"Adam Nasr") -> Adam Nasr
A11: =IFERROR(__xludf.DUMMYFUNCTION("""COMPUTED_VALUE"""),"A") -> A | B11: =IFERROR(__xludf.DUMMYFUNCTION("""COMPUTED_VALUE"""),"Justin Jair") -> Justin Jair | C11: =IFERROR(__xludf.DUMMYFUNCTION("""COMPUTED_VALUE"""),7) -> 7 | D11: =IFERROR(__xludf.DUMMYFUNCTION("""COMPUTED_VALUE"""),"B") -> B | E11: =IFERROR(__xludf.DUMMYFUNCTION("""COMPUTED_VALUE"""),"F") -> F | F11: =IFERROR(__xludf.DUMMYFUNCTION("""COMPUTED_VALUE"""),"J") -> J | G11: =IFERROR(__xludf.DUMMYFUNCTION("""COMPUTED_VALUE"""),7) -> 7 | H11: =IFERROR(__xludf.DUMMYFUNCTION("""COMPUTED_VALUE"""),"A") -> A | I11: =IFERROR(__xludf.DUMMYFUNCTION("""COMPUTED_VALUE"""),5) -> 5 | J11: =IFERROR(__xludf.DUMMYFUNCTION("""COMPUTED_VALUE"""),5) -> 5 | K11: =IFERROR(__xludf.DUMMYFUNCTION("""COMPUTED_VALUE"""),39.2) -> 39.2 | M11: =IFERROR(__xludf.DUMMYFUNCTION("""COMPUTED_VALUE"""),37) -> 37 | O11: =IFERROR(__xludf.DUMMYFUNCTION("""COMPUTED_VALUE"""),39.2) -> 39.2 | Q11: =IFERROR(__xludf.DUMMYFUNCTION("""COMPUTED_VALUE"""),"Abi Bassler") -> Abi Bassler | R11: =IFERROR(__xludf.DUMMYFUNCTION("""COMPUTED_VALUE"""),"Adam Zimmer") -> Adam Zimmer | S11: =IFERROR(__xludf.DUMMYFUNCTION("""COMPUTED_VALUE"""),"Abby Reilly") -> Abby Reilly | T11: =IFERROR(__xludf.DUMMYFUNCTION("""COMPUTED_VALUE"""),"Adam O'Keefe") -> Adam O'Keefe
A12: =IFERROR(__xludf.DUMMYFUNCTION("""COMPUTED_VALUE"""),"A") -> A | B12: =IFERROR(__xludf.DUMMYFUNCTION("""COMPUTED_VALUE"""),"Leif Middendorf") -> Leif Middendorf | C12: =IFERROR(__xludf.DUMMYFUNCTION("""COMPUTED_VALUE"""),7) -> 7 | D12: =IFERROR(__xludf.DUMMYFUNCTION("""COMPUTED_VALUE"""),"B") -> B | E12: =IFERROR(__xludf.DUMMYFUNCTION("""COMPUTED_VALUE"""),"F") -> F | F12: =IFERROR(__xludf.DUMMYFUNCTION("""COMPUTED_VALUE"""),"J") -> J | G12: =IFERROR(__xludf.DUMMYFUNCTION("""COMPUTED_VALUE"""),7) -> 7 | H12: =IFERROR(__xludf.DUMMYFUNCTION("""COMPUTED_VALUE"""),"A") -> A | I12: =IFERROR(__xludf.DUMMYFUNCTION("""COMPUTED_VALUE"""),5) -> 5 | J12: =IFERROR(__xludf.DUMMYFUNCTION("""COMPUTED_VALUE"""),0) -> 0 | Q12: =IFERROR(__xludf.DUMMYFUNCTION("""COMPUTED_VALUE"""),"Abigail Akers") -> Abigail Akers | R12: =IFERROR(__xludf.DUMMYFUNCTION("""COMPUTED_VALUE"""),"Ahru Lee") -> Ahru Lee | S12: =IFERROR(__xludf.DUMMYFUNCTION("""COMPUTED_VALUE"""),"Abi Bassler") -> Abi Bassler | T12: =IFERROR(__xludf.DUMMYFUNCTION("""COMPUTED_VALUE"""),"Adam Ogrodny") -> Adam Ogrodny
A13: =IFERROR(__xludf.DUMMYFUNCTION("""COMPUTED_VALUE"""),"A") -> A | B13: =IFERROR(__xludf.DUMMYFUNCTION("""COMPUTED_VALUE"""),"Luke Tang") -> Luke Tang | C13: =IFERROR(__xludf.DUMMYFUNCTION("""COMPUTED_VALUE"""),9) -> 9 | D13: =IFERROR(__xludf.DUMMYFUNCTION("""COMPUTED_VALUE"""),"B") -> B | E13: =IFERROR(__xludf.DUMMYFUNCTION("""COMPUTED_VALUE"""),"F") -> F | F13: =IFERROR(__xludf.DUMMYFUNCTION("""COMPUTED_VALUE"""),"J") -> J | G13: =IFERROR(__xludf.DUMMYFUNCTION("""COMPUTED_VALUE"""),7) -> 7 | H13: =IFERROR(__xludf.DUMMYFUNCTION("""COMPUTED_VALUE"""),"A") -> A | I13: =IFERROR(__xludf.DUMMYFUNCTION("""COMPUTED_VALUE"""),5) -> 5 | J13: =IFERROR(__xludf.DUMMYFUNCTION("""COMPUTED_VALUE"""),5) -> 5 | K13: =IFERROR(__xludf.DUMMYFUNCTION("""COMPUTED_VALUE"""),44.3) -> 44.3 | M13: =IFERROR(__xludf.DUMMYFUNCTION("""COMPUTED_VALUE"""),33.2) -> 33.2 | O13: =IFERROR(__xludf.DUMMYFUNCTION("""COMPUTED_VALUE"""),44.3) -> 44.3 | Q13: =IFERROR(__xludf.DUMMYFUNCTION("""COMPUTED_VALUE"""),"Abigail Cassatt") -> Abigail Cassatt | R13: =IFERROR(__xludf.DUMMYFUNCTION("""COMPUTED_VALUE"""),"Aiden Cox") -> Aiden Cox | S13: =IFERROR(__xludf.DUMMYFUNCTION("""COMPUTED_VALUE"""),"Abigail Akers") -> Abigail Akers | T13: =IFERROR(__xludf.DUMMYFUNCTION("""COMPUTED_VALUE"""),"Adam Sabo") -> Adam Sabo
A14: =IFERROR(__xludf.DUMMYFUNCTION("""COMPUTED_VALUE"""),"A") -> A | B14: =IFERROR(__xludf.DUMMYFUNCTION("""COMPUTED_VALUE"""),"Preston Ta") -> Preston Ta | C14: =IFERROR(__xludf.DUMMYFUNCTION("""COMPUTED_VALUE"""),10) -> 10 | D14: =IFERROR(__xludf.DUMMYFUNCTION("""COMPUTED_VALUE"""),"B") -> B | E14: =IFERROR(__xludf.DUMMYFUNCTION("""COMPUTED_VALUE"""),"F") -> F | F14: =IFERROR(__xludf.DUMMYFUNCTION("""COMPUTED_VALUE"""),"J") -> J | G14: =IFERROR(__xludf.DUMMYFUNCTION("""COMPUTED_VALUE"""),7) -> 7 | H14: =IFERROR(__xludf.DUMMYFUNCTION("""COMPUTED_VALUE"""),"A") -> A | I14: =IFERROR(__xludf.DUMMYFUNCTION("""COMPUTED_VALUE"""),5) -> 5 | J14: =IFERROR(__xludf.DUMMYFUNCTION("""COMPUTED_VALUE"""),5) -> 5 | K14: =IFERROR(__xludf.DUMMYFUNCTION("""COMPUTED_VALUE"""),63.5) -> 63.5 | M14: =IFERROR(__xludf.DUMMYFUNCTION("""COMPUTED_VALUE"""),63.5) -> 63.5 | O14: =IFERROR(__xludf.DUMMYFUNCTION("""COMPUTED_VALUE"""),61) -> 61 | Q14: =IFERROR(__xludf.DUMMYFUNCTION("""COMPUTED_VALUE"""),"Abigail Hoggins") -> Abigail Hoggins | R14: =IFERROR(__xludf.DUMMYFUNCTION("""COMPUTED_VALUE"""),"Aiden Miller") -> Aiden Miller | S14: =IFERROR(__xludf.DUMMYFUNCTION("""COMPUTED_VALUE"""),"Abigail Cassatt") -> Abigail Cassatt | T14: =IFERROR(__xludf.DUMMYFUNCTION("""COMPUTED_VALUE"""),"Adam Zimmer") -> Adam Zimmer
A15: =IFERROR(__xludf.DUMMYFUNCTION("""COMPUTED_VALUE"""),"A") -> A | B15: =IFERROR(__xludf.DUMMYFUNCTION("""COMPUTED_VALUE"""),"Timothy Davis") -> Timothy Davis | C15: =IFERROR(__xludf.DUMMYFUNCTION("""COMPUTED_VALUE"""),8) -> 8 | D15: =IFERROR(__xludf.DUMMYFUNCTION("""COMPUTED_VALUE"""),"B") -> B | E15: =IFERROR(__xludf.DUMMYFUNCTION("""COMPUTED_VALUE"""),"F") -> F | F15: =IFERROR(__xludf.DUMMYFUNCTION("""COMPUTED_VALUE"""),"J") -> J | G15: =IFERROR(__xludf.DUMMYFUNCTION("""COMPUTED_VALUE"""),7) -> 7 | H15: =IFERROR(__xludf.DUMMYFUNCTION("""COMPUTED_VALUE"""),"A") -> A | I15: =IFERROR(__xludf.DUMMYFUNCTION("""COMPUTED_VALUE"""),5) -> 5 | J15: =IFERROR(__xludf.DUMMYFUNCTION("""COMPUTED_VALUE"""),0) -> 0 | Q15: =IFERROR(__xludf.DUMMYFUNCTION("""COMPUTED_VALUE"""),"Abigail Menjivar") -> Abigail Menjivar | R15: =IFERROR(__xludf.DUMMYFUNCTION("""COMPUTED_VALUE"""),"Aiden Taylor") -> Aiden Taylor | S15: =IFERROR(__xludf.DUMMYFUNCTION("""COMPUTED_VALUE"""),"Abigail Hoggins") -> Abigail Hoggins | T15: =IFERROR(__xludf.DUMMYFUNCTION("""COMPUTED_VALUE"""),"Ahru Lee") -> Ahru Lee
A16: =IFERROR(__xludf.DUMMYFUNCTION("""COMPUTED_VALUE"""),"A") -> A | B16: =IFERROR(__xludf.DUMMYFUNCTION("""COMPUTED_VALUE"""),"Avery Ma") -> Avery Ma | C16: =IFERROR(__xludf.DUMMYFUNCTION("""COMPUTED_VALUE"""),11) -> 11 | D16: =IFERROR(__xludf.DUMMYFUNCTION("""COMPUTED_VALUE"""),"G") -> G | E16: =IFERROR(__xludf.DUMMYFUNCTION("""COMPUTED_VALUE"""),"J") -> J | F16: =IFERROR(__xludf.DUMMYFUNCTION("""COMPUTED_VALUE"""),"I") -> I | G16: =IFERROR(__xludf.DUMMYFUNCTION("""COMPUTED_VALUE"""),7) -> 7 | H16: =IFERROR(__xludf.DUMMYFUNCTION("""COMPUTED_VALUE"""),"A") -> A | I16: =IFERROR(__xludf.DUMMYFUNCTION("""COMPUTED_VALUE"""),6) -> 6 | J16: =IFERROR(__xludf.DUMMYFUNCTION("""COMPUTED_VALUE"""),4) -> 4 | K16: =IFERROR(__xludf.DUMMYFUNCTION("""COMPUTED_VALUE"""),80.55) -> 80.55 | O16: =IFERROR(__xludf.DUMMYFUNCTION("""COMPUTED_VALUE"""),80.55) -> 80.55 | Q16: =IFERROR(__xludf.DUMMYFUNCTION("""COMPUTED_VALUE"""),"Abigail Quint") -> Abigail Quint | R16: =IFERROR(__xludf.DUMMYFUNCTION("""COMPUTED_VALUE"""),"Alejandro Pereira") -> Alejandro Pereira | S16: =IFERROR(__xludf.DUMMYFUNCTION("""COMPUTED_VALUE"""),"Abigail Menjivar") -> Abigail Menjivar | T16: =IFERROR(__xludf.DUMMYFUNCTION("""COMPUTED_VALUE"""),"Aidan McGarry") -> Aidan McGarry
A17: =IFERROR(__xludf.DUMMYFUNCTION("""COMPUTED_VALUE"""),"A") -> A | B17: =IFERROR(__xludf.DUMMYFUNCTION("""COMPUTED_VALUE"""),"Foster Middendorf") -> Foster Middendorf | C17: =IFERROR(__xludf.DUMMYFUNCTION("""COMPUTED_VALUE"""),11) -> 11 | D17: =IFERROR(__xludf.DUMMYFUNCTION("""COMPUTED_VALUE"""),"B") -> B | E17: =IFERROR(__xludf.DUMMYFUNCTION("""COMPUTED_VALUE"""),"J") -> J | F17: =IFERROR(__xludf.DUMMYFUNCTION("""COMPUTED_VALUE"""),"I") -> I | G17: =IFERROR(__xludf.DUMMYFUNCTION("""COMPUTED_VALUE"""),7) -> 7 | H17: =IFERROR(__xludf.DUMMYFUNCTION("""COMPUTED_VALUE"""),"A") -> A | I17: =IFERROR(__xludf.DUMMYFUNCTION("""COMPUTED_VALUE"""),7) -> 7 | J17: =IFERROR(__xludf.DUMMYFUNCTION("""COMPUTED_VALUE"""),0) -> 0 | Q17: =IFERROR(__xludf.DUMMYFUNCTION("""COMPUTED_VALUE"""),"Abigail Webster") -> Abigail Webster | R17: =IFERROR(__xludf.DUMMYFUNCTION("""COMPUTED_VALUE"""),"Aleko Misitzis") -> Aleko Misitzis | S17: =IFERROR(__xludf.DUMMYFUNCTION("""COMPUTED_VALUE"""),"Abigail Quint") -> Abigail Quint | T17: =IFERROR(__xludf.DUMMYFUNCTION("""COMPUTED_VALUE"""),"Aidan Smith") -> Aidan Smith
A18: =IFERROR(__xludf.DUMMYFUNCTION("""COMPUTED_VALUE"""),"A") -> A | B18: =IFERROR(__xludf.DUMMYFUNCTION("""COMPUTED_VALUE"""),"John Nguyen") -> John Nguyen | C18: =IFERROR(__xludf.DUMMYFUNCTION("""COMPUTED_VALUE"""),12) -> 12 | D18: =IFERROR(__xludf.DUMMYFUNCTION("""COMPUTED_VALUE"""),"B") -> B | E18: =IFERROR(__xludf.DUMMYFUNCTION("""COMPUTED_VALUE"""),"J") -> J | F18: =IFERROR(__xludf.DUMMYFUNCTION("""COMPUTED_VALUE"""),"I") -> I | G18: =IFERROR(__xludf.DUMMYFUNCTION("""COMPUTED_VALUE"""),7) -> 7 | H18: =IFERROR(__xludf.DUMMYFUNCTION("""COMPUTED_VALUE"""),"A") -> A | I18: =IFERROR(__xludf.DUMMYFUNCTION("""COMPUTED_VALUE"""),7) -> 7 | J18: =IFERROR(__xludf.DUMMYFUNCTION("""COMPUTED_VALUE"""),3) -> 3 | K18: =IFERROR(__xludf.DUMMYFUNCTION("""COMPUTED_VALUE"""),74.5) -> 74.5 | M18: =IFERROR(__xludf.DUMMYFUNCTION("""COMPUTED_VALUE"""),74.5) -> 74.5 | Q18: =IFERROR(__xludf.DUMMYFUNCTION("""COMPUTED_VALUE"""),"Acadia Taylor") -> Acadia Taylor | R18: =IFERROR(__xludf.DUMMYFUNCTION("""COMPUTED_VALUE"""),"Alex Aurilio") -> Alex Aurilio | S18: =IFERROR(__xludf.DUMMYFUNCTION("""COMPUTED_VALUE"""),"Abigail Webster") -> Abigail Webster | T18: =IFERROR(__xludf.DUMMYFUNCTION("""COMPUTED_VALUE"""),"Aiden Cox") -> Aiden Cox
A19: =IFERROR(__xludf.DUMMYFUNCTION("""COMPUTED_VALUE"""),"A") -> A | B19: =IFERROR(__xludf.DUMMYFUNCTION("""COMPUTED_VALUE"""),"Logan Cao") -> Logan Cao | C19: =IFERROR(__xludf.DUMMYFUNCTION("""COMPUTED_VALUE"""),12) -> 12 | D19: =IFERROR(__xludf.DUMMYFUNCTION("""COMPUTED_VALUE"""),"B") -> B | E19: =IFERROR(__xludf.DUMMYFUNCTION("""COMPUTED_VALUE"""),"J") -> J | F19: =IFERROR(__xludf.DUMMYFUNCTION("""COMPUTED_VALUE"""),"I") -> I | G19: =IFERROR(__xludf.DUMMYFUNCTION("""COMPUTED_VALUE"""),7) -> 7 | H19: =IFERROR(__xludf.DUMMYFUNCTION("""COMPUTED_VALUE"""),"A") -> A | I19: =IFERROR(__xludf.DUMMYFUNCTION("""COMPUTED_VALUE"""),7) -> 7 | J19: =IFERROR(__xludf.DUMMYFUNCTION("""COMPUTED_VALUE"""),3) -> 3 | K19: =IFERROR(__xludf.DUMMYFUNCTION("""COMPUTED_VALUE"""),87.4) -> 87.4 | Q19: =IFERROR(__xludf.DUMMYFUNCTION("""COMPUTED_VALUE"""),"Ada Goehring") -> Ada Goehring | R19: =IFERROR(__xludf.DUMMYFUNCTION("""COMPUTED_VALUE"""),"Alex Ferssizidis") -> Alex Ferssizidis | S19: =IFERROR(__xludf.DUMMYFUNCTION("""COMPUTED_VALUE"""),"Acadia Taylor") -> Acadia Taylor | T19: =IFERROR(__xludf.DUMMYFUNCTION("""COMPUTED_VALUE"""),"Aiden Kapoor") -> Aiden Kapoor
A20: =IFERROR(__xludf.DUMMYFUNCTION("""COMPUTED_VALUE"""),"A") -> A | B20: =IFERROR(__xludf.DUMMYFUNCTION("""COMPUTED_VALUE"""),"Noah Hua") -> Noah Hua | C20: =IFERROR(__xludf.DUMMYFUNCTION("""COMPUTED_VALUE"""),11) -> 11 | D20: =IFERROR(__xludf.DUMMYFUNCTION("""COMPUTED_VALUE"""),"B") -> B | E20: =IFERROR(__xludf.DUMMYFUNCTION("""COMPUTED_VALUE"""),"J") -> J | F20: =IFERROR(__xludf.DUMMYFUNCTION("""COMPUTED_VALUE"""),"I") -> I | G20: =IFERROR(__xludf.DUMMYFUNCTION("""COMPUTED_VALUE"""),7) -> 7 | H20: =IFERROR(__xludf.DUMMYFUNCTION("""COMPUTED_VALUE"""),"A") -> A | I20: =IFERROR(__xludf.DUMMYFUNCTION("""COMPUTED_VALUE"""),7) -> 7 | J20: =IFERROR(__xludf.DUMMYFUNCTION("""COMPUTED_VALUE"""),5) -> 5 | K20: =IFERROR(__xludf.DUMMYFUNCTION("""COMPUTED_VALUE"""),89.55) -> 89.55 | M20: =IFERROR(__xludf.DUMMYFUNCTION("""COMPUTED_VALUE"""),77.25) -> 77.25 | O20: =IFERROR(__xludf.DUMMYFUNCTION("""COMPUTED_VALUE"""),79.25) -> 79.25 | Q20: =IFERROR(__xludf.DUMMYFUNCTION("""COMPUTED_VALUE"""),"Ada Scherer") -> Ada Scherer | R20: =IFERROR(__xludf.DUMMYFUNCTION("""COMPUTED_VALUE"""),"Alex Kroely") -> Alex Kroely | S20: =IFERROR(__xludf.DUMMYFUNCTION("""COMPUTED_VALUE"""),"Ada Goehring") -> Ada Goehring | T20: =IFERROR(__xludf.DUMMYFUNCTION("""COMPUTED_VALUE"""),"Aiden Miller") -> Aiden Miller
A21: =IFERROR(__xludf.DUMMYFUNCTION("""COMPUTED_VALUE"""),"A") -> A | B21: =IFERROR(__xludf.DUMMYFUNCTION("""COMPUTED_VALUE"""),"Esperanza Hernandez-Giblin") -> Esperanza Hernandez-Giblin | C21: =IFERROR(__xludf.DUMMYFUNCTION("""COMPUTED_VALUE"""),13) -> 13 | D21: =IFERROR(__xludf.DUMMYFUNCTION("""COMPUTED_VALUE"""),"G") -> G | E21: =IFERROR(__xludf.DUMMYFUNCTION("""COMPUTED_VALUE"""),"I") -> I | F21: =IFERROR(__xludf.DUMMYFUNCTION("""COMPUTED_VALUE"""),"S") -> S | G21: =IFERROR(__xludf.DUMMYFUNCTION("""COMPUTED_VALUE"""),7) -> 7 | H21: =IFERROR(__xludf.DUMMYFUNCTION("""COMPUTED_VALUE"""),"A") -> A | I21: =IFERROR(__xludf.DUMMYFUNCTION("""COMPUTED_VALUE"""),8) -> 8 | J21: =IFERROR(__xludf.DUMMYFUNCTION("""COMPUTED_VALUE"""),4) -> 4 | K21: =IFERROR(__xludf.DUMMYFUNCTION("""COMPUTED_VALUE"""),81.8) -> 81.8 | M21: =IFERROR(__xludf.DUMMYFUNCTION("""COMPUTED_VALUE"""),76.85) -> 76.85 | O21: =IFERROR(__xludf.DUMMYFUNCTION("""COMPUTED_VALUE"""),81.8) -> 81.8 | Q21: =IFERROR(__xludf.DUMMYFUNCTION("""COMPUTED_VALUE"""),"Addie Celentano") -> Addie Celentano | R21: =IFERROR(__xludf.DUMMYFUNCTION("""COMPUTED_VALUE"""),"Alex Valmont") -> Alex Valmont | S21: =IFERROR(__xludf.DUMMYFUNCTION("""COMPUTED_VALUE"""),"Ada Jordan") -> Ada Jordan | T21: =IFERROR(__xludf.DUMMYFUNCTION("""COMPUTED_VALUE"""),"Aiden Taylor") -> Aiden Taylor
