Workbook
Name D1_Participants12YOUB: #REF!
Name D1_Participants12YOUG: #REF!
Name D1_Participants13YOA: #REF!
Name D1_Participants13YOOB: #REF!
Name D1_Participants13YOOG: #REF!

Sheet MeetParticipants
A1: ='Lookup-DiverRoster'!$T:$T -> 0 | C1: 45480 | D1: ="NVSL WALLY MARTIN SYNCHRO PARTICIPANTS FOR " & TEXT( C1, "MM/DD/YYYY" ) -> NVSL WALLY MARTIN SYNCHRO PARTICIPANTS FOR 07/07/2024
C2: Age Group | D2: Cnt | E2: Status | G2: Cmnts | H2: =IF(SUM(H3:H7)>0,"D1 Msgs","") -> D1 Msgs | I2: =IF(SUM(I3:I7)>0,"D2 Msgs","") -> D2 Msgs
A3: 1 | C3: 12 & Under Girls | D3: =COUNTIF(INDIRECT("$c$"&VALUE(($A3-1)*100+13)&":"&"$c$"&VALUE(($A3-1)*100+62)),">''") -> 26 | E3: =INDIRECT("D"&VALUE((A3-1)*100+65)) -> 01-Awaiting Scores | G3: =IF(INDIRECT("$c$"&VALUE(($A3-1)*100+80))="","","YES") | H3: =COUNTIF(INDIRECT("$h$"&VALUE(($A3-1)*100+13)&":"&"$h$"&VALUE(($A3-1)*100+62)),">''") -> 0 | I3: =COUNTIF(INDIRECT("$i$"&VALUE(($A3-1)*100+13)&":"&"$i$"&VALUE(($A3-1)*100+62)),">''") -> 0
A4: 2 | C4: 12 & Under Boys | D4: =COUNTIF(INDIRECT("$c$"&VALUE(($A4-1)*100+13)&":"&"$c$"&VALUE(($A4-1)*100+62)),">''") -> 15 | E4: =INDIRECT("D"&VALUE((A4-1)*100+65)) -> 01-Awaiting Scores | G4: =IF(INDIRECT("$c$"&VALUE(($A4-1)*100+80))="","","YES") | H4: =COUNTIF(INDIRECT("$h$"&VALUE(($A4-1)*100+13)&":"&"$h$"&VALUE(($A4-1)*100+62)),">''") -> 0 | I4: =COUNTIF(INDIRECT("$i$"&VALUE(($A4-1)*100+13)&":"&"$i$"&VALUE(($A4-1)*100+62)),">''") -> 0
A5: 3 | C5: 13 & Over Girls | D5: =COUNTIF(INDIRECT("$c$"&VALUE(($A5-1)*100+13)&":"&"$c$"&VALUE(($A5-1)*100+62)),">''") -> 23 | E5: =INDIRECT("D"&VALUE((A5-1)*100+65)) -> 01-Awaiting Scores | G5: =IF(INDIRECT("$c$"&VALUE(($A5-1)*100+80))="","","YES") | H5: =COUNTIF(INDIRECT("$h$"&VALUE(($A5-1)*100+13)&":"&"$h$"&VALUE(($A5-1)*100+62)),">''") -> 1 | I5: =COUNTIF(INDIRECT("$i$"&VALUE(($A5-1)*100+13)&":"&"$i$"&VALUE(($A5-1)*100+62)),">''") -> 3 | K5: Diver Lookups
A6: 4 | C6: 13 & Over Boys | D6: =COUNTIF(INDIRECT("$c$"&VALUE(($A6-1)*100+13)&":"&"$c$"&VALUE(($A6-1)*100+62)),">''") -> 19 | E6: =INDIRECT("D"&VALUE((A6-1)*100+65)) -> 01-Awaiting Scores | G6: =IF(INDIRECT("$c$"&VALUE(($A6-1)*100+80))="","","YES") | H6: =COUNTIF(INDIRECT("$h$"&VALUE(($A6-1)*100+13)&":"&"$h$"&VALUE(($A6-1)*100+62)),">''") -> 3 | I6: =COUNTIF(INDIRECT("$i$"&VALUE(($A6-1)*100+13)&":"&"$i$"&VALUE(($A6-1)*100+62)),">''") -> 1 | K6: Diver 1 Info | Q6: Diver 2 Info
A7: 8 | C7: Total | D7: =SUM(D3:D6) -> 83 | K7: D1Name | L7: D1Club | M7: D1Gend | N7: D1Max | O7: D1Limit | P7: D1Err | Q7: D2Name | R7: D2Club | S7: D2Gend | T7: D2Max | U7: D2Limit | V7: D2Err
A8: =LEFT($D11,2)&"g" -> 12g | C8: ="Age Group: " & D11 -> Age Group: 12 & Under Girls | G8: Event Date: | H8: =C$1 -> 45480
C9: * Enter Diver name, event and score in yellow sections, (enter "DQ" for score as needed) * Diver is allowed to dive-up a division, as long as the other diver is age-appropriate * If you need to move a diver, please DO NOT cut/paste them, please DO copy/paste them instead. * When pasting data, to help preserve the formatting, please use edit>pasteSpecial>valuesOnly (shift+cntl+v), :-)
C10: * Enter Judge, Rep and any comments below Diver Details, and change "Report Status" when done * Click "MeetResults" tab at bottom to review team scores and diver placement
C11: Age and Gender | D11: 12 & Under Girls | K11: =IFERROR(__xludf.DUMMYFUNCTION("ARRAYFORMULA( IF( ( (NOT(ISNUMBER( $A11:$A383 )))+($C11:$C383="""") ), """", SPLIT( VLOOKUP( $C11:$C383, {'Lookup-DiverRoster'!$B:$B , 'Lookup-DiverRoster'!$B:$B & ""|"" & 'Lookup-DiverRoster'!$A:$A & ""|"" & 'Lookup-DiverRoster'!$D:$D & 'Lookup-Div"&"erRoster'!$C:$C & ""|"" & 'Lookup-DiverRoster'!$J:$J }, 2, 0), ""|"", true)))"),"") | L11: =IFERROR(__xludf.DUMMYFUNCTION("""COMPUTED_VALUE"""),"") | M11: =IFERROR(__xludf.DUMMYFUNCTION("""COMPUTED_VALUE"""),"") | N11: =IFERROR(__xludf.DUMMYFUNCTION("""COMPUTED_VALUE"""),"") | Q11: =IFERROR(__xludf.DUMMYFUNCTION("ARRAYFORMULA( IF( ( (NOT(ISNUMBER( $A11:$A383 )))+($E11:$E383="""") ), """", SPLIT( VLOOKUP( $E11:$E383, {'Lookup-DiverRoster'!$B:$B , 'Lookup-DiverRoster'!$B:$B & ""|"" & 'Lookup-DiverRoster'!$A:$A & ""|"" & 'Lookup-DiverRoster'!$D:$D & 'Lookup-Div"&"erRoster'!$C:$C & ""|"" & 'Lookup-DiverRoster'!$J:$J }, 2, 0), ""|"", true)))"),"") | R11: =IFERROR(__xludf.DUMMYFUNCTION("""COMPUTED_VALUE"""),"") | S11: =IFERROR(__xludf.DUMMYFUNCTION("""COMPUTED_VALUE"""),"") | T11: =IFERROR(__xludf.DUMMYFUNCTION("""COMPUTED_VALUE"""),"")
C12: Diver 1 Name | D12: Diver 1 Club | E12: Diver 2 Name | F12: Diver 2 Club | G12: Score | H12: D1 Msgs | I12: D2 Msgs | K12: =IFERROR(__xludf.DUMMYFUNCTION("""COMPUTED_VALUE"""),"") | L12: =IFERROR(__xludf.DUMMYFUNCTION("""COMPUTED_VALUE"""),"") | M12: =IFERROR(__xludf.DUMMYFUNCTION("""COMPUTED_VALUE"""),"") | N12: =IFERROR(__xludf.DUMMYFUNCTION("""COMPUTED_VALUE"""),"") | Q12: =IFERROR(__xludf.DUMMYFUNCTION("""COMPUTED_VALUE"""),"") | R12: =IFERROR(__xludf.DUMMYFUNCTION("""COMPUTED_VALUE"""),"") | S12: =IFERROR(__xludf.DUMMYFUNCTION("""COMPUTED_VALUE"""),"") | T12: =IFERROR(__xludf.DUMMYFUNCTION("""COMPUTED_VALUE"""),"")
A13: {=_xludf.SEQUENCE( 50 )} -> #NAME? | B13: 143 | C13: Ingrid Lander | D13: G | E13: Lacey Niedzialek | F13: G | G13: 37.62 | K13: =IFERROR(__xludf.DUMMYFUNCTION("""COMPUTED_VALUE"""),"Ingrid Lander") -> Ingrid Lander | L13: =IFERROR(__xludf.DUMMYFUNCTION("""COMPUTED_VALUE"""),"G") -> G | M13: =IFERROR(__xludf.DUMMYFUNCTION("""COMPUTED_VALUE"""),"G8") -> G8 | N13: =IFERROR(__xludf.DUMMYFUNCTION("""COMPUTED_VALUE"""),5) -> 5 | P13: =IFERROR(__xludf.DUMMYFUNCTION("ARRAYFORMULA( IF( ( NOT( ISNUMBER( VALUE($A13:$A62)) )+( ( $C13:$C62="""" )*( $E13:$E62="""" ) ) ), """", IF( ISNA( K13:K62 ), ""Diver-NF"", IF( ($K13:$K62 = """") * ($Q13:$Q62 <> """"), ""Diver-NF"", IF( ( ( ISNA( L13:L62 ))+( D13:D62 <>"&" L13:L62 ) ), ""Club-""&L13:L62, IF( VLOOKUP( K13:K62&L13:L62, QUERY( { $C:$C&$D:$D; $E:$E&$F:$F }, ""SELECT Col1, COUNT(Col1) GROUP BY Col1 LABEL COUNT(Col1) ''""),2,0 ) > 1, ""Duplicate"", IF( UPPER( LEFT( M13:M62,1))<> UPPER( RIGHT( $A8, 1)),""Gend"&"er"", IF( VALUE( MID( M13:M62,2,2)) > VALUE( TRIM( LEFT( $D11,2))),""Age-"" & MID( M13:M62,2,2),"""")))) ))))"),"") | Q13: =IFERROR(__xludf.DUMMYFUNCTION("""COMPUTED_VALUE"""),"Lacey Niedzialek") -> Lacey Niedzialek | R13: =IFERROR(__xludf.DUMMYFUNCTION("""COMPUTED_VALUE"""),"G") -> G | S13: =IFERROR(__xludf.DUMMYFUNCTION("""COMPUTED_VALUE"""),"G8") -> G8 | T13: =IFERROR(__xludf.DUMMYFUNCTION("""COMPUTED_VALUE"""),1) -> 1 | U13: {=IF($E13:$E62="","", VLOOKUP(VLOOKUP(VALUE(MID(S13:S62,2,2)),'Lookup-Generic'!$G:$H,2,0)&LEFT(S13:S62,1),'Lookup-Generic'!$M:$N,2,0))} -> 67 | V13: =IFERROR(__xludf.DUMMYFUNCTION("ARRAYFORMULA( IF( ( NOT( ISNUMBER( VALUE($A13:$A62)) )+( ( $C13:$C62="""" )*( $E13:$E62="""" ) ) ), """", IF( ISNA( Q13:Q62 ), ""Diver-NF"", IF( ($K13:$K62 <> """") * ($Q13:$Q62 = """"), ""Diver-NF"", IF( ( ( ISNA( R13:R62 ))+( F13:F62 <"&"> R13:R62 ) ), ""Club-""&R13:R62, IF( VLOOKUP( Q13:Q62&R13:R62, QUERY( { $C:$C&$D:$D; $E:$E&$F:$F }, ""SELECT Col1, COUNT(Col1) GROUP BY Col1 LABEL COUNT(Col1) ''""),2,0 ) > 1, ""Duplicate"", IF( UPPER( LEFT( S13:S62,1))<> UPPER( RIGHT( $A8, 1)),""Gen"&"der"", IF( VALUE( MID( S13:S62,2,2)) > VALUE( TRIM( LEFT( $D11,2))),""Age-"" & MID( S13:S62,2,2),"""")))) ))))"),"")
A14: #NAME? | B14: 385 | C14: Quinn Zahler | D14: RH | E14: Xanthy Kuehne | F14: RH | G14: 70.56 | K14: =IFERROR(__xludf.DUMMYFUNCTION("""COMPUTED_VALUE"""),"Quinn Zahler") -> Quinn Zahler | L14: =IFERROR(__xludf.DUMMYFUNCTION("""COMPUTED_VALUE"""),"RH") -> RH | M14: =IFERROR(__xludf.DUMMYFUNCTION("""COMPUTED_VALUE"""),"G11") -> G11 | N14: =IFERROR(__xludf.DUMMYFUNCTION("""COMPUTED_VALUE"""),4) -> 4 | P14: =IFERROR(__xludf.DUMMYFUNCTION("""COMPUTED_VALUE"""),"") | Q14: =IFERROR(__xludf.DUMMYFUNCTION("""COMPUTED_VALUE"""),"Xanthy Kuehne") -> Xanthy Kuehne | R14: =IFERROR(__xludf.DUMMYFUNCTION("""COMPUTED_VALUE"""),"RH") -> RH | S14: =IFERROR(__xludf.DUMMYFUNCTION("""COMPUTED_VALUE"""),"G11") -> G11 | T14: =IFERROR(__xludf.DUMMYFUNCTION("""COMPUTED_VALUE"""),4) -> 4 | U14: 99 | V14: =IFERROR(__xludf.DUMMYFUNCTION("""COMPUTED_VALUE"""),"")
A15: #NAME? | B15: 470 | C15: Lilly Jessup | D15: RH | E15: Katelyn Thackaberry | F15: RH | G15: 67.65 | K15: =IFERROR(__xludf.DUMMYFUNCTION("""COMPUTED_VALUE"""),"Lilly Jessup") -> Lilly Jessup | L15: =IFERROR(__xludf.DUMMYFUNCTION("""COMPUTED_VALUE"""),"RH") -> RH | M15: =IFERROR(__xludf.DUMMYFUNCTION("""COMPUTED_VALUE"""),"G12") -> G12 | N15: =IFERROR(__xludf.DUMMYFUNCTION("""COMPUTED_VALUE"""),4) -> 4 | P15: =IFERROR(__xludf.DUMMYFUNCTION("""COMPUTED_VALUE"""),"") | Q15: =IFERROR(__xludf.DUMMYFUNCTION("""COMPUTED_VALUE"""),"Katelyn Thackaberry") -> Katelyn Thackaberry | R15: =IFERROR(__xludf.DUMMYFUNCTION("""COMPUTED_VALUE"""),"RH") -> RH | S15: =IFERROR(__xludf.DUMMYFUNCTION("""COMPUTED_VALUE"""),"G12") -> G12 | T15: =IFERROR(__xludf.DUMMYFUNCTION("""COMPUTED_VALUE"""),5) -> 5 | U15: 99 | V15: =IFERROR(__xludf.DUMMYFUNCTION("""COMPUTED_VALUE"""),"")
A16: #NAME? | B16: 512 | C16: Artemisia Hashemi | D16: HSC | E16: Grace Wegner | F16: HSC | G16: 53.67 | K16: =IFERROR(__xludf.DUMMYFUNCTION("""COMPUTED_VALUE"""),"Artemisia Hashemi") -> Artemisia Hashemi | L16: =IFERROR(__xludf.DUMMYFUNCTION("""COMPUTED_VALUE"""),"HSC") -> HSC | M16: =IFERROR(__xludf.DUMMYFUNCTION("""COMPUTED_VALUE"""),"G11") -> G11 | N16: =IFERROR(__xludf.DUMMYFUNCTION("""COMPUTED_VALUE"""),5) -> 5 | P16: =IFERROR(__xludf.DUMMYFUNCTION("""COMPUTED_VALUE"""),"") | Q16: =IFERROR(__xludf.DUMMYFUNCTION("""COMPUTED_VALUE"""),"Grace Wegner") -> Grace Wegner | R16: =IFERROR(__xludf.DUMMYFUNCTION("""COMPUTED_VALUE"""),"HSC") -> HSC | S16: =IFERROR(__xludf.DUMMYFUNCTION("""COMPUTED_VALUE"""),"G10") -> G10 | T16: =IFERROR(__xludf.DUMMYFUNCTION("""COMPUTED_VALUE"""),5) -> 5 | U16: 67 | V16: =IFERROR(__xludf.DUMMYFUNCTION("""COMPUTED_VALUE"""),"")
A17: #NAME? | B17: 757 | C17: Victoria Williams | D17: FS | E17: Elizabeth Pidgeon | F17: FS | G17: 62.82 | K17: =IFERROR(__xludf.DUMMYFUNCTION("""COMPUTED_VALUE"""),"Victoria Williams") -> Victoria Williams | L17: =IFERROR(__xludf.DUMMYFUNCTION("""COMPUTED_VALUE"""),"FS") -> FS | M17: =IFERROR(__xludf.DUMMYFUNCTION("""COMPUTED_VALUE"""),"G10") -> G10 | N17: =IFERROR(__xludf.DUMMYFUNCTION("""COMPUTED_VALUE"""),4) -> 4 | P17: =IFERROR(__xludf.DUMMYFUNCTION("""COMPUTED_VALUE"""),"") | Q17: =IFERROR(__xludf.DUMMYFUNCTION("""COMPUTED_VALUE"""),"Elizabeth Pidgeon") -> Elizabeth Pidgeon | R17: =IFERROR(__xludf.DUMMYFUNCTION("""COMPUTED_VALUE"""),"FS") -> FS | S17: =IFERROR(__xludf.DUMMYFUNCTION("""COMPUTED_VALUE"""),"G11") -> G11 | T17: =IFERROR(__xludf.DUMMYFUNCTION("""COMPUTED_VALUE"""),5) -> 5 | U17: 99 | V17: =IFERROR(__xludf.DUMMYFUNCTION("""COMPUTED_VALUE"""),"")
A18: #NAME? | B18: 811 | C18: Finley McDonnell | D18: DR | E18: Harper Bassler | F18: T | G18: 50.73 | K18: =IFERROR(__xludf.DUMMYFUNCTION("""COMPUTED_VALUE"""),"Finley McDonnell") -> Finley McDonnell | L18: =IFERROR(__xludf.DUMMYFUNCTION("""COMPUTED_VALUE"""),"DR") -> DR | M18: =IFERROR(__xludf.DUMMYFUNCTION("""COMPUTED_VALUE"""),"G10") -> G10 | N18: =IFERROR(__xludf.DUMMYFUNCTION("""COMPUTED_VALUE"""),5) -> 5 | P18: =IFERROR(__xludf.DUMMYFUNCTION("""COMPUTED_VALUE"""),"") | Q18: =IFERROR(__xludf.DUMMYFUNCTION("""COMPUTED_VALUE"""),"Harper Bassler") -> Harper Bassler | R18: =IFERROR(__xludf.DUMMYFUNCTION("""COMPUTED_VALUE"""),"T") -> T | S18: =IFERROR(__xludf.DUMMYFUNCTION("""COMPUTED_VALUE"""),"G10") -> G10 | T18: =IFERROR(__xludf.DUMMYFUNCTION("""COMPUTED_VALUE"""),4) -> 4 | U18: 67 | V18: =IFERROR(__xludf.DUMMYFUNCTION("""COMPUTED_VALUE"""),"")
A19: #NAME? | B19: 958 | C19: Evelyn Sanders | D19: GF | E19: Bennett Barletta | F19: GF | G19: 60.03 | K19: =IFERROR(__xludf.DUMMYFUNCTION("""COMPUTED_VALUE"""),"Evelyn Sanders") -> Evelyn Sanders | L19: =IFERROR(__xludf.DUMMYFUNCTION("""COMPUTED_VALUE"""),"GF") -> GF | M19: =IFERROR(__xludf.DUMMYFUNCTION("""COMPUTED_VALUE"""),"G12") -> G12 | N19: =IFERROR(__xludf.DUMMYFUNCTION("""COMPUTED_VALUE"""),5) -> 5 | P19: =IFERROR(__xludf.DUMMYFUNCTION("""COMPUTED_VALUE"""),"") | Q19: =IFERROR(__xludf.DUMMYFUNCTION("""COMPUTED_VALUE"""),"Bennett Barletta") -> Bennett Barletta | R19: =IFERROR(__xludf.DUMMYFUNCTION("""COMPUTED_VALUE"""),"GF") -> GF | S19: =IFERROR(__xludf.DUMMYFUNCTION("""COMPUTED_VALUE"""),"G12") -> G12 | T19: =IFERROR(__xludf.DUMMYFUNCTION("""COMPUTED_VALUE"""),4) -> 4 | U19: 99 | V19: =IFERROR(__xludf.DUMMYFUNCTION("""COMPUTED_VALUE"""),"")
A20: #NAME? | B20: 1325 | C20: Hadley Miller | D20: PAR | E20: Elena Scott | F20: PAR | G20: 42.18 | K20: =IFERROR(__xludf.DUMMYFUNCTION("""COMPUTED_VALUE"""),"Hadley Miller") -> Hadley Miller | L20: =IFERROR(__xludf.DUMMYFUNCTION("""COMPUTED_VALUE"""),"PAR") -> PAR | M20: =IFERROR(__xludf.DUMMYFUNCTION("""COMPUTED_VALUE"""),"G9") -> G9 | N20: =IFERROR(__xludf.DUMMYFUNCTION("""COMPUTED_VALUE"""),5) -> 5 | P20: =IFERROR(__xludf.DUMMYFUNCTION("""COMPUTED_VALUE"""),"") | Q20: =IFERROR(__xludf.DUMMYFUNCTION("""COMPUTED_VALUE"""),"Elena Scott") -> Elena Scott | R20: =IFERROR(__xludf.DUMMYFUNCTION("""COMPUTED_VALUE"""),"PAR") -> PAR | S20: =IFERROR(__xludf.DUMMYFUNCTION("""COMPUTED_VALUE"""),"G9") -> G9 | T20: =IFERROR(__xludf.DUMMYFUNCTION("""COMPUTED_VALUE"""),5) -> 5 | U20: 67 | V20: =IFERROR(__xludf.DUMMYFUNCTION("""COMPUTED_VALUE"""),"")
A21: #NAME? | B21: 1427 | C21: Josephine Wills | D21: PAR | E21: Ally Argenta | F21: PAR | G21: 51.09 | K21: =IFERROR(__xludf.DUMMYFUNCTION("""COMPUTED_VALUE"""),"Josephine Wills") -> Josephine Wills | L21: =IFERROR(__xludf.DUMMYFUNCTION("""COMPUTED_VALUE"""),"PAR") -> PAR | M21: =IFERROR(__xludf.DUMMYFUNCTION("""COMPUTED_VALUE"""),"G10") -> G10 | N21: =IFERROR(__xludf.DUMMYFUNCTION("""COMPUTED_VALUE"""),4) -> 4 | P21: =IFERROR(__xludf.DUMMYFUNCTION("""COMPUTED_VALUE"""),"") | Q21: =IFERROR(__xludf.DUMMYFUNCTION("""COMPUTED_VALUE"""),"Ally Argenta") -> Ally Argenta | R21: =IFERROR(__xludf.DUMMYFUNCTION("""COMPUTED_VALUE"""),"PAR") -> PAR | S21: =IFERROR(__xludf.DUMMYFUNCTION("""COMPUTED_VALUE"""),"G9") -> G9 | T21: =IFERROR(__xludf.DUMMYFUNCTION("""COMPUTED_VALUE"""),4) -> 4 | U21: 67 | V21: =IFERROR(__xludf.DUMMYFUNCTION("""COMPUTED_VALUE"""),"")
A22: #NAME? | B22: 1605 | C22: Emma Fricke | D22: G | E22: Leighton Raich | F22: G | G22: 65.28 | K22: =IFERROR(__xludf.DUMMYFUNCTION("""COMPUTED_VALUE"""),"Emma Fricke") -> Emma Fricke | L22: =IFERROR(__xludf.DUMMYFUNCTION("""COMPUTED_VALUE"""),"G") -> G | M22: =IFERROR(__xludf.DUMMYFUNCTION("""COMPUTED_VALUE"""),"G12") -> G12 | N22: =IFERROR(__xludf.DUMMYFUNCTION("""COMPUTED_VALUE"""),4) -> 4 | P22: =IFERROR(__xludf.DUMMYFUNCTION("""COMPUTED_VALUE"""),"") | Q22: =IFERROR(__xludf.DUMMYFUNCTION("""COMPUTED_VALUE"""),"Leighton Raich") -> Leighton Raich | R22: =IFERROR(__xludf.DUMMYFUNCTION("""COMPUTED_VALUE"""),"G") -> G | S22: =IFERROR(__xludf.DUMMYFUNCTION("""COMPUTED_VALUE"""),"G12") -> G12 | T22: =IFERROR(__xludf.DUMMYFUNCTION("""COMPUTED_VALUE"""),5) -> 5 | U22: 99 | V22: =IFERROR(__xludf.DUMMYFUNCTION("""COMPUTED_VALUE"""),"")
A23: #NAME? | B23: 1791 | C23: Ellie Phillips | D23: CSC | E23: Emma Magness | F23: CSC | G23: 53.82 | K23: =IFERROR(__xludf.DUMMYFUNCTION("""COMPUTED_VALUE"""),"Ellie Phillips") -> Ellie Phillips | L23: =IFERROR(__xludf.DUMMYFUNCTION("""COMPUTED_VALUE"""),"CSC") -> CSC | M23: =IFERROR(__xludf.DUMMYFUNCTION("""COMPUTED_VALUE"""),"G9") -> G9 | N23: =IFERROR(__xludf.DUMMYFUNCTION("""COMPUTED_VALUE"""),5) -> 5 | P23: =IFERROR(__xludf.DUMMYFUNCTION("""COMPUTED_VALUE"""),"") | Q23: =IFERROR(__xludf.DUMMYFUNCTION("""COMPUTED_VALUE"""),"Emma Magness") -> Emma Magness | R23: =IFERROR(__xludf.DUMMYFUNCTION("""COMPUTED_VALUE"""),"CSC") -> CSC | S23: =IFERROR(__xludf.DUMMYFUNCTION("""COMPUTED_VALUE"""),"G11") -> G11 | T23: =IFERROR(__xludf.DUMMYFUNCTION("""COMPUTED_VALUE"""),5) -> 5 | U23: 99 | V23: =IFERROR(__xludf.DUMMYFUNCTION("""COMPUTED_VALUE"""),"")
A24: #NAME? | B24: 2061 | C24: Victoria Beier | D24: AF | E24: Vi Robert | F24: AF | G24: 39.45 | K24: =IFERROR(__xludf.DUMMYFUNCTION("""COMPUTED_VALUE"""),"Victoria Beier") -> Victoria Beier | L24: =IFERROR(__xludf.DUMMYFUNCTION("""COMPUTED_VALUE"""),"AF") -> AF | M24: =IFERROR(__xludf.DUMMYFUNCTION("""COMPUTED_VALUE"""),"G9") -> G9 | N24: =IFERROR(__xludf.DUMMYFUNCTION("""COMPUTED_VALUE"""),4) -> 4 | P24: =IFERROR(__xludf.DUMMYFUNCTION("""COMPUTED_VALUE"""),"") | Q24: =IFERROR(__xludf.DUMMYFUNCTION("""COMPUTED_VALUE"""),"Vi Robert") -> Vi Robert | R24: =IFERROR(__xludf.DUMMYFUNCTION("""COMPUTED_VALUE"""),"AF") -> AF | S24: =IFERROR(__xludf.DUMMYFUNCTION("""COMPUTED_VALUE"""),"G9") -> G9 | T24: =IFERROR(__xludf.DUMMYFUNCTION("""COMPUTED_VALUE"""),4) -> 4 | U24: 67 | V24: =IFERROR(__xludf.DUMMYFUNCTION("""COMPUTED_VALUE"""),"")
A25: #NAME? | B25: 2238 | C25: CeCe St. Jacques | D25: OAK | E25: Alice Henderson | F25: OAK | G25: 23.94 | K25: =IFERROR(__xludf.DUMMYFUNCTION("""COMPUTED_VALUE"""),"CeCe St. Jacques") -> CeCe St. Jacques | L25: =IFERROR(__xludf.DUMMYFUNCTION("""COMPUTED_VALUE"""),"OAK") -> OAK | M25: =IFERROR(__xludf.DUMMYFUNCTION("""COMPUTED_VALUE"""),"G8") -> G8 | N25: =IFERROR(__xludf.DUMMYFUNCTION("""COMPUTED_VALUE"""),1) -> 1 | P25: =IFERROR(__xludf.DUMMYFUNCTION("""COMPUTED_VALUE"""),"") | Q25: =IFERROR(__xludf.DUMMYFUNCTION("""COMPUTED_VALUE"""),"Alice Henderson") -> Alice Henderson | R25: =IFERROR(__xludf.DUMMYFUNCTION("""COMPUTED_VALUE"""),"OAK") -> OAK | S25: =IFERROR(__xludf.DUMMYFUNCTION("""COMPUTED_VALUE"""),"G7") -> G7 | T25: =IFERROR(__xludf.DUMMYFUNCTION("""COMPUTED_VALUE"""),2) -> 2 | U25: 67 | V25: =IFERROR(__xludf.DUMMYFUNCTION("""COMPUTED_VALUE"""),"")
A26: #NAME? | B26: 2355 | C26: Sophia Blanco | D26: OAK | E26: Chloe Sanglier | F26: OAK | G26: 53.88 | K26: =IFERROR(__xludf.DUMMYFUNCTION("""COMPUTED_VALUE"""),"Sophia Blanco") -> Sophia Blanco | L26: =IFERROR(__xludf.DUMMYFUNCTION("""COMPUTED_VALUE"""),"OAK") -> OAK | M26: =IFERROR(__xludf.DUMMYFUNCTION("""COMPUTED_VALUE"""),"G10") -> G10 | N26: =IFERROR(__xludf.DUMMYFUNCTION("""COMPUTED_VALUE"""),5) -> 5 | P26: =IFERROR(__xludf.DUMMYFUNCTION("""COMPUTED_VALUE"""),"") | Q26: =IFERROR(__xludf.DUMMYFUNCTION("""COMPUTED_VALUE"""),"Chloe Sanglier") -> Chloe Sanglier | R26: =IFERROR(__xludf.DUMMYFUNCTION("""COMPUTED_VALUE"""),"OAK") -> OAK | S26: =IFERROR(__xludf.DUMMYFUNCTION("""COMPUTED_VALUE"""),"G9") -> G9 | T26: =IFERROR(__xludf.DUMMYFUNCTION("""COMPUTED_VALUE"""),5) -> 5 | U26: 67 | V26: =IFERROR(__xludf.DUMMYFUNCTION("""COMPUTED_VALUE"""),"")
A27: #NAME? | B27: 2710 | C27: Simone Wilson | D27: OAK | E27: Lauren Emerick | F27: OAK | G27: 65.22 | K27: =IFERROR(__xludf.DUMMYFUNCTION("""COMPUTED_VALUE"""),"Simone Wilson") -> Simone Wilson | L27: =IFERROR(__xludf.DUMMYFUNCTION("""COMPUTED_VALUE"""),"OAK") -> OAK | M27: =IFERROR(__xludf.DUMMYFUNCTION("""COMPUTED_VALUE"""),"G12") -> G12 | N27: =IFERROR(__xludf.DUMMYFUNCTION("""COMPUTED_VALUE"""),5) -> 5 | P27: =IFERROR(__xludf.DUMMYFUNCTION("""COMPUTED_VALUE"""),"") | Q27: =IFERROR(__xludf.DUMMYFUNCTION("""COMPUTED_VALUE"""),"Lauren Emerick") -> Lauren Emerick | R27: =IFERROR(__xludf.DUMMYFUNCTION("""COMPUTED_VALUE"""),"OAK") -> OAK | S27: =IFERROR(__xludf.DUMMYFUNCTION("""COMPUTED_VALUE"""),"G12") -> G12 | T27: =IFERROR(__xludf.DUMMYFUNCTION("""COMPUTED_VALUE"""),5) -> 5 | U27: 99 | V27: =IFERROR(__xludf.DUMMYFUNCTION("""COMPUTED_VALUE"""),"")
A28: #NAME? | B28: 2805 | C28: Holly Denniston | D28: KG | E28: Julia Denniston | F28: KG | G28: 65.43 | K28: =IFERROR(__xludf.DUMMYFUNCTION("""COMPUTED_VALUE"""),"Holly Denniston") -> Holly Denniston | L28: =IFERROR(__xludf.DUMMYFUNCTION("""COMPUTED_VALUE"""),"KG") -> KG | M28: =IFERROR(__xludf.DUMMYFUNCTION("""COMPUTED_VALUE"""),"G9") -> G9 | N28: =IFERROR(__xludf.DUMMYFUNCTION("""COMPUTED_VALUE"""),5) -> 5 | P28: =IFERROR(__xludf.DUMMYFUNCTION("""COMPUTED_VALUE"""),"") | Q28: =IFERROR(__xludf.DUMMYFUNCTION("""COMPUTED_VALUE"""),"Julia Denniston") -> Julia Denniston | R28: =IFERROR(__xludf.DUMMYFUNCTION("""COMPUTED_VALUE"""),"KG") -> KG | S28: =IFERROR(__xludf.DUMMYFUNCTION("""COMPUTED_VALUE"""),"G11") -> G11 | T28: =IFERROR(__xludf.DUMMYFUNCTION("""COMPUTED_VALUE"""),5) -> 5 | U28: 99 | V28: =IFERROR(__xludf.DUMMYFUNCTION("""COMPUTED_VALUE"""),"")
A29: #NAME? | B29: 2838 | C29: Norah Wittman | D29: KG | E29: Kira Bhasin | F29: KG | G29: 58.41 | K29: =IFERROR(__xludf.DUMMYFUNCTION("""COMPUTED_VALUE"""),"Norah Wittman") -> Norah Wittman | L29: =IFERROR(__xludf.DUMMYFUNCTION("""COMPUTED_VALUE"""),"KG") -> KG | M29: =IFERROR(__xludf.DUMMYFUNCTION("""COMPUTED_VALUE"""),"G10") -> G10 | N29: =IFERROR(__xludf.DUMMYFUNCTION("""COMPUTED_VALUE"""),5) -> 5 | P29: =IFERROR(__xludf.DUMMYFUNCTION("""COMPUTED_VALUE"""),"") | Q29: =IFERROR(__xludf.DUMMYFUNCTION("""COMPUTED_VALUE"""),"Kira Bhasin") -> Kira Bhasin | R29: =IFERROR(__xludf.DUMMYFUNCTION("""COMPUTED_VALUE"""),"KG") -> KG | S29: =IFERROR(__xludf.DUMMYFUNCTION("""COMPUTED_VALUE"""),"G11") -> G11 | T29: =IFERROR(__xludf.DUMMYFUNCTION("""COMPUTED_VALUE"""),5) -> 5 | U29: 99 | V29: =IFERROR(__xludf.DUMMYFUNCTION("""COMPUTED_VALUE"""),"")
A30: #NAME? | B30: 3240 | C30: Mouse Guy | D30: HP | E30: Leah Jandrain | F30: HP | G30: 64.23 | K30: =IFERROR(__xludf.DUMMYFUNCTION("""COMPUTED_VALUE"""),"Mouse Guy") -> Mouse Guy | L30: =IFERROR(__xludf.DUMMYFUNCTION("""COMPUTED_VALUE"""),"HP") -> HP | M30: =IFERROR(__xludf.DUMMYFUNCTION("""COMPUTED_VALUE"""),"G11") -> G11 | N30: =IFERROR(__xludf.DUMMYFUNCTION("""COMPUTED_VALUE"""),5) -> 5 | P30: =IFERROR(__xludf.DUMMYFUNCTION("""COMPUTED_VALUE"""),"") | Q30: =IFERROR(__xludf.DUMMYFUNCTION("""COMPUTED_VALUE"""),"Leah Jandrain") -> Leah Jandrain | R30: =IFERROR(__xludf.DUMMYFUNCTION("""COMPUTED_VALUE"""),"HP") -> HP | S30: =IFERROR(__xludf.DUMMYFUNCTION("""COMPUTED_VALUE"""),"G11") -> G11 | T30: =IFERROR(__xludf.DUMMYFUNCTION("""COMPUTED_VALUE"""),4) -> 4 | U30: 99 | V30: =IFERROR(__xludf.DUMMYFUNCTION("""COMPUTED_VALUE"""),"")
A31: #NAME? | B31: 3326 | C31: Cora Bellomo | D31: SR | E31: Kendall Wilson | F31: SR | G31: 54.72 | K31: =IFERROR(__xludf.DUMMYFUNCTION("""COMPUTED_VALUE"""),"Cora Bellomo") -> Cora Bellomo | L31: =IFERROR(__xludf.DUMMYFUNCTION("""COMPUTED_VALUE"""),"SR") -> SR | M31: =IFERROR(__xludf.DUMMYFUNCTION("""COMPUTED_VALUE"""),"G11") -> G11 | N31: =IFERROR(__xludf.DUMMYFUNCTION("""COMPUTED_VALUE"""),5) -> 5 | P31: =IFERROR(__xludf.DUMMYFUNCTION("""COMPUTED_VALUE"""),"") | Q31: =IFERROR(__xludf.DUMMYFUNCTION("""COMPUTED_VALUE"""),"Kendall Wilson") -> Kendall Wilson | R31: =IFERROR(__xludf.DUMMYFUNCTION("""COMPUTED_VALUE"""),"SR") -> SR | S31: =IFERROR(__xludf.DUMMYFUNCTION("""COMPUTED_VALUE"""),"G11") -> G11 | T31: =IFERROR(__xludf.DUMMYFUNCTION("""COMPUTED_VALUE"""),5) -> 5 | U31: 99 | V31: =IFERROR(__xludf.DUMMYFUNCTION("""COMPUTED_VALUE"""),"")
A32: #NAME? | B32: 3395 | C32: Payton Bennett | D32: HV | E32: Lillian Gunderson | F32: HV | G32: 60.93 | K32: =IFERROR(__xludf.DUMMYFUNCTION("""COMPUTED_VALUE"""),"Payton Bennett") -> Payton Bennett | L32: =IFERROR(__xludf.DUMMYFUNCTION("""COMPUTED_VALUE"""),"HV") -> HV | M32: =IFERROR(__xludf.DUMMYFUNCTION("""COMPUTED_VALUE"""),"G9") -> G9 | N32: =IFERROR(__xludf.DUMMYFUNCTION("""COMPUTED_VALUE"""),5) -> 5 | P32: =IFERROR(__xludf.DUMMYFUNCTION("""COMPUTED_VALUE"""),"") | Q32: =IFERROR(__xludf.DUMMYFUNCTION("""COMPUTED_VALUE"""),"Lillian Gunderson") -> Lillian Gunderson | R32: =IFERROR(__xludf.DUMMYFUNCTION("""COMPUTED_VALUE"""),"HV") -> HV | S32: =IFERROR(__xludf.DUMMYFUNCTION("""COMPUTED_VALUE"""),"G9") -> G9 | T32: =IFERROR(__xludf.DUMMYFUNCTION("""COMPUTED_VALUE"""),4) -> 4 | U32: 67 | V32: =IFERROR(__xludf.DUMMYFUNCTION("""COMPUTED_VALUE"""),"")
A33: #NAME? | B33: 3506 | C33: Mallory Brown | D33: OKM | E33: Taylor Kluger | F33: OKM | G33: 55.83 | K33: =IFERROR(__xludf.DUMMYFUNCTION("""COMPUTED_VALUE"""),"Mallory Brown") -> Mallory Brown | L33: =IFERROR(__xludf.DUMMYFUNCTION("""COMPUTED_VALUE"""),"OKM") -> OKM | M33: =IFERROR(__xludf.DUMMYFUNCTION("""COMPUTED_VALUE"""),"G10") -> G10 | N33: =IFERROR(__xludf.DUMMYFUNCTION("""COMPUTED_VALUE"""),4) -> 4 | P33: =IFERROR(__xludf.DUMMYFUNCTION("""COMPUTED_VALUE"""),"") | Q33: =IFERROR(__xludf.DUMMYFUNCTION("""COMPUTED_VALUE"""),"Taylor Kluger") -> Taylor Kluger | R33: =IFERROR(__xludf.DUMMYFUNCTION("""COMPUTED_VALUE"""),"OKM") -> OKM | S33: =IFERROR(__xludf.DUMMYFUNCTION("""COMPUTED_VALUE"""),"G11") -> G11 | T33: =IFERROR(__xludf.DUMMYFUNCTION("""COMPUTED_VALUE"""),3) -> 3 | U33: 99 | V33: =IFERROR(__xludf.DUMMYFUNCTION("""COMPUTED_VALUE"""),"")
A34: #NAME? | B34: 3523 | C34: Bella DeSando | D34: DL | E34: Stella Baldeon Masturzo | F34: DL | G34: 55.68 | K34: =IFERROR(__xludf.DUMMYFUNCTION("""COMPUTED_VALUE"""),"Bella DeSando") -> Bella DeSando | L34: =IFERROR(__xludf.DUMMYFUNCTION("""COMPUTED_VALUE"""),"DL") -> DL | M34: =IFERROR(__xludf.DUMMYFUNCTION("""COMPUTED_VALUE"""),"G9") -> G9 | N34: =IFERROR(__xludf.DUMMYFUNCTION("""COMPUTED_VALUE"""),4) -> 4 | P34: =IFERROR(__xludf.DUMMYFUNCTION("""COMPUTED_VALUE"""),"") | Q34: =IFERROR(__xludf.DUMMYFUNCTION("""COMPUTED_VALUE"""),"Stella Baldeon Masturzo") -> Stella Baldeon Masturzo | R34: =IFERROR(__xludf.DUMMYFUNCTION("""COMPUTED_VALUE"""),"DL") -> DL | S34: =IFERROR(__xludf.DUMMYFUNCTION("""COMPUTED_VALUE"""),"G10") -> G10 | T34: =IFERROR(__xludf.DUMMYFUNCTION("""COMPUTED_VALUE"""),5) -> 5 | U34: 67 | V34: =IFERROR(__xludf.DUMMYFUNCTION("""COMPUTED_VALUE"""),"")
A35: #NAME? | B35: 3823 | C35: Clara Beatty | D35: DL | E35: Erin Martonik | F35: DL | G35: 59.07 | K35: =IFERROR(__xludf.DUMMYFUNCTION("""COMPUTED_VALUE"""),"Clara Beatty") -> Clara Beatty | L35: =IFERROR(__xludf.DUMMYFUNCTION("""COMPUTED_VALUE"""),"DL") -> DL | M35: =IFERROR(__xludf.DUMMYFUNCTION("""COMPUTED_VALUE"""),"G12") -> G12 | N35: =IFERROR(__xludf.DUMMYFUNCTION("""COMPUTED_VALUE"""),5) -> 5 | P35: =IFERROR(__xludf.DUMMYFUNCTION("""COMPUTED_VALUE"""),"") | Q35: =IFERROR(__xludf.DUMMYFUNCTION("""COMPUTED_VALUE"""),"Erin Martonik") -> Erin Martonik | R35: =IFERROR(__xludf.DUMMYFUNCTION("""COMPUTED_VALUE"""),"DL") -> DL | S35: =IFERROR(__xludf.DUMMYFUNCTION("""COMPUTED_VALUE"""),"G12") -> G12 | T35: =IFERROR(__xludf.DUMMYFUNCTION("""COMPUTED_VALUE"""),5) -> 5 | U35: 99 | V35: =IFERROR(__xludf.DUMMYFUNCTION("""COMPUTED_VALUE"""),"")
A36: #NAME? | B36: 4124 | C36: Elise Esquivel | D36: DL | E36: Carina Bosco | F36: DL | G36: 55.92 | K36: =IFERROR(__xludf.DUMMYFUNCTION("""COMPUTED_VALUE"""),"Elise Esquivel") -> Elise Esquivel | L36: =IFERROR(__xludf.DUMMYFUNCTION("""COMPUTED_VALUE"""),"DL") -> DL | M36: =IFERROR(__xludf.DUMMYFUNCTION("""COMPUTED_VALUE"""),"G10") -> G10 | N36: =IFERROR(__xludf.DUMMYFUNCTION("""COMPUTED_VALUE"""),5) -> 5 | P36: =IFERROR(__xludf.DUMMYFUNCTION("""COMPUTED_VALUE"""),"") | Q36: =IFERROR(__xludf.DUMMYFUNCTION("""COMPUTED_VALUE"""),"Carina Bosco") -> Carina Bosco | R36: =IFERROR(__xludf.DUMMYFUNCTION("""COMPUTED_VALUE"""),"DL") -> DL | S36: =IFERROR(__xludf.DUMMYFUNCTION("""COMPUTED_VALUE"""),"G9") -> G9 | T36: =IFERROR(__xludf.DUMMYFUNCTION("""COMPUTED_VALUE"""),4) -> 4 | U36: 67 | V36: =IFERROR(__xludf.DUMMYFUNCTION("""COMPUTED_VALUE"""),"")
A37: #NAME? | B37: 4454 | C37: Hannah Waters | D37: PAR | E37: Sofia Stanley | F37: PAR | G37: 39.51 | K37: =IFERROR(__xludf.DUMMYFUNCTION("""COMPUTED_VALUE"""),"Hannah Waters") -> Hannah Waters | L37: =IFERROR(__xludf.DUMMYFUNCTION("""COMPUTED_VALUE"""),"PAR") -> PAR | M37: =IFERROR(__xludf.DUMMYFUNCTION("""COMPUTED_VALUE"""),"G10") -> G10 | N37: =IFERROR(__xludf.DUMMYFUNCTION("""COMPUTED_VALUE"""),5) -> 5 | P37: =IFERROR(__xludf.DUMMYFUNCTION("""COMPUTED_VALUE"""),"") | Q37: =IFERROR(__xludf.DUMMYFUNCTION("""COMPUTED_VALUE"""),"Sofia Stanley") -> Sofia Stanley | R37: =IFERROR(__xludf.DUMMYFUNCTION("""COMPUTED_VALUE"""),"PAR") -> PAR | S37: =IFERROR(__xludf.DUMMYFUNCTION("""COMPUTED_VALUE"""),"G9") -> G9 | T37: =IFERROR(__xludf.DUMMYFUNCTION("""COMPUTED_VALUE"""),5) -> 5 | U37: 67 | V37: =IFERROR(__xludf.DUMMYFUNCTION("""COMPUTED_VALUE"""),"")
A38: #NAME? | B38: 5051 | C38: Ari Wiley-Jimenez | D38: GF | E38: Aletheia Wiley-Jimenez | F38: GF | G38: 54.6 | K38: =IFERROR(__xludf.DUMMYFUNCTION("""COMPUTED_VALUE"""),"Ari Wiley-Jimenez") -> Ari Wiley-Jimenez | L38: =IFERROR(__xludf.DUMMYFUNCTION("""COMPUTED_VALUE"""),"GF") -> GF | M38: =IFERROR(__xludf.DUMMYFUNCTION("""COMPUTED_VALUE"""),"G11") -> G11 | N38: =IFERROR(__xludf.DUMMYFUNCTION("""COMPUTED_VALUE"""),5) -> 5 | P38: =IFERROR(__xludf.DUMMYFUNCTION("""COMPUTED_VALUE"""),"") | Q38: =IFERROR(__xludf.DUMMYFUNCTION("""COMPUTED_VALUE"""),"Aletheia Wiley-Jimenez") -> Aletheia Wiley-Jimenez | R38: =IFERROR(__xludf.DUMMYFUNCTION("""COMPUTED_VALUE"""),"GF") -> GF | S38: =IFERROR(__xludf.DUMMYFUNCTION("""COMPUTED_VALUE"""),"G11") -> G11 | T38: =IFERROR(__xludf.DUMMYFUNCTION("""COMPUTED_VALUE"""),5) -> 5 | U38: 99 | V38: =IFERROR(__xludf.DUMMYFUNCTION("""COMPUTED_VALUE"""),"")
A39: #NAME? | B39: 5466 | K39: =IFERROR(__xludf.DUMMYFUNCTION("""COMPUTED_VALUE"""),"") | L39: =IFERROR(__xludf.DUMMYFUNCTION("""COMPUTED_VALUE"""),"") | M39: =IFERROR(__xludf.DUMMYFUNCTION("""COMPUTED_VALUE"""),"") | N39: =IFERROR(__xludf.DUMMYFUNCTION("""COMPUTED_VALUE"""),"") | P39: =IFERROR(__xludf.DUMMYFUNCTION("""COMPUTED_VALUE"""),"") | Q39: =IFERROR(__xludf.DUMMYFUNCTION("""COMPUTED_VALUE"""),"") | R39: =IFERROR(__xludf.DUMMYFUNCTION("""COMPUTED_VALUE"""),"") | S39: =IFERROR(__xludf.DUMMYFUNCTION("""COMPUTED_VALUE"""),"") | T39: =IFERROR(__xludf.DUMMYFUNCTION("""COMPUTED_VALUE"""),"") | V39: =IFERROR(__xludf.DUMMYFUNCTION("""COMPUTED_VALUE"""),"")
A40: #NAME? | B40: 5602 | K40: =IFERROR(__xludf.DUMMYFUNCTION("""COMPUTED_VALUE"""),"") | L40: =IFERROR(__xludf.DUMMYFUNCTION("""COMPUTED_VALUE"""),"") | M40: =IFERROR(__xludf.DUMMYFUNCTION("""COMPUTED_VALUE"""),"") | N40: =IFERROR(__xludf.DUMMYFUNCTION("""COMPUTED_VALUE"""),"") | P40: =IFERROR(__xludf.DUMMYFUNCTION("""COMPUTED_VALUE"""),"") | Q40: =IFERROR(__xludf.DUMMYFUNCTION("""COMPUTED_VALUE"""),"") | R40: =IFERROR(__xludf.DUMMYFUNCTION("""COMPUTED_VALUE"""),"") | S40: =IFERROR(__xludf.DUMMYFUNCTION("""COMPUTED_VALUE"""),"") | T40: =IFERROR(__xludf.DUMMYFUNCTION("""COMPUTED_VALUE"""),"") | V40: =IFERROR(__xludf.DUMMYFUNCTION("""COMPUTED_VALUE"""),"")
A41: #NAME? | B41: 5710 | K41: =IFERROR(__xludf.DUMMYFUNCTION("""COMPUTED_VALUE"""),"") | L41: =IFERROR(__xludf.DUMMYFUNCTION("""COMPUTED_VALUE"""),"") | M41: =IFERROR(__xludf.DUMMYFUNCTION("""COMPUTED_VALUE"""),"") | N41: =IFERROR(__xludf.DUMMYFUNCTION("""COMPUTED_VALUE"""),"") | P41: =IFERROR(__xludf.DUMMYFUNCTION("""COMPUTED_VALUE"""),"") | Q41: =IFERROR(__xludf.DUMMYFUNCTION("""COMPUTED_VALUE"""),"") | R41: =IFERROR(__xludf.DUMMYFUNCTION("""COMPUTED_VALUE"""),"") | S41: =IFERROR(__xludf.DUMMYFUNCTION("""COMPUTED_VALUE"""),"") | T41: =IFERROR(__xludf.DUMMYFUNCTION("""COMPUTED_VALUE"""),"") | V41: =IFERROR(__xludf.DUMMYFUNCTION("""COMPUTED_VALUE"""),"")
A42: #NAME? | B42: 5876 | K42: =IFERROR(__xludf.DUMMYFUNCTION("""COMPUTED_VALUE"""),"") | L42: =IFERROR(__xludf.DUMMYFUNCTION("""COMPUTED_VALUE"""),"") | M42: =IFERROR(__xludf.DUMMYFUNCTION("""COMPUTED_VALUE"""),"") | N42: =IFERROR(__xludf.DUMMYFUNCTION("""COMPUTED_VALUE"""),"") | P42: =IFERROR(__xludf.DUMMYFUNCTION("""COMPUTED_VALUE"""),"") | Q42: =IFERROR(__xludf.DUMMYFUNCTION("""COMPUTED_VALUE"""),"") | R42: =IFERROR(__xludf.DUMMYFUNCTION("""COMPUTED_VALUE"""),"") | S42: =IFERROR(__xludf.DUMMYFUNCTION("""COMPUTED_VALUE"""),"") | T42: =IFERROR(__xludf.DUMMYFUNCTION("""COMPUTED_VALUE"""),"") | V42: =IFERROR(__xludf.DUMMYFUNCTION("""COMPUTED_VALUE"""),"")
A43: #NAME? | B43: 5899 | K43: =IFERROR(__xludf.DUMMYFUNCTION("""COMPUTED_VALUE"""),"") | L43: =IFERROR(__xludf.DUMMYFUNCTION("""COMPUTED_VALUE"""),"") | M43: =IFERROR(__xludf.DUMMYFUNCTION("""COMPUTED_VALUE"""),"") | N43: =IFERROR(__xludf.DUMMYFUNCTION("""COMPUTED_VALUE"""),"") | P43: =IFERROR(__xludf.DUMMYFUNCTION("""COMPUTED_VALUE"""),"") | Q43: =IFERROR(__xludf.DUMMYFUNCTION("""COMPUTED_VALUE"""),"") | R43: =IFERROR(__xludf.DUMMYFUNCTION("""COMPUTED_VALUE"""),"") | S43: =IFERROR(__xludf.DUMMYFUNCTION("""COMPUTED_VALUE"""),"") | T43: =IFERROR(__xludf.DUMMYFUNCTION("""COMPUTED_VALUE"""),"") | V43: =IFERROR(__xludf.DUMMYFUNCTION("""COMPUTED_VALUE"""),"")
A44: #NAME? | B44: 6095 | K44: =IFERROR(__xludf.DUMMYFUNCTION("""COMPUTED_VALUE"""),"") | L44: =IFERROR(__xludf.DUMMYFUNCTION("""COMPUTED_VALUE"""),"") | M44: =IFERROR(__xludf.DUMMYFUNCTION("""COMPUTED_VALUE"""),"") | N44: =IFERROR(__xludf.DUMMYFUNCTION("""COMPUTED_VALUE"""),"") | P44: =IFERROR(__xludf.DUMMYFUNCTION("""COMPUTED_VALUE"""),"") | Q44: =IFERROR(__xludf.DUMMYFUNCTION("""COMPUTED_VALUE"""),"") | R44: =IFERROR(__xludf.DUMMYFUNCTION("""COMPUTED_VALUE"""),"") | S44: =IFERROR(__xludf.DUMMYFUNCTION("""COMPUTED_VALUE"""),"") | T44: =IFERROR(__xludf.DUMMYFUNCTION("""COMPUTED_VALUE"""),"") | V44: =IFERROR(__xludf.DUMMYFUNCTION("""COMPUTED_VALUE"""),"")
A45: #NAME? | B45: 6174 | K45: =IFERROR(__xludf.DUMMYFUNCTION("""COMPUTED_VALUE"""),"") | L45: =IFERROR(__xludf.DUMMYFUNCTION("""COMPUTED_VALUE"""),"") | M45: =IFERROR(__xludf.DUMMYFUNCTION("""COMPUTED_VALUE"""),"") | N45: =IFERROR(__xludf.DUMMYFUNCTION("""COMPUTED_VALUE"""),"") | P45: =IFERROR(__xludf.DUMMYFUNCTION("""COMPUTED_VALUE"""),"") | Q45: =IFERROR(__xludf.DUMMYFUNCTION("""COMPUTED_VALUE"""),"") | R45: =IFERROR(__xludf.DUMMYFUNCTION("""COMPUTED_VALUE"""),"") | S45: =IFERROR(__xludf.DUMMYFUNCTION("""COMPUTED_VALUE"""),"") | T45: =IFERROR(__xludf.DUMMYFUNCTION("""COMPUTED_VALUE"""),"") | V45: =IFERROR(__xludf.DUMMYFUNCTION("""COMPUTED_VALUE"""),"")
A46: #NAME? | B46: 7212 | K46: =IFERROR(__xludf.DUMMYFUNCTION("""COMPUTED_VALUE"""),"") | L46: =IFERROR(__xludf.DUMMYFUNCTION("""COMPUTED_VALUE"""),"") | M46: =IFERROR(__xludf.DUMMYFUNCTION("""COMPUTED_VALUE"""),"") | N46: =IFERROR(__xludf.DUMMYFUNCTION("""COMPUTED_VALUE"""),"") | P46: =IFERROR(__xludf.DUMMYFUNCTION("""COMPUTED_VALUE"""),"") | Q46: =IFERROR(__xludf.DUMMYFUNCTION("""COMPUTED_VALUE"""),"") | R46: =IFERROR(__xludf.DUMMYFUNCTION("""COMPUTED_VALUE"""),"") | S46: =IFERROR(__xludf.DUMMYFUNCTION("""COMPUTED_VALUE"""),"") | T46: =IFERROR(__xludf.DUMMYFUNCTION("""COMPUTED_VALUE"""),"") | V46: =IFERROR(__xludf.DUMMYFUNCTION("""COMPUTED_VALUE"""),"")
A47: #NAME? | B47: 7420 | K47: =IFERROR(__xludf.DUMMYFUNCTION("""COMPUTED_VALUE"""),"") | L47: =IFERROR(__xludf.DUMMYFUNCTION("""COMPUTED_VALUE"""),"") | M47: =IFERROR(__xludf.DUMMYFUNCTION("""COMPUTED_VALUE"""),"") | N47: =IFERROR(__xludf.DUMMYFUNCTION("""COMPUTED_VALUE"""),"") | P47: =IFERROR(__xludf.DUMMYFUNCTION("""COMPUTED_VALUE"""),"") | Q47: =IFERROR(__xludf.DUMMYFUNCTION("""COMPUTED_VALUE"""),"") | R47: =IFERROR(__xludf.DUMMYFUNCTION("""COMPUTED_VALUE"""),"") | S47: =IFERROR(__xludf.DUMMYFUNCTION("""COMPUTED_VALUE"""),"") | T47: =IFERROR(__xludf.DUMMYFUNCTION("""COMPUTED_VALUE"""),"") | V47: =IFERROR(__xludf.DUMMYFUNCTION("""COMPUTED_VALUE"""),"")
A48: #NAME? | B48: 7680 | K48: =IFERROR(__xludf.DUMMYFUNCTION("""COMPUTED_VALUE"""),"") | L48: =IFERROR(__xludf.DUMMYFUNCTION("""COMPUTED_VALUE"""),"") | M48: =IFERROR(__xludf.DUMMYFUNCTION("""COMPUTED_VALUE"""),"") | N48: =IFERROR(__xludf.DUMMYFUNCTION("""COMPUTED_VALUE"""),"") | P48: =IFERROR(__xludf.DUMMYFUNCTION("""COMPUTED_VALUE"""),"") | Q48: =IFERROR(__xludf.DUMMYFUNCTION("""COMPUTED_VALUE"""),"") | R48: =IFERROR(__xludf.DUMMYFUNCTION("""COMPUTED_VALUE"""),"") | S48: =IFERROR(__xludf.DUMMYFUNCTION("""COMPUTED_VALUE"""),"") | T48: =IFERROR(__xludf.DUMMYFUNCTION("""COMPUTED_VALUE"""),"") | V48: =IFERROR(__xludf.DUMMYFUNCTION("""COMPUTED_VALUE"""),"")
A49: #NAME? | B49: 7793 | K49: =IFERROR(__xludf.DUMMYFUNCTION("""COMPUTED_VALUE"""),"") | L49: =IFERROR(__xludf.DUMMYFUNCTION("""COMPUTED_VALUE"""),"") | M49: =IFERROR(__xludf.DUMMYFUNCTION("""COMPUTED_VALUE"""),"") | N49: =IFERROR(__xludf.DUMMYFUNCTION("""COMPUTED_VALUE"""),"") | P49: =IFERROR(__xludf.DUMMYFUNCTION("""COMPUTED_VALUE"""),"") | Q49: =IFERROR(__xludf.DUMMYFUNCTION("""COMPUTED_VALUE"""),"") | R49: =IFERROR(__xludf.DUMMYFUNCTION("""COMPUTED_VALUE"""),"") | S49: =IFERROR(__xludf.DUMMYFUNCTION("""COMPUTED_VALUE"""),"") | T49: =IFERROR(__xludf.DUMMYFUNCTION("""COMPUTED_VALUE"""),"") | V49: =IFERROR(__xludf.DUMMYFUNCTION("""COMPUTED_VALUE"""),"")
A50: #NAME? | B50: 7867 | K50: =IFERROR(__xludf.DUMMYFUNCTION("""COMPUTED_VALUE"""),"") | L50: =IFERROR(__xludf.DUMMYFUNCTION("""COMPUTED_VALUE"""),"") | M50: =IFERROR(__xludf.DUMMYFUNCTION("""COMPUTED_VALUE"""),"") | N50: =IFERROR(__xludf.DUMMYFUNCTION("""COMPUTED_VALUE"""),"") | P50: =IFERROR(__xludf.DUMMYFUNCTION("""COMPUTED_VALUE"""),"") | Q50: =IFERROR(__xludf.DUMMYFUNCTION("""COMPUTED_VALUE"""),"") | R50: =IFERROR(__xludf.DUMMYFUNCTION("""COMPUTED_VALUE"""),"") | S50: =IFERROR(__xludf.DUMMYFUNCTION("""COMPUTED_VALUE"""),"") | T50: =IFERROR(__xludf.DUMMYFUNCTION("""COMPUTED_VALUE"""),"") | V50: =IFERROR(__xludf.DUMMYFUNCTION("""COMPUTED_VALUE"""),"")
... A62: #NAME? | B62: 9960 | K62: =IFERROR(__xludf.DUMMYFUNCTION("""COMPUTED_VALUE"""),"") | L62: =IFERROR(__xludf.DUMMYFUNCTION("""COMPUTED_VALUE"""),"") | M62: =IFERROR(__xludf.DUMMYFUNCTION("""COMPUTED_VALUE"""),"") | N62: =IFERROR(__xludf.DUMMYFUNCTION("""COMPUTED_VALUE"""),"") | P62: =IFERROR(__xludf.DUMMYFUNCTION("""COMPUTED_VALUE"""),"") | Q62: =IFERROR(__xludf.DUMMYFUNCTION("""COMPUTED_VALUE"""),"") | R62: =IFERROR(__xludf.DUMMYFUNCTION("""COMPUTED_VALUE"""),"") | S62: =IFERROR(__xludf.DUMMYFUNCTION("""COMPUTED_VALUE"""),"") | T62: =IFERROR(__xludf.DUMMYFUNCTION("""COMPUTED_VALUE"""),"") | V62: =IFERROR(__xludf.DUMMYFUNCTION("""COMPUTED_VALUE"""),"")
K63: =IFERROR(__xludf.DUMMYFUNCTION("""COMPUTED_VALUE"""),"") | L63: =IFERROR(__xludf.DUMMYFUNCTION("""COMPUTED_VALUE"""),"") | M63: =IFERROR(__xludf.DUMMYFUNCTION("""COMPUTED_VALUE"""),"") | N63: =IFERROR(__xludf.DUMMYFUNCTION("""COMPUTED_VALUE"""),"") | Q63: =IFERROR(__xludf.DUMMYFUNCTION("""COMPUTED_VALUE"""),"") | R63: =IFERROR(__xludf.DUMMYFUNCTION("""COMPUTED_VALUE"""),"") | S63: =IFERROR(__xludf.DUMMYFUNCTION("""COMPUTED_VALUE"""),"") | T63: =IFERROR(__xludf.DUMMYFUNCTION("""COMPUTED_VALUE"""),"")
K64: =IFERROR(__xludf.DUMMYFUNCTION("""COMPUTED_VALUE"""),"") | L64: =IFERROR(__xludf.DUMMYFUNCTION("""COMPUTED_VALUE"""),"") | M64: =IFERROR(__xludf.DUMMYFUNCTION("""COMPUTED_VALUE"""),"") | N64: =IFERROR(__xludf.DUMMYFUNCTION("""COMPUTED_VALUE"""),"") | Q64: =IFERROR(__xludf.DUMMYFUNCTION("""COMPUTED_VALUE"""),"") | R64: =IFERROR(__xludf.DUMMYFUNCTION("""COMPUTED_VALUE"""),"") | S64: =IFERROR(__xludf.DUMMYFUNCTION("""COMPUTED_VALUE"""),"") | T64: =IFERROR(__xludf.DUMMYFUNCTION("""COMPUTED_VALUE"""),"")
C65: Report Status | D65: 01-Awaiting Scores | E65: Judges | K65: =IFERROR(__xludf.DUMMYFUNCTION("""COMPUTED_VALUE"""),"") | L65: =IFERROR(__xludf.DUMMYFUNCTION("""COMPUTED_VALUE"""),"") | M65: =IFERROR(__xludf.DUMMYFUNCTION("""COMPUTED_VALUE"""),"") | N65: =IFERROR(__xludf.DUMMYFUNCTION("""COMPUTED_VALUE"""),"") | Q65: =IFERROR(__xludf.DUMMYFUNCTION("""COMPUTED_VALUE"""),"") | R65: =IFERROR(__xludf.DUMMYFUNCTION("""COMPUTED_VALUE"""),"") | S65: =IFERROR(__xludf.DUMMYFUNCTION("""COMPUTED_VALUE"""),"") | T65: =IFERROR(__xludf.DUMMYFUNCTION("""COMPUTED_VALUE"""),"")
D66: Click ^ | K66: =IFERROR(__xludf.DUMMYFUNCTION("""COMPUTED_VALUE"""),"") | L66: =IFERROR(__xludf.DUMMYFUNCTION("""COMPUTED_VALUE"""),"") | M66: =IFERROR(__xludf.DUMMYFUNCTION("""COMPUTED_VALUE"""),"") | N66: =IFERROR(__xludf.DUMMYFUNCTION("""COMPUTED_VALUE"""),"") | Q66: =IFERROR(__xludf.DUMMYFUNCTION("""COMPUTED_VALUE"""),"") | R66: =IFERROR(__xludf.DUMMYFUNCTION("""COMPUTED_VALUE"""),"") | S66: =IFERROR(__xludf.DUMMYFUNCTION("""COMPUTED_VALUE"""),"") | T66: =IFERROR(__xludf.DUMMYFUNCTION("""COMPUTED_VALUE"""),"")
K67: =IFERROR(__xludf.DUMMYFUNCTION("""COMPUTED_VALUE"""),"") | L67: =IFERROR(__xludf.DUMMYFUNCTION("""COMPUTED_VALUE"""),"") | M67: =IFERROR(__xludf.DUMMYFUNCTION("""COMPUTED_VALUE"""),"") | N67: =IFERROR(__xludf.DUMMYFUNCTION("""COMPUTED_VALUE"""),"") | Q67: =IFERROR(__xludf.DUMMYFUNCTION("""COMPUTED_VALUE"""),"") | R67: =IFERROR(__xludf.DUMMYFUNCTION("""COMPUTED_VALUE"""),"") | S67: =IFERROR(__xludf.DUMMYFUNCTION("""COMPUTED_VALUE"""),"") | T67: =IFERROR(__xludf.DUMMYFUNCTION("""COMPUTED_VALUE"""),"")
K68: =IFERROR(__xludf.DUMMYFUNCTION("""COMPUTED_VALUE"""),"") | L68: =IFERROR(__xludf.DUMMYFUNCTION("""COMPUTED_VALUE"""),"") | M68: =IFERROR(__xludf.DUMMYFUNCTION("""COMPUTED_VALUE"""),"") | N68: =IFERROR(__xludf.DUMMYFUNCTION("""COMPUTED_VALUE"""),"") | Q68: =IFERROR(__xludf.DUMMYFUNCTION("""COMPUTED_VALUE"""),"") | R68: =IFERROR(__xludf.DUMMYFUNCTION("""COMPUTED_VALUE"""),"") | S68: =IFERROR(__xludf.DUMMYFUNCTION("""COMPUTED_VALUE"""),"") | T68: =IFERROR(__xludf.DUMMYFUNCTION("""COMPUTED_VALUE"""),"")
K69: =IFERROR(__xludf.DUMMYFUNCTION("""COMPUTED_VALUE"""),"") | L69: =IFERROR(__xludf.DUMMYFUNCTION("""COMPUTED_VALUE"""),"") | M69: =IFERROR(__xludf.DUMMYFUNCTION("""COMPUTED_VALUE"""),"") | N69: =IFERROR(__xludf.DUMMYFUNCTION("""COMPUTED_VALUE"""),"") | Q69: =IFERROR(__xludf.DUMMYFUNCTION("""COMPUTED_VALUE"""),"") | R69: =IFERROR(__xludf.DUMMYFUNCTION("""COMPUTED_VALUE"""),"") | S69: =IFERROR(__xludf.DUMMYFUNCTION("""COMPUTED_VALUE"""),"") | T69: =IFERROR(__xludf.DUMMYFUNCTION("""COMPUTED_VALUE"""),"")
K70: =IFERROR(__xludf.DUMMYFUNCTION("""COMPUTED_VALUE"""),"") | L70: =IFERROR(__xludf.DUMMYFUNCTION("""COMPUTED_VALUE"""),"") | M70: =IFERROR(__xludf.DUMMYFUNCTION("""COMPUTED_VALUE"""),"") | N70: =IFERROR(__xludf.DUMMYFUNCTION("""COMPUTED_VALUE"""),"") | Q70: =IFERROR(__xludf.DUMMYFUNCTION("""COMPUTED_VALUE"""),"") | R70: =IFERROR(__xludf.DUMMYFUNCTION("""COMPUTED_VALUE"""),"") | S70: =IFERROR(__xludf.DUMMYFUNCTION("""COMPUTED_VALUE"""),"") | T70: =IFERROR(__xludf.DUMMYFUNCTION("""COMPUTED_VALUE"""),"")
K71: =IFERROR(__xludf.DUMMYFUNCTION("""COMPUTED_VALUE"""),"") | L71: =IFERROR(__xludf.DUMMYFUNCTION("""COMPUTED_VALUE"""),"") | M71: =IFERROR(__xludf.DUMMYFUNCTION("""COMPUTED_VALUE"""),"") | N71: =IFERROR(__xludf.DUMMYFUNCTION("""COMPUTED_VALUE"""),"") | Q71: =IFERROR(__xludf.DUMMYFUNCTION("""COMPUTED_VALUE"""),"") | R71: =IFERROR(__xludf.DUMMYFUNCTION("""COMPUTED_VALUE"""),"") | S71: =IFERROR(__xludf.DUMMYFUNCTION("""COMPUTED_VALUE"""),"") | T71: =IFERROR(__xludf.DUMMYFUNCTION("""COMPUTED_VALUE"""),"")
K72: =IFERROR(__xludf.DUMMYFUNCTION("""COMPUTED_VALUE"""),"") | L72: =IFERROR(__xludf.DUMMYFUNCTION("""COMPUTED_VALUE"""),"") | M72: =IFERROR(__xludf.DUMMYFUNCTION("""COMPUTED_VALUE"""),"") | N72: =IFERROR(__xludf.DUMMYFUNCTION("""COMPUTED_VALUE"""),"") | Q72: =IFERROR(__xludf.DUMMYFUNCTION("""COMPUTED_VALUE"""),"") | R72: =IFERROR(__xludf.DUMMYFUNCTION("""COMPUTED_VALUE"""),"") | S72: =IFERROR(__xludf.DUMMYFUNCTION("""COMPUTED_VALUE"""),"") | T72: =IFERROR(__xludf.DUMMYFUNCTION("""COMPUTED_VALUE"""),"")
K73: =IFERROR(__xludf.DUMMYFUNCTION("""COMPUTED_VALUE"""),"") | L73: =IFERROR(__xludf.DUMMYFUNCTION("""COMPUTED_VALUE"""),"") | M73: =IFERROR(__xludf.DUMMYFUNCTION("""COMPUTED_VALUE"""),"") | N73: =IFERROR(__xludf.DUMMYFUNCTION("""COMPUTED_VALUE"""),"") | Q73: =IFERROR(__xludf.DUMMYFUNCTION("""COMPUTED_VALUE"""),"") | R73: =IFERROR(__xludf.DUMMYFUNCTION("""COMPUTED_VALUE"""),"") | S73: =IFERROR(__xludf.DUMMYFUNCTION("""COMPUTED_VALUE"""),"") | T73: =IFERROR(__xludf.DUMMYFUNCTION("""COMPUTED_VALUE"""),"")
E74: Referee | K74: =IFERROR(__xludf.DUMMYFUNCTION("""COMPUTED_VALUE"""),"") | L74: =IFERROR(__xludf.DUMMYFUNCTION("""COMPUTED_VALUE"""),"") | M74: =IFERROR(__xludf.DUMMYFUNCTION("""COMPUTED_VALUE"""),"") | N74: =IFERROR(__xludf.DUMMYFUNCTION("""COMPUTED_VALUE"""),"") | Q74: =IFERROR(__xludf.DUMMYFUNCTION("""COMPUTED_VALUE"""),"") | R74: =IFERROR(__xludf.DUMMYFUNCTION("""COMPUTED_VALUE"""),"") | S74: =IFERROR(__xludf.DUMMYFUNCTION("""COMPUTED_VALUE"""),"") | T74: =IFERROR(__xludf.DUMMYFUNCTION("""COMPUTED_VALUE"""),"")
E75: Meet Secretary | K75: =IFERROR(__xludf.DUMMYFUNCTION("""COMPUTED_VALUE"""),"") | L75: =IFERROR(__xludf.DUMMYFUNCTION("""COMPUTED_VALUE"""),"") | M75: =IFERROR(__xludf.DUMMYFUNCTION("""COMPUTED_VALUE"""),"") | N75: =IFERROR(__xludf.DUMMYFUNCTION("""COMPUTED_VALUE"""),"") | Q75: =IFERROR(__xludf.DUMMYFUNCTION("""COMPUTED_VALUE"""),"") | R75: =IFERROR(__xludf.DUMMYFUNCTION("""COMPUTED_VALUE"""),"") | S75: =IFERROR(__xludf.DUMMYFUNCTION("""COMPUTED_VALUE"""),"") | T75: =IFERROR(__xludf.DUMMYFUNCTION("""COMPUTED_VALUE"""),"")
K76: =IFERROR(__xludf.DUMMYFUNCTION("""COMPUTED_VALUE"""),"") | L76: =IFERROR(__xludf.DUMMYFUNCTION("""COMPUTED_VALUE"""),"") | M76: =IFERROR(__xludf.DUMMYFUNCTION("""COMPUTED_VALUE"""),"") | N76: =IFERROR(__xludf.DUMMYFUNCTION("""COMPUTED_VALUE"""),"") | Q76: =IFERROR(__xludf.DUMMYFUNCTION("""COMPUTED_VALUE"""),"") | R76: =IFERROR(__xludf.DUMMYFUNCTION("""COMPUTED_VALUE"""),"") | S76: =IFERROR(__xludf.DUMMYFUNCTION("""COMPUTED_VALUE"""),"") | T76: =IFERROR(__xludf.DUMMYFUNCTION("""COMPUTED_VALUE"""),"")
C77: Home | E77: Visiting | K77: =IFERROR(__xludf.DUMMYFUNCTION("""COMPUTED_VALUE"""),"") | L77: =IFERROR(__xludf.DUMMYFUNCTION("""COMPUTED_VALUE"""),"") | M77: =IFERROR(__xludf.DUMMYFUNCTION("""COMPUTED_VALUE"""),"") | N77: =IFERROR(__xludf.DUMMYFUNCTION("""COMPUTED_VALUE"""),"") | Q77: =IFERROR(__xludf.DUMMYFUNCTION("""COMPUTED_VALUE"""),"") | R77: =IFERROR(__xludf.DUMMYFUNCTION("""COMPUTED_VALUE"""),"") | S77: =IFERROR(__xludf.DUMMYFUNCTION("""COMPUTED_VALUE"""),"") | T77: =IFERROR(__xludf.DUMMYFUNCTION("""COMPUTED_VALUE"""),"")
C78: Team Secretary | E78: Team Secretary | K78: =IFERROR(__xludf.DUMMYFUNCTION("""COMPUTED_VALUE"""),"") | L78: =IFERROR(__xludf.DUMMYFUNCTION("""COMPUTED_VALUE"""),"") | M78: =IFERROR(__xludf.DUMMYFUNCTION("""COMPUTED_VALUE"""),"") | N78: =IFERROR(__xludf.DUMMYFUNCTION("""COMPUTED_VALUE"""),"") | Q78: =IFERROR(__xludf.DUMMYFUNCTION("""COMPUTED_VALUE"""),"") | R78: =IFERROR(__xludf.DUMMYFUNCTION("""COMPUTED_VALUE"""),"") | S78: =IFERROR(__xludf.DUMMYFUNCTION("""COMPUTED_VALUE"""),"") | T78: =IFERROR(__xludf.DUMMYFUNCTION("""COMPUTED_VALUE"""),"")
C79: Comments | K79: =IFERROR(__xludf.DUMMYFUNCTION("""COMPUTED_VALUE"""),"") | L79: =IFERROR(__xludf.DUMMYFUNCTION("""COMPUTED_VALUE"""),"") | M79: =IFERROR(__xludf.DUMMYFUNCTION("""COMPUTED_VALUE"""),"") | N79: =IFERROR(__xludf.DUMMYFUNCTION("""COMPUTED_VALUE"""),"") | Q79: =IFERROR(__xludf.DUMMYFUNCTION("""COMPUTED_VALUE"""),"") | R79: =IFERROR(__xludf.DUMMYFUNCTION("""COMPUTED_VALUE"""),"") | S79: =IFERROR(__xludf.DUMMYFUNCTION("""COMPUTED_VALUE"""),"") | T79: =IFERROR(__xludf.DUMMYFUNCTION("""COMPUTED_VALUE"""),"")
K80: =IFERROR(__xludf.DUMMYFUNCTION("""COMPUTED_VALUE"""),"") | L80: =IFERROR(__xludf.DUMMYFUNCTION("""COMPUTED_VALUE"""),"") | M80: =IFERROR(__xludf.DUMMYFUNCTION("""COMPUTED_VALUE"""),"") | N80: =IFERROR(__xludf.DUMMYFUNCTION("""COMPUTED_VALUE"""),"") | Q80: =IFERROR(__xludf.DUMMYFUNCTION("""COMPUTED_VALUE"""),"") | R80: =IFERROR(__xludf.DUMMYFUNCTION("""COMPUTED_VALUE"""),"") | S80: =IFERROR(__xludf.DUMMYFUNCTION("""COMPUTED_VALUE"""),"") | T80: =IFERROR(__xludf.DUMMYFUNCTION("""COMPUTED_VALUE"""),"")
K81: =IFERROR(__xludf.DUMMYFUNCTION("""COMPUTED_VALUE"""),"") | L81: =IFERROR(__xludf.DUMMYFUNCTION("""COMPUTED_VALUE"""),"") | M81: =IFERROR(__xludf.DUMMYFUNCTION("""COMPUTED_VALUE"""),"") | N81: =IFERROR(__xludf.DUMMYFUNCTION("""COMPUTED_VALUE"""),"") | Q81: =IFERROR(__xludf.DUMMYFUNCTION("""COMPUTED_VALUE"""),"") | R81: =IFERROR(__xludf.DUMMYFUNCTION("""COMPUTED_VALUE"""),"") | S81: =IFERROR(__xludf.DUMMYFUNCTION("""COMPUTED_VALUE"""),"") | T81: =IFERROR(__xludf.DUMMYFUNCTION("""COMPUTED_VALUE"""),"")
K82: =IFERROR(__xludf.DUMMYFUNCTION("""COMPUTED_VALUE"""),"") | L82: =IFERROR(__xludf.DUMMYFUNCTION("""COMPUTED_VALUE"""),"") | M82: =IFERROR(__xludf.DUMMYFUNCTION("""COMPUTED_VALUE"""),"") | N82: =IFERROR(__xludf.DUMMYFUNCTION("""COMPUTED_VALUE"""),"") | Q82: =IFERROR(__xludf.DUMMYFUNCTION("""COMPUTED_VALUE"""),"") | R82: =IFERROR(__xludf.DUMMYFUNCTION("""COMPUTED_VALUE"""),"") | S82: =IFERROR(__xludf.DUMMYFUNCTION("""COMPUTED_VALUE"""),"") | T82: =IFERROR(__xludf.DUMMYFUNCTION("""COMPUTED_VALUE"""),"")
K83: =IFERROR(__xludf.DUMMYFUNCTION("""COMPUTED_VALUE"""),"") | L83: =IFERROR(__xludf.DUMMYFUNCTION("""COMPUTED_VALUE"""),"") | M83: =IFERROR(__xludf.DUMMYFUNCTION("""COMPUTED_VALUE"""),"") | N83: =IFERROR(__xludf.DUMMYFUNCTION("""COMPUTED_VALUE"""),"") | Q83: =IFERROR(__xludf.DUMMYFUNCTION("""COMPUTED_VALUE"""),"") | R83: =IFERROR(__xludf.DUMMYFUNCTION("""COMPUTED_VALUE"""),"") | S83: =IFERROR(__xludf.DUMMYFUNCTION("""COMPUTED_VALUE"""),"") | T83: =IFERROR(__xludf.DUMMYFUNCTION("""COMPUTED_VALUE"""),"")
K84: =IFERROR(__xludf.DUMMYFUNCTION("""COMPUTED_VALUE"""),"") | L84: =IFERROR(__xludf.DUMMYFUNCTION("""COMPUTED_VALUE"""),"") | M84: =IFERROR(__xludf.DUMMYFUNCTION("""COMPUTED_VALUE"""),"") | N84: =IFERROR(__xludf.DUMMYFUNCTION("""COMPUTED_VALUE"""),"") | Q84: =IFERROR(__xludf.DUMMYFUNCTION("""COMPUTED_VALUE"""),"") | R84: =IFERROR(__xludf.DUMMYFUNCTION("""COMPUTED_VALUE"""),"") | S84: =IFERROR(__xludf.DUMMYFUNCTION("""COMPUTED_VALUE"""),"") | T84: =IFERROR(__xludf.DUMMYFUNCTION("""COMPUTED_VALUE"""),"")
K85: =IFERROR(__xludf.DUMMYFUNCTION("""COMPUTED_VALUE"""),"") | L85: =IFERROR(__xludf.DUMMYFUNCTION("""COMPUTED_VALUE"""),"") | M85: =IFERROR(__xludf.DUMMYFUNCTION("""COMPUTED_VALUE"""),"") | N85: =IFERROR(__xludf.DUMMYFUNCTION("""COMPUTED_VALUE"""),"") | Q85: =IFERROR(__xludf.DUMMYFUNCTION("""COMPUTED_VALUE"""),"") | R85: =IFERROR(__xludf.DUMMYFUNCTION("""COMPUTED_VALUE"""),"") | S85: =IFERROR(__xludf.DUMMYFUNCTION("""COMPUTED_VALUE"""),"") | T85: =IFERROR(__xludf.DUMMYFUNCTION("""COMPUTED_VALUE"""),"")
K86: =IFERROR(__xludf.DUMMYFUNCTION("""COMPUTED_VALUE"""),"") | L86: =IFERROR(__xludf.DUMMYFUNCTION("""COMPUTED_VALUE"""),"") | M86: =IFERROR(__xludf.DUMMYFUNCTION("""COMPUTED_VALUE"""),"") | N86: =IFERROR(__xludf.DUMMYFUNCTION("""COMPUTED_VALUE"""),"") | Q86: =IFERROR(__xludf.DUMMYFUNCTION("""COMPUTED_VALUE"""),"") | R86: =IFERROR(__xludf.DUMMYFUNCTION("""COMPUTED_VALUE"""),"") | S86: =IFERROR(__xludf.DUMMYFUNCTION("""COMPUTED_VALUE"""),"") | T86: =IFERROR(__xludf.DUMMYFUNCTION("""COMPUTED_VALUE"""),"")
K87: =IFERROR(__xludf.DUMMYFUNCTION("""COMPUTED_VALUE"""),"") | L87: =IFERROR(__xludf.DUMMYFUNCTION("""COMPUTED_VALUE"""),"") | M87: =IFERROR(__xludf.DUMMYFUNCTION("""COMPUTED_VALUE"""),"") | N87: =IFERROR(__xludf.DUMMYFUNCTION("""COMPUTED_VALUE"""),"") | Q87: =IFERROR(__xludf.DUMMYFUNCTION("""COMPUTED_VALUE"""),"") | R87: =IFERROR(__xludf.DUMMYFUNCTION("""COMPUTED_VALUE"""),"") | S87: =IFERROR(__xludf.DUMMYFUNCTION("""COMPUTED_VALUE"""),"") | T87: =IFERROR(__xludf.DUMMYFUNCTION("""COMPUTED_VALUE"""),"")
K88: =IFERROR(__xludf.DUMMYFUNCTION("""COMPUTED_VALUE"""),"") | L88: =IFERROR(__xludf.DUMMYFUNCTION("""COMPUTED_VALUE"""),"") | M88: =IFERROR(__xludf.DUMMYFUNCTION("""COMPUTED_VALUE"""),"") | N88: =IFERROR(__xludf.DUMMYFUNCTION("""COMPUTED_VALUE"""),"") | Q88: =IFERROR(__xludf.DUMMYFUNCTION("""COMPUTED_VALUE"""),"") | R88: =IFERROR(__xludf.DUMMYFUNCTION("""COMPUTED_VALUE"""),"") | S88: =IFERROR(__xludf.DUMMYFUNCTION("""COMPUTED_VALUE"""),"") | T88: =IFERROR(__xludf.DUMMYFUNCTION("""COMPUTED_VALUE"""),"")
K89: =IFERROR(__xludf.DUMMYFUNCTION("""COMPUTED_VALUE"""),"") | L89: =IFERROR(__xludf.DUMMYFUNCTION("""COMPUTED_VALUE"""),"") | M89: =IFERROR(__xludf.DUMMYFUNCTION("""COMPUTED_VALUE"""),"") | N89: =IFERROR(__xludf.DUMMYFUNCTION("""COMPUTED_VALUE"""),"") | Q89: =IFERROR(__xludf.DUMMYFUNCTION("""COMPUTED_VALUE"""),"") | R89: =IFERROR(__xludf.DUMMYFUNCTION("""COMPUTED_VALUE"""),"") | S89: =IFERROR(__xludf.DUMMYFUNCTION("""COMPUTED_VALUE"""),"") | T89: =IFERROR(__xludf.DUMMYFUNCTION("""COMPUTED_VALUE"""),"")
K90: =IFERROR(__xludf.DUMMYFUNCTION("""COMPUTED_VALUE"""),"") | L90: =IFERROR(__xludf.DUMMYFUNCTION("""COMPUTED_VALUE"""),"") | M90: =IFERROR(__xludf.DUMMYFUNCTION("""COMPUTED_VALUE"""),"") | N90: =IFERROR(__xludf.DUMMYFUNCTION("""COMPUTED_VALUE"""),"") | Q90: =IFERROR(__xludf.DUMMYFUNCTION("""COMPUTED_VALUE"""),"") | R90: =IFERROR(__xludf.DUMMYFUNCTION("""COMPUTED_VALUE"""),"") | S90: =IFERROR(__xludf.DUMMYFUNCTION("""COMPUTED_VALUE"""),"") | T90: =IFERROR(__xludf.DUMMYFUNCTION("""COMPUTED_VALUE"""),"")
K91: =IFERROR(__xludf.DUMMYFUNCTION("""COMPUTED_VALUE"""),"") | L91: =IFERROR(__xludf.DUMMYFUNCTION("""COMPUTED_VALUE"""),"") | M91: =IFERROR(__xludf.DUMMYFUNCTION("""COMPUTED_VALUE"""),"") | N91: =IFERROR(__xludf.DUMMYFUNCTION("""COMPUTED_VALUE"""),"") | Q91: =IFERROR(__xludf.DUMMYFUNCTION("""COMPUTED_VALUE"""),"") | R91: =IFERROR(__xludf.DUMMYFUNCTION("""COMPUTED_VALUE"""),"") | S91: =IFERROR(__xludf.DUMMYFUNCTION("""COMPUTED_VALUE"""),"") | T91: =IFERROR(__xludf.DUMMYFUNCTION("""COMPUTED_VALUE"""),"")
... K107: =IFERROR(__xludf.DUMMYFUNCTION("""COMPUTED_VALUE"""),"") | L107: =IFERROR(__xludf.DUMMYFUNCTION("""COMPUTED_VALUE"""),"") | M107: =IFERROR(__xludf.DUMMYFUNCTION("""COMPUTED_VALUE"""),"") | N107: =IFERROR(__xludf.DUMMYFUNCTION("""COMPUTED_VALUE"""),"") | Q107: =IFERROR(__xludf.DUMMYFUNCTION("""COMPUTED_VALUE"""),"") | R107: =IFERROR(__xludf.DUMMYFUNCTION("""COMPUTED_VALUE"""),"") | S107: =IFERROR(__xludf.DUMMYFUNCTION("""COMPUTED_VALUE"""),"") | T107: =IFERROR(__xludf.DUMMYFUNCTION("""COMPUTED_VALUE"""),"")
A108: =LEFT($D111,2)&"b" -> 12b | C108: ="Age Group: " & D111 -> Age Group: 12 & Under Boys | G108: =G8 -> Event Date: | H108: =C$1 -> 45480 | K108: =IFERROR(__xludf.DUMMYFUNCTION("""COMPUTED_VALUE"""),"") | L108: =IFERROR(__xludf.DUMMYFUNCTION("""COMPUTED_VALUE"""),"") | M108: =IFERROR(__xludf.DUMMYFUNCTION("""COMPUTED_VALUE"""),"") | N108: =IFERROR(__xludf.DUMMYFUNCTION("""COMPUTED_VALUE"""),"") | Q108: =IFERROR(__xludf.DUMMYFUNCTION("""COMPUTED_VALUE"""),"") | R108: =IFERROR(__xludf.DUMMYFUNCTION("""COMPUTED_VALUE"""),"") | S108: =IFERROR(__xludf.DUMMYFUNCTION("""COMPUTED_VALUE"""),"") | T108: =IFERROR(__xludf.DUMMYFUNCTION("""COMPUTED_VALUE"""),"")
C109: =C9 -> * Enter Diver name, event and score in yellow sections, (enter "DQ" for score as needed) * Diver is allowed to dive-up a division, as long as the other diver is age-appropriate * If you need to move a diver, please DO NOT cut/paste them, please DO copy/paste them instead. * When pasting data, to help preserve the formatting, please use edit>pasteSpecial>valuesOnly (shift+cntl+v), :-) | K109: =IFERROR(__xludf.DUMMYFUNCTION("""COMPUTED_VALUE"""),"") | L109: =IFERROR(__xludf.DUMMYFUNCTION("""COMPUTED_VALUE"""),"") | M109: =IFERROR(__xludf.DUMMYFUNCTION("""COMPUTED_VALUE"""),"") | N109: =IFERROR(__xludf.DUMMYFUNCTION("""COMPUTED_VALUE"""),"") | Q109: =IFERROR(__xludf.DUMMYFUNCTION("""COMPUTED_VALUE"""),"") | R109: =IFERROR(__xludf.DUMMYFUNCTION("""COMPUTED_VALUE"""),"") | S109: =IFERROR(__xludf.DUMMYFUNCTION("""COMPUTED_VALUE"""),"") | T109: =IFERROR(__xludf.DUMMYFUNCTION("""COMPUTED_VALUE"""),"")
C110: =C10 -> * Enter Judge, Rep and any comments below Diver Details, and change "Report Status" when done * Click "MeetResults" tab at bottom to review team scores and diver placement | K110: =IFERROR(__xludf.DUMMYFUNCTION("""COMPUTED_VALUE"""),"") | L110: =IFERROR(__xludf.DUMMYFUNCTION("""COMPUTED_VALUE"""),"") | M110: =IFERROR(__xludf.DUMMYFUNCTION("""COMPUTED_VALUE"""),"") | N110: =IFERROR(__xludf.DUMMYFUNCTION("""COMPUTED_VALUE"""),"") | Q110: =IFERROR(__xludf.DUMMYFUNCTION("""COMPUTED_VALUE"""),"") | R110: =IFERROR(__xludf.DUMMYFUNCTION("""COMPUTED_VALUE"""),"") | S110: =IFERROR(__xludf.DUMMYFUNCTION("""COMPUTED_VALUE"""),"") | T110: =IFERROR(__xludf.DUMMYFUNCTION("""COMPUTED_VALUE"""),"")
C111: =C11 -> Age and Gender | D111: 12 & Under Boys | K111: =IFERROR(__xludf.DUMMYFUNCTION("""COMPUTED_VALUE"""),"") | L111: =IFERROR(__xludf.DUMMYFUNCTION("""COMPUTED_VALUE"""),"") | M111: =IFERROR(__xludf.DUMMYFUNCTION("""COMPUTED_VALUE"""),"") | N111: =IFERROR(__xludf.DUMMYFUNCTION("""COMPUTED_VALUE"""),"") | Q111: =IFERROR(__xludf.DUMMYFUNCTION("""COMPUTED_VALUE"""),"") | R111: =IFERROR(__xludf.DUMMYFUNCTION("""COMPUTED_VALUE"""),"") | S111: =IFERROR(__xludf.DUMMYFUNCTION("""COMPUTED_VALUE"""),"") | T111: =IFERROR(__xludf.DUMMYFUNCTION("""COMPUTED_VALUE"""),"")
C112: =C12 -> Diver 1 Name | D112: =D12 -> Diver 1 Club | E112: =E12 -> Diver 2 Name | F112: =F12 -> Diver 2 Club | G112: =G12 -> Score | H112: D1 Msgs | I112: D2 Msgs | K112: =IFERROR(__xludf.DUMMYFUNCTION("""COMPUTED_VALUE"""),"") | L112: =IFERROR(__xludf.DUMMYFUNCTION("""COMPUTED_VALUE"""),"") | M112: =IFERROR(__xludf.DUMMYFUNCTION("""COMPUTED_VALUE"""),"") | N112: =IFERROR(__xludf.DUMMYFUNCTION("""COMPUTED_VALUE"""),"") | Q112: =IFERROR(__xludf.DUMMYFUNCTION("""COMPUTED_VALUE"""),"") | R112: =IFERROR(__xludf.DUMMYFUNCTION("""COMPUTED_VALUE"""),"") | S112: =IFERROR(__xludf.DUMMYFUNCTION("""COMPUTED_VALUE"""),"") | T112: =IFERROR(__xludf.DUMMYFUNCTION("""COMPUTED_VALUE"""),"") | U112: =U$12 | V112: =V$12 -> 0
A113: {=_xludf.SEQUENCE( 50 )} -> #NAME? | B113: 147 | C113: Alex Kroely | D113: GF | E113: Pierre Kroely | F113: GF | G113: 52.83 | K113: =IFERROR(__xludf.DUMMYFUNCTION("""COMPUTED_VALUE"""),"Alex Kroely") -> Alex Kroely | L113: =IFERROR(__xludf.DUMMYFUNCTION("""COMPUTED_VALUE"""),"GF") -> GF | M113: =IFERROR(__xludf.DUMMYFUNCTION("""COMPUTED_VALUE"""),"B12") -> B12 | N113: =IFERROR(__xludf.DUMMYFUNCTION("""COMPUTED_VALUE"""),5) -> 5 | P113: =IFERROR(__xludf.DUMMYFUNCTION("ARRAYFORMULA( IF( ( NOT( ISNUMBER( VALUE($A113:$A162)) )+( ( C113:C162="""" )*( E113:E162="""" ) ) ), """", IF( ISNA( K113:K162 ), ""Diver-NF"", IF( (K113:K162 = """") * (Q113:Q162 <> """"), ""Diver-NF"", IF( ( ( ISNA( L113:L162 ))+( D113"&":D162 <> L113:L162 ) ), ""Club-""&L113:L162, IF( VLOOKUP( K113:K162&L113:L162, QUERY( { $C:$C&$D:$D; $E:$E&$F:$F }, ""SELECT Col1, COUNT(Col1) GROUP BY Col1 LABEL COUNT(Col1) ''""),2,0 ) > 1, ""Duplicate"", IF( UPPER( LEFT( M113:M162,1))<> UPPER( RIGH"&"T( $A108, 1)),""Gender"", IF( VALUE( MID( M113:M162,2,2)) > VALUE( TRIM( LEFT( $D111,2))),""Age-"" & MID( M113:M162,2,2),"""")))) ))))"),"") | Q113: =IFERROR(__xludf.DUMMYFUNCTION("""COMPUTED_VALUE"""),"Pierre Kroely") -> Pierre Kroely | R113: =IFERROR(__xludf.DUMMYFUNCTION("""COMPUTED_VALUE"""),"GF") -> GF | S113: =IFERROR(__xludf.DUMMYFUNCTION("""COMPUTED_VALUE"""),"B9") -> B9 | T113: =IFERROR(__xludf.DUMMYFUNCTION("""COMPUTED_VALUE"""),5) -> 5 | U113: {=IF($E113:$E162="","", VLOOKUP(VLOOKUP(VALUE(MID(S113:S162,2,2)),'Lookup-Generic'!$G:$H,2,0)&LEFT(S113:S162,1),'Lookup-Generic'!$M:$N,2,0))} -> 65 | V113: =IFERROR(__xludf.DUMMYFUNCTION("ARRAYFORMULA( IF( ( NOT( ISNUMBER( VALUE($A113:$A162)) )+( ( $C113:$C162="""" )*( $E113:$E162="""" ) ) ), """", IF( ISNA( Q113:Q162 ), ""Diver-NF"", IF( ($K113:$K162 <> """") * ($Q113:$Q162 = """"), ""Diver-NF"", IF( ( ( ISNA( R113:R162 "&"))+( F113:F162 <> R113:R162 ) ), ""Club-""&R113:R162, IF( VLOOKUP( Q113:Q162&R113:R162, QUERY( { $C:$C&$D:$D; $E:$E&$F:$F }, ""SELECT Col1, COUNT(Col1) GROUP BY Col1 LABEL COUNT(Col1) ''""),2,0 ) > 1, ""Duplicate"", IF( UPPER( LEFT( S113:S162,1))<> UP"&"PER( RIGHT( $A108, 1)),""Gender"", IF( VALUE( MID( S113:S162,2,2)) > VALUE( TRIM( LEFT( $D111,2))),""Age-"" & MID( S113:S162,2,2),"""")))) ))))"),"")
A114: #NAME? | B114: 223 | C114: Lincoln Kemp | D114: HV | E114: Alexander Ogrodny | F114: HV | G114: 46.29 | K114: =IFERROR(__xludf.DUMMYFUNCTION("""COMPUTED_VALUE"""),"Lincoln Kemp") -> Lincoln Kemp | L114: =IFERROR(__xludf.DUMMYFUNCTION("""COMPUTED_VALUE"""),"HV") -> HV | M114: =IFERROR(__xludf.DUMMYFUNCTION("""COMPUTED_VALUE"""),"B8") -> B8 | N114: =IFERROR(__xludf.DUMMYFUNCTION("""COMPUTED_VALUE"""),5) -> 5 | P114: =IFERROR(__xludf.DUMMYFUNCTION("""COMPUTED_VALUE"""),"") | Q114: =IFERROR(__xludf.DUMMYFUNCTION("""COMPUTED_VALUE"""),"Alexander Ogrodny") -> Alexander Ogrodny | R114: =IFERROR(__xludf.DUMMYFUNCTION("""COMPUTED_VALUE"""),"HV") -> HV | S114: =IFERROR(__xludf.DUMMYFUNCTION("""COMPUTED_VALUE"""),"B9") -> B9 | T114: =IFERROR(__xludf.DUMMYFUNCTION("""COMPUTED_VALUE"""),4) -> 4 | U114: 65 | V114: =IFERROR(__xludf.DUMMYFUNCTION("""COMPUTED_VALUE"""),"")
A115: #NAME? | B115: 414 | C115: Ian Thackaberry | D115: RH | E115: Curt Berry | F115: RH | G115: 52.56 | K115: =IFERROR(__xludf.DUMMYFUNCTION("""COMPUTED_VALUE"""),"Ian Thackaberry") -> Ian Thackaberry | L115: =IFERROR(__xludf.DUMMYFUNCTION("""COMPUTED_VALUE"""),"RH") -> RH | M115: =IFERROR(__xludf.DUMMYFUNCTION("""COMPUTED_VALUE"""),"B11") -> B11 | N115: =IFERROR(__xludf.DUMMYFUNCTION("""COMPUTED_VALUE"""),4) -> 4 | P115: =IFERROR(__xludf.DUMMYFUNCTION("""COMPUTED_VALUE"""),"") | Q115: =IFERROR(__xludf.DUMMYFUNCTION("""COMPUTED_VALUE"""),"Curt Berry") -> Curt Berry | R115: =IFERROR(__xludf.DUMMYFUNCTION("""COMPUTED_VALUE"""),"RH") -> RH | S115: =IFERROR(__xludf.DUMMYFUNCTION("""COMPUTED_VALUE"""),"B11") -> B11 | T115: =IFERROR(__xludf.DUMMYFUNCTION("""COMPUTED_VALUE"""),3) -> 3 | U115: 95 | V115: =IFERROR(__xludf.DUMMYFUNCTION("""COMPUTED_VALUE"""),"")
A116: #NAME? | B116: 530 | C116: Matthew Robertson | D116: WC | E116: Rowen Stenberg | F116: WC | G116: DQ | K116: =IFERROR(__xludf.DUMMYFUNCTION("""COMPUTED_VALUE"""),"Matthew Robertson") -> Matthew Robertson | L116: =IFERROR(__xludf.DUMMYFUNCTION("""COMPUTED_VALUE"""),"WC") -> WC | M116: =IFERROR(__xludf.DUMMYFUNCTION("""COMPUTED_VALUE"""),"B9") -> B9 | N116: =IFERROR(__xludf.DUMMYFUNCTION("""COMPUTED_VALUE"""),5) -> 5 | P116: =IFERROR(__xludf.DUMMYFUNCTION("""COMPUTED_VALUE"""),"") | Q116: =IFERROR(__xludf.DUMMYFUNCTION("""COMPUTED_VALUE"""),"Rowen Stenberg") -> Rowen Stenberg | R116: =IFERROR(__xludf.DUMMYFUNCTION("""COMPUTED_VALUE"""),"WC") -> WC | S116: =IFERROR(__xludf.DUMMYFUNCTION("""COMPUTED_VALUE"""),"B7") -> B7 | T116: =IFERROR(__xludf.DUMMYFUNCTION("""COMPUTED_VALUE"""),5) -> 5 | U116: 65 | V116: =IFERROR(__xludf.DUMMYFUNCTION("""COMPUTED_VALUE"""),"")
A117: #NAME? | B117: 721 | C117: Luke Brannan | D117: DR | E117: Markus Krumins | F117: DR | G117: 49.38 | K117: =IFERROR(__xludf.DUMMYFUNCTION("""COMPUTED_VALUE"""),"Luke Brannan") -> Luke Brannan | L117: =IFERROR(__xludf.DUMMYFUNCTION("""COMPUTED_VALUE"""),"DR") -> DR | M117: =IFERROR(__xludf.DUMMYFUNCTION("""COMPUTED_VALUE"""),"B9") -> B9 | N117: =IFERROR(__xludf.DUMMYFUNCTION("""COMPUTED_VALUE"""),4) -> 4 | P117: =IFERROR(__xludf.DUMMYFUNCTION("""COMPUTED_VALUE"""),"") | Q117: =IFERROR(__xludf.DUMMYFUNCTION("""COMPUTED_VALUE"""),"Markus Krumins") -> Markus Krumins | R117: =IFERROR(__xludf.DUMMYFUNCTION("""COMPUTED_VALUE"""),"DR") -> DR | S117: =IFERROR(__xludf.DUMMYFUNCTION("""COMPUTED_VALUE"""),"B9") -> B9 | T117: =IFERROR(__xludf.DUMMYFUNCTION("""COMPUTED_VALUE"""),5) -> 5 | U117: 65 | V117: =IFERROR(__xludf.DUMMYFUNCTION("""COMPUTED_VALUE"""),"")
A118: #NAME? | B118: 743 | C118: Jacob Stanley | D118: PAR | E118: Flynn Miller | F118: PAR | G118: 58.41 | K118: =IFERROR(__xludf.DUMMYFUNCTION("""COMPUTED_VALUE"""),"Jacob Stanley") -> Jacob Stanley | L118: =IFERROR(__xludf.DUMMYFUNCTION("""COMPUTED_VALUE"""),"PAR") -> PAR | M118: =IFERROR(__xludf.DUMMYFUNCTION("""COMPUTED_VALUE"""),"B10") -> B10 | N118: =IFERROR(__xludf.DUMMYFUNCTION("""COMPUTED_VALUE"""),5) -> 5 | P118: =IFERROR(__xludf.DUMMYFUNCTION("""COMPUTED_VALUE"""),"") | Q118: =IFERROR(__xludf.DUMMYFUNCTION("""COMPUTED_VALUE"""),"Flynn Miller") -> Flynn Miller | R118: =IFERROR(__xludf.DUMMYFUNCTION("""COMPUTED_VALUE"""),"PAR") -> PAR | S118: =IFERROR(__xludf.DUMMYFUNCTION("""COMPUTED_VALUE"""),"B10") -> B10 | T118: =IFERROR(__xludf.DUMMYFUNCTION("""COMPUTED_VALUE"""),5) -> 5 | U118: 65 | V118: =IFERROR(__xludf.DUMMYFUNCTION("""COMPUTED_VALUE"""),"")
A119: #NAME? | B119: 1054 | C119: Ravi Martinez | D119: DR | E119: Will McCool | F119: DR | G119: 62.52 | K119: =IFERROR(__xludf.DUMMYFUNCTION("""COMPUTED_VALUE"""),"Ravi Martinez") -> Ravi Martinez | L119: =IFERROR(__xludf.DUMMYFUNCTION("""COMPUTED_VALUE"""),"DR") -> DR | M119: =IFERROR(__xludf.DUMMYFUNCTION("""COMPUTED_VALUE"""),"B11") -> B11 | N119: =IFERROR(__xludf.DUMMYFUNCTION("""COMPUTED_VALUE"""),5) -> 5 | P119: =IFERROR(__xludf.DUMMYFUNCTION("""COMPUTED_VALUE"""),"") | Q119: =IFERROR(__xludf.DUMMYFUNCTION("""COMPUTED_VALUE"""),"Will McCool") -> Will McCool | R119: =IFERROR(__xludf.DUMMYFUNCTION("""COMPUTED_VALUE"""),"DR") -> DR | S119: =IFERROR(__xludf.DUMMYFUNCTION("""COMPUTED_VALUE"""),"B10") -> B10 | T119: =IFERROR(__xludf.DUMMYFUNCTION("""COMPUTED_VALUE"""),5) -> 5 | U119: 65 | V119: =IFERROR(__xludf.DUMMYFUNCTION("""COMPUTED_VALUE"""),"")
A120: #NAME? | B120: 1794 | C120: Nicholas Beier | D120: AF | E120: Nicholas Petruccelli | F120: AF | G120: 52.26 | K120: =IFERROR(__xludf.DUMMYFUNCTION("""COMPUTED_VALUE"""),"Nicholas Beier") -> Nicholas Beier | L120: =IFERROR(__xludf.DUMMYFUNCTION("""COMPUTED_VALUE"""),"AF") -> AF | M120: =IFERROR(__xludf.DUMMYFUNCTION("""COMPUTED_VALUE"""),"B12") -> B12 | N120: =IFERROR(__xludf.DUMMYFUNCTION("""COMPUTED_VALUE"""),5) -> 5 | P120: =IFERROR(__xludf.DUMMYFUNCTION("""COMPUTED_VALUE"""),"") | Q120: =IFERROR(__xludf.DUMMYFUNCTION("""COMPUTED_VALUE"""),"Nicholas Petruccelli") -> Nicholas Petruccelli | R120: =IFERROR(__xludf.DUMMYFUNCTION("""COMPUTED_VALUE"""),"AF") -> AF | S120: =IFERROR(__xludf.DUMMYFUNCTION("""COMPUTED_VALUE"""),"B11") -> B11 | T120: =IFERROR(__xludf.DUMMYFUNCTION("""COMPUTED_VALUE"""),5) -> 5 | U120: 95 | V120: =IFERROR(__xludf.DUMMYFUNCTION("""COMPUTED_VALUE"""),"")
A121: #NAME? | B121: 1823 | C121: Patrick Walsh | D121: OAK | E121: Brayden Lane | F121: OAK | G121: 52.23 | K121: =IFERROR(__xludf.DUMMYFUNCTION("""COMPUTED_VALUE"""),"Patrick Walsh") -> Patrick Walsh | L121: =IFERROR(__xludf.DUMMYFUNCTION("""COMPUTED_VALUE"""),"OAK") -> OAK | M121: =IFERROR(__xludf.DUMMYFUNCTION("""COMPUTED_VALUE"""),"B9") -> B9 | N121: =IFERROR(__xludf.DUMMYFUNCTION("""COMPUTED_VALUE"""),5) -> 5 | P121: =IFERROR(__xludf.DUMMYFUNCTION("""COMPUTED_VALUE"""),"") | Q121: =IFERROR(__xludf.DUMMYFUNCTION("""COMPUTED_VALUE"""),"Brayden Lane") -> Brayden Lane | R121: =IFERROR(__xludf.DUMMYFUNCTION("""COMPUTED_VALUE"""),"OAK") -> OAK | S121: =IFERROR(__xludf.DUMMYFUNCTION("""COMPUTED_VALUE"""),"B9") -> B9 | T121: =IFERROR(__xludf.DUMMYFUNCTION("""COMPUTED_VALUE"""),5) -> 5 | U121: 65 | V121: =IFERROR(__xludf.DUMMYFUNCTION("""COMPUTED_VALUE"""),"")
A122: #NAME? | B122: 2077 | C122: Fionn Cahill | D122: S | E122: Matthew Rempe | F122: S | G122: 39.57 | K122: =IFERROR(__xludf.DUMMYFUNCTION("""COMPUTED_VALUE"""),"Fionn Cahill") -> Fionn Cahill | L122: =IFERROR(__xludf.DUMMYFUNCTION("""COMPUTED_VALUE"""),"S") -> S | M122: =IFERROR(__xludf.DUMMYFUNCTION("""COMPUTED_VALUE"""),"B9") -> B9 | N122: =IFERROR(__xludf.DUMMYFUNCTION("""COMPUTED_VALUE"""),5) -> 5 | P122: =IFERROR(__xludf.DUMMYFUNCTION("""COMPUTED_VALUE"""),"") | Q122: =IFERROR(__xludf.DUMMYFUNCTION("""COMPUTED_VALUE"""),"Matthew Rempe") -> Matthew Rempe | R122: =IFERROR(__xludf.DUMMYFUNCTION("""COMPUTED_VALUE"""),"S") -> S | S122: =IFERROR(__xludf.DUMMYFUNCTION("""COMPUTED_VALUE"""),"B10") -> B10 | T122: =IFERROR(__xludf.DUMMYFUNCTION("""COMPUTED_VALUE"""),5) -> 5 | U122: 65 | V122: =IFERROR(__xludf.DUMMYFUNCTION("""COMPUTED_VALUE"""),"")
A123: #NAME? | B123: 2159 | C123: Liam Cahill | D123: S | E123: Samuel Rempe | F123: S | G123: 53.82 | K123: =IFERROR(__xludf.DUMMYFUNCTION("""COMPUTED_VALUE"""),"Liam Cahill") -> Liam Cahill | L123: =IFERROR(__xludf.DUMMYFUNCTION("""COMPUTED_VALUE"""),"S") -> S | M123: =IFERROR(__xludf.DUMMYFUNCTION("""COMPUTED_VALUE"""),"B11") -> B11 | N123: =IFERROR(__xludf.DUMMYFUNCTION("""COMPUTED_VALUE"""),5) -> 5 | P123: =IFERROR(__xludf.DUMMYFUNCTION("""COMPUTED_VALUE"""),"") | Q123: =IFERROR(__xludf.DUMMYFUNCTION("""COMPUTED_VALUE"""),"Samuel Rempe") -> Samuel Rempe | R123: =IFERROR(__xludf.DUMMYFUNCTION("""COMPUTED_VALUE"""),"S") -> S | S123: =IFERROR(__xludf.DUMMYFUNCTION("""COMPUTED_VALUE"""),"B11") -> B11 | T123: =IFERROR(__xludf.DUMMYFUNCTION("""COMPUTED_VALUE"""),2) -> 2 | U123: 95 | V123: =IFERROR(__xludf.DUMMYFUNCTION("""COMPUTED_VALUE"""),"")
A124: #NAME? | B124: 2294 | C124: Cameron Cohen | D124: HP | E124: Declan Fitzsimmons | F124: HP | G124: 35.28 | K124: =IFERROR(__xludf.DUMMYFUNCTION("""COMPUTED_VALUE"""),"Cameron Cohen") -> Cameron Cohen | L124: =IFERROR(__xludf.DUMMYFUNCTION("""COMPUTED_VALUE"""),"HP") -> HP | M124: =IFERROR(__xludf.DUMMYFUNCTION("""COMPUTED_VALUE"""),"B11") -> B11 | N124: =IFERROR(__xludf.DUMMYFUNCTION("""COMPUTED_VALUE"""),4) -> 4 | P124: =IFERROR(__xludf.DUMMYFUNCTION("""COMPUTED_VALUE"""),"") | Q124: =IFERROR(__xludf.DUMMYFUNCTION("""COMPUTED_VALUE"""),"Declan Fitzsimmons") -> Declan Fitzsimmons | R124: =IFERROR(__xludf.DUMMYFUNCTION("""COMPUTED_VALUE"""),"HP") -> HP | S124: =IFERROR(__xludf.DUMMYFUNCTION("""COMPUTED_VALUE"""),"B10") -> B10 | T124: =IFERROR(__xludf.DUMMYFUNCTION("""COMPUTED_VALUE"""),4) -> 4 | U124: 65 | V124: =IFERROR(__xludf.DUMMYFUNCTION("""COMPUTED_VALUE"""),"")
A125: #NAME? | B125: 2396 | C125: Ben Margolis | D125: HP | E125: Julian Castro | F125: HP | G125: 64.41 | K125: =IFERROR(__xludf.DUMMYFUNCTION("""COMPUTED_VALUE"""),"Ben Margolis") -> Ben Margolis | L125: =IFERROR(__xludf.DUMMYFUNCTION("""COMPUTED_VALUE"""),"HP") -> HP | M125: =IFERROR(__xludf.DUMMYFUNCTION("""COMPUTED_VALUE"""),"B12") -> B12 | N125: =IFERROR(__xludf.DUMMYFUNCTION("""COMPUTED_VALUE"""),5) -> 5 | P125: =IFERROR(__xludf.DUMMYFUNCTION("""COMPUTED_VALUE"""),"") | Q125: =IFERROR(__xludf.DUMMYFUNCTION("""COMPUTED_VALUE"""),"Julian Castro") -> Julian Castro | R125: =IFERROR(__xludf.DUMMYFUNCTION("""COMPUTED_VALUE"""),"HP") -> HP | S125: =IFERROR(__xludf.DUMMYFUNCTION("""COMPUTED_VALUE"""),"B11") -> B11 | T125: =IFERROR(__xludf.DUMMYFUNCTION("""COMPUTED_VALUE"""),5) -> 5 | U125: 95 | V125: =IFERROR(__xludf.DUMMYFUNCTION("""COMPUTED_VALUE"""),"")
A126: #NAME? | B126: 2467 | C126: Cormac Henderson | D126: PL | E126: Miller Supple | F126: PL | G126: 67.65 | K126: =IFERROR(__xludf.DUMMYFUNCTION("""COMPUTED_VALUE"""),"Cormac Henderson") -> Cormac Henderson | L126: =IFERROR(__xludf.DUMMYFUNCTION("""COMPUTED_VALUE"""),"PL") -> PL | M126: =IFERROR(__xludf.DUMMYFUNCTION("""COMPUTED_VALUE"""),"B11") -> B11 | N126: =IFERROR(__xludf.DUMMYFUNCTION("""COMPUTED_VALUE"""),4) -> 4 | P126: =IFERROR(__xludf.DUMMYFUNCTION("""COMPUTED_VALUE"""),"") | Q126: =IFERROR(__xludf.DUMMYFUNCTION("""COMPUTED_VALUE"""),"Miller Supple") -> Miller Supple | R126: =IFERROR(__xludf.DUMMYFUNCTION("""COMPUTED_VALUE"""),"PL") -> PL | S126: =IFERROR(__xludf.DUMMYFUNCTION("""COMPUTED_VALUE"""),"B11") -> B11 | T126: =IFERROR(__xludf.DUMMYFUNCTION("""COMPUTED_VALUE"""),5) -> 5 | U126: 95 | V126: =IFERROR(__xludf.DUMMYFUNCTION("""COMPUTED_VALUE"""),"")
...

Sheet MeetResults
D1: 45480 | E1: NVSL WALLY MARTIN SYNCHRO PARTICIPANTS FOR 07/07/2024
D2: Age Group | F2: Cnt | G2: Status
A3: 1 | D3: 12 & Under Girls | F3: 26 | G3: 01-Awaiting Scores
A4: 2 | D4: 12 & Under Boys | F4: 15 | G4: 01-Awaiting Scores
A5: 3 | D5: 13 & Over Girls | F5: 23 | G5: 01-Awaiting Scores
A6: 4 | D6: 13 & Over Boys | F6: 19 | G6: 01-Awaiting Scores
A7: 8
D8: Age Group: 12 & Under Girls | H8: Date | I8: 45480
H9: Report Status | I9: 01-Awaiting Scores
D10: * These results are calculated automatically and are non-editable
C11: Age and Gender | E11: 12 & Under Girls
C12: Count | E12: 26
C13: Place | D13: Diver 1 Name | F13: Pool | G13: Diver 2 Name | I13: Pool | J13: Score | N13: Place | O13: Name1 | P13: Club1 | Q13: Name2 | R13: Club2 | S13: Score
C14: 1 | D14: Quinn Zahler | F14: RH | G14: Xanthy Kuehne | I14: RH | J14: 70.56 | N14: #NAME? | O14: Quinn Zahler | P14: RH | Q14: Xanthy Kuehne | R14: RH | S14: 70.56
C15: 2 | D15: Lilly Jessup | F15: RH | G15: Katelyn Thackaberry | I15: RH | J15: 67.65 | N15: #NAME? | O15: Lilly Jessup | P15: RH | Q15: Katelyn Thackaberry | R15: RH | S15: 67.65
C16: 3 | D16: Holly Denniston | F16: KG | G16: Julia Denniston | I16: KG | J16: 65.43 | N16: #NAME? | O16: Holly Denniston | P16: KG | Q16: Julia Denniston | R16: KG | S16: 65.43
C17: 4 | D17: Emma Fricke | F17: G | G17: Leighton Raich | I17: G | J17: 65.28 | N17: #NAME? | O17: Emma Fricke | P17: G | Q17: Leighton Raich | R17: G | S17: 65.28
C18: 5 | D18: Simone Wilson | F18: OAK | G18: Lauren Emerick | I18: OAK | J18: 65.22 | N18: #NAME? | O18: Simone Wilson | P18: OAK | Q18: Lauren Emerick | R18: OAK | S18: 65.22
C19: 6 | D19: Mouse Guy | F19: HP | G19: Leah Jandrain | I19: HP | J19: 64.23 | N19: #NAME? | O19: Mouse Guy | P19: HP | Q19: Leah Jandrain | R19: HP | S19: 64.23
C20: 7 | D20: Victoria Williams | F20: FS | G20: Elizabeth Pidgeon | I20: FS | J20: 62.82 | N20: #NAME? | O20: Victoria Williams | P20: FS | Q20: Elizabeth Pidgeon | R20: FS | S20: 62.82
C21: 8 | D21: Payton Bennett | F21: HV | G21: Lillian Gunderson | I21: HV | J21: 60.93 | N21: #NAME? | O21: Payton Bennett | P21: HV | Q21: Lillian Gunderson | R21: HV | S21: 60.93
C22: 9 | D22: Evelyn Sanders | F22: GF | G22: Bennett Barletta | I22: GF | J22: 60.03 | N22: #NAME? | O22: Evelyn Sanders | P22: GF | Q22: Bennett Barletta | R22: GF | S22: 60.03
C23: 10 | D23: Clara Beatty | F23: DL | G23: Erin Martonik | I23: DL | J23: 59.07 | N23: #NAME? | O23: Clara Beatty | P23: DL | Q23: Erin Martonik | R23: DL | S23: 59.07
C24: 11 | D24: Norah Wittman | F24: KG | G24: Kira Bhasin | I24: KG | J24: 58.41 | N24: #NAME? | O24: Norah Wittman | P24: KG | Q24: Kira Bhasin | R24: KG | S24: 58.41
C25: 12 | D25: Elise Esquivel | F25: DL | G25: Carina Bosco | I25: DL | J25: 55.92 | N25: #NAME? | O25: Elise Esquivel | P25: DL | Q25: Carina Bosco | R25: DL | S25: 55.92
... C39: 26 | D39: CeCe St. Jacques | F39: OAK | G39: Alice Henderson | I39: OAK | J39: 23.94 | N39: #NAME? | O39: CeCe St. Jacques | P39: OAK | Q39: Alice Henderson | R39: OAK | S39: 23.94
N40: #NAME?
N41: #NAME?
N42: #NAME?
C44: Comments
C45: 0
D87: Age Group: 12 & Under Boys | H87: Date | I87: 45480
H88: Report Status | I88: 01-Awaiting Scores
D89: * These results are calculated automatically and are non-editable
C90: Age and Gender | E90: 12 & Under Boys
C91: Count | E91: 15
C92: Place | D92: Diver 1 Name | F92: Pool | G92: Diver 2 Name | I92: Pool | J92: Score | N92: Place | O92: Name1 | P92: Club1 | Q92: Name2 | R92: Club2 | S92: Score
C93: 1 | D93: Cormac Henderson | F93: PL | G93: Miller Supple | I93: PL | J93: 67.65 | N93: #NAME? | O93: Cormac Henderson | P93: PL | Q93: Miller Supple | R93: PL | S93: 67.65
C94: 2 | D94: Ben Margolis | F94: HP | G94: Julian Castro | I94: HP | J94: 64.41 | N94: #NAME? | O94: Ben Margolis | P94: HP | Q94: Julian Castro | R94: HP | S94: 64.41
C95: 3 | D95: Ravi Martinez | F95: DR | G95: Will McCool | I95: DR | J95: 62.52 | N95: #NAME? | O95: Ravi Martinez | P95: DR | Q95: Will McCool | R95: DR | S95: 62.52
C96: 4 | D96: Jacob Stanley | F96: PAR | G96: Flynn Miller | I96: PAR | J96: 58.41 | N96: #NAME? | O96: Jacob Stanley | P96: PAR | Q96: Flynn Miller | R96: PAR | S96: 58.41
C97: 5 | D97: Liam Cahill | F97: S | G97: Samuel Rempe | I97: S | J97: 53.82 | N97: #NAME? | O97: Liam Cahill | P97: S | Q97: Samuel Rempe | R97: S | S97: 53.82
C98: 6 | D98: Alex Kroely | F98: GF | G98: Pierre Kroely | I98: GF | J98: 52.83 | N98: #NAME? | O98: Alex Kroely | P98: GF | Q98: Pierre Kroely | R98: GF | S98: 52.83
C99: 7 | D99: Ian Thackaberry | F99: RH | G99: Curt Berry | I99: RH | J99: 52.56 | N99: #NAME? | O99: Ian Thackaberry | P99: RH | Q99: Curt Berry | R99: RH | S99: 52.56
C100: 8 | D100: Nicholas Beier | F100: AF | G100: Nicholas Petruccelli | I100: AF | J100: 52.26 | N100: #NAME? | O100: Nicholas Beier | P100: AF | Q100: Nicholas Petruccelli | R100: AF | S100: 52.26
C101: 9 | D101: Patrick Walsh | F101: OAK | G101: Brayden Lane | I101: OAK | J101: 52.23 | N101: #NAME? | O101: Patrick Walsh | P101: OAK | Q101: Brayden Lane | R101: OAK | S101: 52.23
C102: 10 | D102: Cavan Telleen | F102: FS | G102: Chanler Majiros | I102: FS | J102: 51.51 | N102: #NAME? | O102: Cavan Telleen | P102: FS | Q102: Chanler Majiros | R102: FS | S102: 51.51
C103: 11 | D103: Luke Brannan | F103: DR | G103: Markus Krumins | I103: DR | J103: 49.38 | N103: #NAME? | O103: Luke Brannan | P103: DR | Q103: Markus Krumins | R103: DR | S103: 49.38
C104: 12 | D104: Lincoln Kemp | F104: HV | G104: Alexander Ogrodny | I104: HV | J104: 46.29 | N104: #NAME? | O104: Lincoln Kemp | P104: HV | Q104: Alexander Ogrodny | R104: HV | S104: 46.29
... C106: 14 | D106: Cameron Cohen | F106: HP | G106: Declan Fitzsimmons | I106: HP | J106: 35.28 | N106: #NAME? | O106: Cameron Cohen | P106: HP | Q106: Declan Fitzsimmons | R106: HP | S106: 35.28
C107: 15 | D107: Matthew Robertson | F107: WC | G107: Rowen Stenberg | I107: WC | J107: DQ | N107: #NAME? | O107: Matthew Robertson | P107: WC | Q107: Rowen Stenberg | R107: WC | S107: -1
D108: 0 | F108: 0 | G108: 0 | I108: 0 | N108: #NAME?
D109: 0 | F109: 0 | G109: 0 | I109: 0 | N109: #NAME?
D110: 0 | F110: 0 | G110: 0 | I110: 0 | N110: #NAME?
D111: 0 | F111: 0 | G111: 0 | I111: 0 | N111: #NAME?
D112: 0 | F112: 0 | G112: 0 | I112: 0 | N112: #NAME?
D113: 0 | F113: 0 | G113: 0 | I113: 0 | N113: #NAME?
D114: 0 | F114: 0 | G114: 0 | I114: 0 | N114: #NAME?
D115: 0 | F115: 0 | G115: 0 | I115: 0 | N115: #NAME?
D116: 0 | F116: 0 | G116: 0 | I116: 0 | N116: #NAME?
D117: 0 | F117: 0 | G117: 0 | I117: 0 | N117: #NAME?
D118: 0 | F118: 0 | G118: 0 | I118: 0 | N118: #NAME?
D119: 0 | F119: 0 | G119: 0 | I119: 0 | N119: #NAME?
... D142: 0 | F142: 0 | G142: 0 | I142: 0 | N142: #NAME?
C144: Comments
C145: 0
D187: Age Group: 13 & Over Girls | H187: Date | I187: 45480
H188: Report Status | I188: 01-Awaiting Scores
D189: * These results are calculated automatically and are non-editable
C190: Age and Gender | E190: 13 & Over Girls
C191: Count | E191: 23
C192: Place | D192: Diver 1 Name | F192: Pool | G192: Diver 2 Name | I192: Pool | J192: Score | N192: Place | O192: Name1 | P192: Club1 | Q192: Name2 | R192: Club2 | S192: Score
C193: 1 | D193: Rowan Threadgill | F193: G | G193: Beatrice Sultanaeva | I193: LV | J193: 119.37 | N193: #NAME? | O193: Rowan Threadgill | P193: G | Q193: Beatrice Sultanaeva | R193: LV | S193: 119.37
C194: 2 | D194: Isabelle Whang | F194: OAK | G194: Kayla Knight | I194: OAK | J194: 118.23 | N194: #NAME? | O194: Isabelle Whang | P194: OAK | Q194: Kayla Knight | R194: OAK | S194: 118.23
C195: 3 | D195: Greer Dempster | F195: F | G195: Lexi Haynie | I195: F | J195: 107.28 | N195: #NAME? | O195: Greer Dempster | P195: F | Q195: Lexi Haynie | R195: F | S195: 107.28
C196: 4 | D196: Olivia Roca | F196: F | G196: Cally Codding | I196: F | J196: 101.88 | N196: #NAME? | O196: Olivia Roca | P196: F | Q196: Cally Codding | R196: F | S196: 101.88
C197: 5 | D197: CiCi Yen | F197: O | G197: McKay Deegan | I197: O | J197: 100.98 | N197: #NAME? | O197: CiCi Yen | P197: O | Q197: McKay Deegan | R197: O | S197: 100.98
C198: 6 | D198: Ziya Bhasin | F198: KG | G198: Cate Lawler | I198: KG | J198: 99.57 | N198: #NAME? | O198: Ziya Bhasin | P198: KG | Q198: Cate Lawler | R198: KG | S198: 99.57
C199: 7 | D199: ZZ Arnic | F199: SHB | G199: Teagan Wielechowski | I199: KG | J199: 98.79 | N199: #NAME? | O199: ZZ Arnic | P199: SHB | Q199: Teagan Wielechowski | R199: KG | S199: 98.79
C200: 8 | D200: Meredith Lawler | F200: KG | G200: Catherine Ayers | I200: KG | J200: 94.53 | N200: #NAME? | O200: Meredith Lawler | P200: KG | Q200: Catherine Ayers | R200: KG | S200: 94.53
C201: 9 | D201: Heather Calderon | F201: RFD | G201: Taityn Speier | I201: RFD | J201: 93.99 | N201: #NAME? | O201: Heather Calderon | P201: RFD | Q201: Taityn Speier | R201: RFD | S201: 93.99
C202: 10 | D202: Caroline Berry | F202: RH | G202: Edie Freeman | I202: RH | J202: 92.97 | N202: #NAME? | O202: Caroline Berry | P202: RH | Q202: Edie Freeman | R202: RH | S202: 92.97
C203: 11 | D203: Mary Abela | F203: GF | G203: Norah Kissinger | I203: GF | J203: 91.14 | N203: #NAME? | O203: Mary Abela | P203: GF | Q203: Norah Kissinger | R203: GF | S203: 91.14
C204: 12 | D204: Olivia Berik | F204: HS | G204: Julia Paukovits | I204: HS | J204: 90.48 | N204: #NAME? | O204: Olivia Berik | P204: HS | Q204: Julia Paukovits | R204: HS | S204: 90.48
... C215: 23 | D215: Phoebe Guy | F215: HP | G215: Kimberly Kobus | I215: HP | J215: 49.11 | N215: #NAME? | O215: Phoebe Guy | P215: HP | Q215: Kimberly Kobus | R215: HP | S215: 49.11
D216: 0 | F216: 0 | G216: 0 | I216: 0 | N216: #NAME?
D217: 0 | F217: 0 | G217: 0 | I217: 0 | N217: #NAME?
D218: 0 | F218: 0 | G218: 0 | I218: 0 | N218: #NAME?
D219: 0 | F219: 0 | G219: 0 | I219: 0 | N219: #NAME?
D220: 0 | F220: 0 | G220: 0 | I220: 0 | N220: #NAME?
D221: 0 | F221: 0 | G221: 0 | I221: 0 | N221: #NAME?
D222: 0 | F222: 0 | G222: 0 | I222: 0 | N222: #NAME?
D223: 0 | F223: 0 | G223: 0 | I223: 0 | N223: #NAME?
D224: 0 | F224: 0 | G224: 0 | I224: 0 | N224: #NAME?
D225: 0 | F225: 0 | G225: 0 | I225: 0 | N225: #NAME?
D226: 0 | F226: 0 | G226: 0 | I226: 0 | N226: #NAME?
D227: 0 | F227: 0 | G227: 0 | I227: 0 | N227: #NAME?
... D242: 0 | F242: 0 | G242: 0 | I242: 0 | N242: #NAME?
C244: Comments
C245: 0
...

Sheet Lookup-DiverRoster
A1: Official NVSL Diver Rosters for year of: | D1: 2024
A2: =IFERROR(__xludf.DUMMYFUNCTION("SORT( QUERY( IMPORTRANGE( VLOOKUP(""DiverDBExport"",'Lookup-Generic'!$O:$P,2,0), ""Lookup-DiverRoster!$A$4:$O$2400"" ), ""SELECT *""), 1, true, 9, true, 2, true)"),"!2024 DiverTeam: 2204 Entries") -> !2024 DiverTeam: 2204 Entries | B2: =IFERROR(__xludf.DUMMYFUNCTION("""COMPUTED_VALUE"""),"!2024 DiverName: 2204 Entries") -> !2024 DiverName: 2204 Entries | C2: =IFERROR(__xludf.DUMMYFUNCTION("""COMPUTED_VALUE"""),"!2024 DiverAgeOn61: 2203 Entries") -> !2024 DiverAgeOn61: 2203 Entries | D2: =IFERROR(__xludf.DUMMYFUNCTION("""COMPUTED_VALUE"""),"!2024 DiverGender: 2203 Entries G:1267 B:936") -> !2024 DiverGender: 2203 Entries G:1267 B:936 | E2: =IFERROR(__xludf.DUMMYFUNCTION("""COMPUTED_VALUE"""),"!Calculated DiverEvent F:1103 J:525 I:312 S:263") -> !Calculated DiverEvent F:1103 J:525 I:312 S:263 | F2: =IFERROR(__xludf.DUMMYFUNCTION("""COMPUTED_VALUE"""),"Calculated DiveUpEvent") -> Calculated DiveUpEvent | G2: =IFERROR(__xludf.DUMMYFUNCTION("""COMPUTED_VALUE"""),"Division Lookup") -> Division Lookup | H2: =IFERROR(__xludf.DUMMYFUNCTION("""COMPUTED_VALUE"""),"Club Lookup") -> Club Lookup | I2: =IFERROR(__xludf.DUMMYFUNCTION("""COMPUTED_VALUE"""),"Event Sort Order") -> Event Sort Order | J2: =IFERROR(__xludf.DUMMYFUNCTION("""COMPUTED_VALUE"""),"Dual Meets Diver Completed") -> Dual Meets Diver Completed | K2: =IFERROR(__xludf.DUMMYFUNCTION("""COMPUTED_VALUE"""),"Diver Dual-Meet 1-4 High Score") -> Diver Dual-Meet 1-4 High Score | L2: =IFERROR(__xludf.DUMMYFUNCTION("""COMPUTED_VALUE"""),"") | M2: =IFERROR(__xludf.DUMMYFUNCTION("""COMPUTED_VALUE"""),"06/18/24 Dual Meet Results") -> 06/18/24 Dual Meet Results | N2: =IFERROR(__xludf.DUMMYFUNCTION("""COMPUTED_VALUE"""),"") | O2: =IFERROR(__xludf.DUMMYFUNCTION("""COMPUTED_VALUE"""),"06/25/24 Dual Meet Results") -> 06/25/24 Dual Meet Results | Q2: 1. Official NVSL Roster for 12 & Under Girls (951 divers) | R2: 2. Official NVSL Roster for 12 & Under Boys (677 divers) | S2: 3. Official NVSL Roster for 13 & Over Girls (1267 divers) | T2: 4. Official NVSL Roster for 13 & Over Boys (936 divers)
A3: =IFERROR(__xludf.DUMMYFUNCTION("""COMPUTED_VALUE"""),"A") -> A | B3: =IFERROR(__xludf.DUMMYFUNCTION("""COMPUTED_VALUE"""),"Elizabeth Rodenbeck") -> Elizabeth Rodenbeck | C3: =IFERROR(__xludf.DUMMYFUNCTION("""COMPUTED_VALUE"""),10) -> 10 | D3: =IFERROR(__xludf.DUMMYFUNCTION("""COMPUTED_VALUE"""),"G") -> G | E3: =IFERROR(__xludf.DUMMYFUNCTION("""COMPUTED_VALUE"""),"F") -> F | F3: =IFERROR(__xludf.DUMMYFUNCTION("""COMPUTED_VALUE"""),"J") -> J | G3: =IFERROR(__xludf.DUMMYFUNCTION("""COMPUTED_VALUE"""),7) -> 7 | H3: =IFERROR(__xludf.DUMMYFUNCTION("""COMPUTED_VALUE"""),"A") -> A | I3: =IFERROR(__xludf.DUMMYFUNCTION("""COMPUTED_VALUE"""),4) -> 4 | J3: =IFERROR(__xludf.DUMMYFUNCTION("""COMPUTED_VALUE"""),4) -> 4 | K3: =IFERROR(__xludf.DUMMYFUNCTION("""COMPUTED_VALUE"""),35.8) -> 35.8 | O3: =IFERROR(__xludf.DUMMYFUNCTION("""COMPUTED_VALUE"""),35.8) -> 35.8 | Q3: =IFERROR(__xludf.DUMMYFUNCTION("SORT( FILTER( $B:$B, VALUE( $C:$C ) <= 12, $D:$D=""G"" ))"),"Aadhya Alla") -> Aadhya Alla | R3: =IFERROR(__xludf.DUMMYFUNCTION("SORT( FILTER( $B:$B, VALUE( $C:$C ) <= 12, $D:$D=""B"" ))"),"Aadi Bhartiya") -> Aadi Bhartiya | S3: =IFERROR(__xludf.DUMMYFUNCTION("SORT( FILTER( $B:$B, $D:$D=""G"" ))"),"Aadhya Alla") -> Aadhya Alla | T3: =IFERROR(__xludf.DUMMYFUNCTION("SORT( FILTER( $B:$B, $D:$D=""B"" ))"),"Aadi Bhartiya") -> Aadi Bhartiya
A4: =IFERROR(__xludf.DUMMYFUNCTION("""COMPUTED_VALUE"""),"A") -> A | B4: =IFERROR(__xludf.DUMMYFUNCTION("""COMPUTED_VALUE"""),"Farah Ahmadi") -> Farah Ahmadi | C4: =IFERROR(__xludf.DUMMYFUNCTION("""COMPUTED_VALUE"""),8) -> 8 | D4: =IFERROR(__xludf.DUMMYFUNCTION("""COMPUTED_VALUE"""),"G") -> G | E4: =IFERROR(__xludf.DUMMYFUNCTION("""COMPUTED_VALUE"""),"F") -> F | F4: =IFERROR(__xludf.DUMMYFUNCTION("""COMPUTED_VALUE"""),"J") -> J | G4: =IFERROR(__xludf.DUMMYFUNCTION("""COMPUTED_VALUE"""),7) -> 7 | H4: =IFERROR(__xludf.DUMMYFUNCTION("""COMPUTED_VALUE"""),"A") -> A | I4: =IFERROR(__xludf.DUMMYFUNCTION("""COMPUTED_VALUE"""),4) -> 4 | J4: =IFERROR(__xludf.DUMMYFUNCTION("""COMPUTED_VALUE"""),0) -> 0 | Q4: =IFERROR(__xludf.DUMMYFUNCTION("""COMPUTED_VALUE"""),"Abbie Colwill") -> Abbie Colwill | R4: =IFERROR(__xludf.DUMMYFUNCTION("""COMPUTED_VALUE"""),"Aaron Barger") -> Aaron Barger | S4: =IFERROR(__xludf.DUMMYFUNCTION("""COMPUTED_VALUE"""),"Abbie Colwill") -> Abbie Colwill | T4: =IFERROR(__xludf.DUMMYFUNCTION("""COMPUTED_VALUE"""),"Aaron Barger") -> Aaron Barger
A5: =IFERROR(__xludf.DUMMYFUNCTION("""COMPUTED_VALUE"""),"A") -> A | B5: =IFERROR(__xludf.DUMMYFUNCTION("""COMPUTED_VALUE"""),"Grace Middendorf") -> Grace Middendorf | C5: =IFERROR(__xludf.DUMMYFUNCTION("""COMPUTED_VALUE"""),8) -> 8 | D5: =IFERROR(__xludf.DUMMYFUNCTION("""COMPUTED_VALUE"""),"G") -> G | E5: =IFERROR(__xludf.DUMMYFUNCTION("""COMPUTED_VALUE"""),"F") -> F | F5: =IFERROR(__xludf.DUMMYFUNCTION("""COMPUTED_VALUE"""),"J") -> J | G5: =IFERROR(__xludf.DUMMYFUNCTION("""COMPUTED_VALUE"""),7) -> 7 | H5: =IFERROR(__xludf.DUMMYFUNCTION("""COMPUTED_VALUE"""),"A") -> A | I5: =IFERROR(__xludf.DUMMYFUNCTION("""COMPUTED_VALUE"""),4) -> 4 | J5: =IFERROR(__xludf.DUMMYFUNCTION("""COMPUTED_VALUE"""),1) -> 1 | K5: =IFERROR(__xludf.DUMMYFUNCTION("""COMPUTED_VALUE"""),14.5) -> 14.5 | O5: =IFERROR(__xludf.DUMMYFUNCTION("""COMPUTED_VALUE"""),14.5) -> 14.5 | Q5: =IFERROR(__xludf.DUMMYFUNCTION("""COMPUTED_VALUE"""),"Abby Bockman") -> Abby Bockman | R5: =IFERROR(__xludf.DUMMYFUNCTION("""COMPUTED_VALUE"""),"Aaron Scruby") -> Aaron Scruby | S5: =IFERROR(__xludf.DUMMYFUNCTION("""COMPUTED_VALUE"""),"Abby Bockman") -> Abby Bockman | T5: =IFERROR(__xludf.DUMMYFUNCTION("""COMPUTED_VALUE"""),"Aaron Scruby") -> Aaron Scruby
A6: =IFERROR(__xludf.DUMMYFUNCTION("""COMPUTED_VALUE"""),"A") -> A | B6: =IFERROR(__xludf.DUMMYFUNCTION("""COMPUTED_VALUE"""),"Jacqueline Landry") -> Jacqueline Landry | C6: =IFERROR(__xludf.DUMMYFUNCTION("""COMPUTED_VALUE"""),7) -> 7 | D6: =IFERROR(__xludf.DUMMYFUNCTION("""COMPUTED_VALUE"""),"G") -> G | E6: =IFERROR(__xludf.DUMMYFUNCTION("""COMPUTED_VALUE"""),"F") -> F | F6: =IFERROR(__xludf.DUMMYFUNCTION("""COMPUTED_VALUE"""),"J") -> J | G6: =IFERROR(__xludf.DUMMYFUNCTION("""COMPUTED_VALUE"""),7) -> 7 | H6: =IFERROR(__xludf.DUMMYFUNCTION("""COMPUTED_VALUE"""),"A") -> A | I6: =IFERROR(__xludf.DUMMYFUNCTION("""COMPUTED_VALUE"""),4) -> 4 | J6: =IFERROR(__xludf.DUMMYFUNCTION("""COMPUTED_VALUE"""),2) -> 2 | K6: =IFERROR(__xludf.DUMMYFUNCTION("""COMPUTED_VALUE"""),23.8) -> 23.8 | M6: =IFERROR(__xludf.DUMMYFUNCTION("""COMPUTED_VALUE"""),23.8) -> 23.8 | O6: =IFERROR(__xludf.DUMMYFUNCTION("""COMPUTED_VALUE"""),6.75) -> 6.75 | Q6: =IFERROR(__xludf.DUMMYFUNCTION("""COMPUTED_VALUE"""),"Abby Desai") -> Abby Desai | R6: =IFERROR(__xludf.DUMMYFUNCTION("""COMPUTED_VALUE"""),"Aayush Chaturvedi") -> Aayush Chaturvedi | S6: =IFERROR(__xludf.DUMMYFUNCTION("""COMPUTED_VALUE"""),"Abby Desai") -> Abby Desai | T6: =IFERROR(__xludf.DUMMYFUNCTION("""COMPUTED_VALUE"""),"Aayush Chaturvedi") -> Aayush Chaturvedi
A7: =IFERROR(__xludf.DUMMYFUNCTION("""COMPUTED_VALUE"""),"A") -> A | B7: =IFERROR(__xludf.DUMMYFUNCTION("""COMPUTED_VALUE"""),"Jenna Jair") -> Jenna Jair | C7: =IFERROR(__xludf.DUMMYFUNCTION("""COMPUTED_VALUE"""),10) -> 10 | D7: =IFERROR(__xludf.DUMMYFUNCTION("""COMPUTED_VALUE"""),"G") -> G | E7: =IFERROR(__xludf.DUMMYFUNCTION("""COMPUTED_VALUE"""),"F") -> F | F7: =IFERROR(__xludf.DUMMYFUNCTION("""COMPUTED_VALUE"""),"J") -> J | G7: =IFERROR(__xludf.DUMMYFUNCTION("""COMPUTED_VALUE"""),7) -> 7 | H7: =IFERROR(__xludf.DUMMYFUNCTION("""COMPUTED_VALUE"""),"A") -> A | I7: =IFERROR(__xludf.DUMMYFUNCTION("""COMPUTED_VALUE"""),4) -> 4 | J7: =IFERROR(__xludf.DUMMYFUNCTION("""COMPUTED_VALUE"""),5) -> 5 | K7: =IFERROR(__xludf.DUMMYFUNCTION("""COMPUTED_VALUE"""),42.65) -> 42.65 | M7: =IFERROR(__xludf.DUMMYFUNCTION("""COMPUTED_VALUE"""),27.35) -> 27.35 | O7: =IFERROR(__xludf.DUMMYFUNCTION("""COMPUTED_VALUE"""),36.85) -> 36.85 | Q7: =IFERROR(__xludf.DUMMYFUNCTION("""COMPUTED_VALUE"""),"Abby Donnelly") -> Abby Donnelly | R7: =IFERROR(__xludf.DUMMYFUNCTION("""COMPUTED_VALUE"""),"Adam Boyd") -> Adam Boyd | S7: =IFERROR(__xludf.DUMMYFUNCTION("""COMPUTED_VALUE"""),"Abby Donnelly") -> Abby Donnelly | T7: =IFERROR(__xludf.DUMMYFUNCTION("""COMPUTED_VALUE"""),"Ace Argentieri") -> Ace Argentieri
A8: =IFERROR(__xludf.DUMMYFUNCTION("""COMPUTED_VALUE"""),"A") -> A | B8: =IFERROR(__xludf.DUMMYFUNCTION("""COMPUTED_VALUE"""),"Katherine Oswald") -> Katherine Oswald | C8: =IFERROR(__xludf.DUMMYFUNCTION("""COMPUTED_VALUE"""),10) -> 10 | D8: =IFERROR(__xludf.DUMMYFUNCTION("""COMPUTED_VALUE"""),"G") -> G | E8: =IFERROR(__xludf.DUMMYFUNCTION("""COMPUTED_VALUE"""),"F") -> F | F8: =IFERROR(__xludf.DUMMYFUNCTION("""COMPUTED_VALUE"""),"J") -> J | G8: =IFERROR(__xludf.DUMMYFUNCTION("""COMPUTED_VALUE"""),7) -> 7 | H8: =IFERROR(__xludf.DUMMYFUNCTION("""COMPUTED_VALUE"""),"A") -> A | I8: =IFERROR(__xludf.DUMMYFUNCTION("""COMPUTED_VALUE"""),4) -> 4 | J8: =IFERROR(__xludf.DUMMYFUNCTION("""COMPUTED_VALUE"""),3) -> 3 | K8: =IFERROR(__xludf.DUMMYFUNCTION("""COMPUTED_VALUE"""),41.55) -> 41.55 | M8: =IFERROR(__xludf.DUMMYFUNCTION("""COMPUTED_VALUE"""),41.55) -> 41.55 | Q8: =IFERROR(__xludf.DUMMYFUNCTION("""COMPUTED_VALUE"""),"Abby Lee") -> Abby Lee | R8: =IFERROR(__xludf.DUMMYFUNCTION("""COMPUTED_VALUE"""),"Adam O'Keefe") -> Adam O'Keefe | S8: =IFERROR(__xludf.DUMMYFUNCTION("""COMPUTED_VALUE"""),"Abby Lee") -> Abby Lee | T8: =IFERROR(__xludf.DUMMYFUNCTION("""COMPUTED_VALUE"""),"Adam Boyd") -> Adam Boyd
A9: =IFERROR(__xludf.DUMMYFUNCTION("""COMPUTED_VALUE"""),"A") -> A | B9: =IFERROR(__xludf.DUMMYFUNCTION("""COMPUTED_VALUE"""),"Peyton Ma") -> Peyton Ma | C9: =IFERROR(__xludf.DUMMYFUNCTION("""COMPUTED_VALUE"""),7) -> 7 | D9: =IFERROR(__xludf.DUMMYFUNCTION("""COMPUTED_VALUE"""),"G") -> G | E9: =IFERROR(__xludf.DUMMYFUNCTION("""COMPUTED_VALUE"""),"F") -> F | F9: =IFERROR(__xludf.DUMMYFUNCTION("""COMPUTED_VALUE"""),"J") -> J | G9: =IFERROR(__xludf.DUMMYFUNCTION("""COMPUTED_VALUE"""),7) -> 7 | H9: =IFERROR(__xludf.DUMMYFUNCTION("""COMPUTED_VALUE"""),"A") -> A | I9: =IFERROR(__xludf.DUMMYFUNCTION("""COMPUTED_VALUE"""),4) -> 4 | J9: =IFERROR(__xludf.DUMMYFUNCTION("""COMPUTED_VALUE"""),4) -> 4 | K9: =IFERROR(__xludf.DUMMYFUNCTION("""COMPUTED_VALUE"""),49.7) -> 49.7 | O9: =IFERROR(__xludf.DUMMYFUNCTION("""COMPUTED_VALUE"""),49.7) -> 49.7 | Q9: =IFERROR(__xludf.DUMMYFUNCTION("""COMPUTED_VALUE"""),"Abby Panko") -> Abby Panko | R9: =IFERROR(__xludf.DUMMYFUNCTION("""COMPUTED_VALUE"""),"Adam Ogrodny") -> Adam Ogrodny | S9: =IFERROR(__xludf.DUMMYFUNCTION("""COMPUTED_VALUE"""),"Abby Panko") -> Abby Panko | T9: =IFERROR(__xludf.DUMMYFUNCTION("""COMPUTED_VALUE"""),"Adam Lash") -> Adam Lash
A10: =IFERROR(__xludf.DUMMYFUNCTION("""COMPUTED_VALUE"""),"A") -> A | B10: =IFERROR(__xludf.DUMMYFUNCTION("""COMPUTED_VALUE"""),"Chase Kemps") -> Chase Kemps | C10: =IFERROR(__xludf.DUMMYFUNCTION("""COMPUTED_VALUE"""),9) -> 9 | D10: =IFERROR(__xludf.DUMMYFUNCTION("""COMPUTED_VALUE"""),"B") -> B | E10: =IFERROR(__xludf.DUMMYFUNCTION("""COMPUTED_VALUE"""),"F") -> F | F10: =IFERROR(__xludf.DUMMYFUNCTION("""COMPUTED_VALUE"""),"J") -> J | G10: =IFERROR(__xludf.DUMMYFUNCTION("""COMPUTED_VALUE"""),7) -> 7 | H10: =IFERROR(__xludf.DUMMYFUNCTION("""COMPUTED_VALUE"""),"A") -> A | I10: =IFERROR(__xludf.DUMMYFUNCTION("""COMPUTED_VALUE"""),5) -> 5 | J10: =IFERROR(__xludf.DUMMYFUNCTION("""COMPUTED_VALUE"""),5) -> 5 | K10: =IFERROR(__xludf.DUMMYFUNCTION("""COMPUTED_VALUE"""),49.8) -> 49.8 | M10: =IFERROR(__xludf.DUMMYFUNCTION("""COMPUTED_VALUE"""),41.35) -> 41.35 | O10: =IFERROR(__xludf.DUMMYFUNCTION("""COMPUTED_VALUE"""),49.8) -> 49.8 | Q10: =IFERROR(__xludf.DUMMYFUNCTION("""COMPUTED_VALUE"""),"Abby Reilly") -> Abby Reilly | R10: =IFERROR(__xludf.DUMMYFUNCTION("""COMPUTED_VALUE"""),"Adam Sabo") -> Adam Sabo | S10: =IFERROR(__xludf.DUMMYFUNCTION("""COMPUTED_VALUE"""),"Abby Pickard") -> Abby Pickard | T10: =IFERROR(__xludf.DUMMYFUNCTION("""COMPUTED_VALUE"""),"Adam Nasr") -> Adam Nasr
A11: =IFERROR(__xludf.DUMMYFUNCTION("""COMPUTED_VALUE"""),"A") -> A | B11: =IFERROR(__xludf.DUMMYFUNCTION("""COMPUTED_VALUE"""),"Justin Jair") -> Justin Jair | C11: =IFERROR(__xludf.DUMMYFUNCTION("""COMPUTED_VALUE"""),7) -> 7 | D11: =IFERROR(__xludf.DUMMYFUNCTION("""COMPUTED_VALUE"""),"B") -> B | E11: =IFERROR(__xludf.DUMMYFUNCTION("""COMPUTED_VALUE"""),"F") -> F | F11: =IFERROR(__xludf.DUMMYFUNCTION("""COMPUTED_VALUE"""),"J") -> J | G11: =IFERROR(__xludf.DUMMYFUNCTION("""COMPUTED_VALUE"""),7) -> 7 | H11: =IFERROR(__xludf.DUMMYFUNCTION("""COMPUTED_VALUE"""),"A") -> A | I11: =IFERROR(__xludf.DUMMYFUNCTION("""COMPUTED_VALUE"""),5) -> 5 | J11: =IFERROR(__xludf.DUMMYFUNCTION("""COMPUTED_VALUE"""),5) -> 5 | K11: =IFERROR(__xludf.DUMMYFUNCTION("""COMPUTED_VALUE"""),39.2) -> 39.2 | M11: =IFERROR(__xludf.DUMMYFUNCTION("""COMPUTED_VALUE"""),37) -> 37 | O11: =IFERROR(__xludf.DUMMYFUNCTION("""COMPUTED_VALUE"""),39.2) -> 39.2 | Q11: =IFERROR(__xludf.DUMMYFUNCTION("""COMPUTED_VALUE"""),"Abi Bassler") -> Abi Bassler | R11: =IFERROR(__xludf.DUMMYFUNCTION("""COMPUTED_VALUE"""),"Adam Zimmer") -> Adam Zimmer | S11: =IFERROR(__xludf.DUMMYFUNCTION("""COMPUTED_VALUE"""),"Abby Reilly") -> Abby Reilly | T11: =IFERROR(__xludf.DUMMYFUNCTION("""COMPUTED_VALUE"""),"Adam O'Keefe") -> Adam O'Keefe
A12: =IFERROR(__xludf.DUMMYFUNCTION("""COMPUTED_VALUE"""),"A") -> A | B12: =IFERROR(__xludf.DUMMYFUNCTION("""COMPUTED_VALUE"""),"Leif Middendorf") -> Leif Middendorf | C12: =IFERROR(__xludf.DUMMYFUNCTION("""COMPUTED_VALUE"""),7) -> 7 | D12: =IFERROR(__xludf.DUMMYFUNCTION("""COMPUTED_VALUE"""),"B") -> B | E12: =IFERROR(__xludf.DUMMYFUNCTION("""COMPUTED_VALUE"""),"F") -> F | F12: =IFERROR(__xludf.DUMMYFUNCTION("""COMPUTED_VALUE"""),"J") -> J | G12: =IFERROR(__xludf.DUMMYFUNCTION("""COMPUTED_VALUE"""),7) -> 7 | H12: =IFERROR(__xludf.DUMMYFUNCTION("""COMPUTED_VALUE"""),"A") -> A | I12: =IFERROR(__xludf.DUMMYFUNCTION("""COMPUTED_VALUE"""),5) -> 5 | J12: =IFERROR(__xludf.DUMMYFUNCTION("""COMPUTED_VALUE"""),0) -> 0 | Q12: =IFERROR(__xludf.DUMMYFUNCTION("""COMPUTED_VALUE"""),"Abigail Akers") -> Abigail Akers | R12: =IFERROR(__xludf.DUMMYFUNCTION("""COMPUTED_VALUE"""),"Ahru Lee") -> Ahru Lee | S12: =IFERROR(__xludf.DUMMYFUNCTION("""COMPUTED_VALUE"""),"Abi Bassler") -> Abi Bassler | T12: =IFERROR(__xludf.DUMMYFUNCTION("""COMPUTED_VALUE"""),"Adam Ogrodny") -> Adam Ogrodny
A13: =IFERROR(__xludf.DUMMYFUNCTION("""COMPUTED_VALUE"""),"A") -> A | B13: =IFERROR(__xludf.DUMMYFUNCTION("""COMPUTED_VALUE"""),"Luke Tang") -> Luke Tang | C13: =IFERROR(__xludf.DUMMYFUNCTION("""COMPUTED_VALUE"""),9) -> 9 | D13: =IFERROR(__xludf.DUMMYFUNCTION("""COMPUTED_VALUE"""),"B") -> B | E13: =IFERROR(__xludf.DUMMYFUNCTION("""COMPUTED_VALUE"""),"F") -> F | F13: =IFERROR(__xludf.DUMMYFUNCTION("""COMPUTED_VALUE"""),"J") -> J | G13: =IFERROR(__xludf.DUMMYFUNCTION("""COMPUTED_VALUE"""),7) -> 7 | H13: =IFERROR(__xludf.DUMMYFUNCTION("""COMPUTED_VALUE"""),"A") -> A | I13: =IFERROR(__xludf.DUMMYFUNCTION("""COMPUTED_VALUE"""),5) -> 5 | J13: =IFERROR(__xludf.DUMMYFUNCTION("""COMPUTED_VALUE"""),5) -> 5 | K13: =IFERROR(__xludf.DUMMYFUNCTION("""COMPUTED_VALUE"""),44.3) -> 44.3 | M13: =IFERROR(__xludf.DUMMYFUNCTION("""COMPUTED_VALUE"""),33.2) -> 33.2 | O13: =IFERROR(__xludf.DUMMYFUNCTION("""COMPUTED_VALUE"""),44.3) -> 44.3 | Q13: =IFERROR(__xludf.DUMMYFUNCTION("""COMPUTED_VALUE"""),"Abigail Cassatt") -> Abigail Cassatt | R13: =IFERROR(__xludf.DUMMYFUNCTION("""COMPUTED_VALUE"""),"Aiden Cox") -> Aiden Cox | S13: =IFERROR(__xludf.DUMMYFUNCTION("""COMPUTED_VALUE"""),"Abigail Akers") -> Abigail Akers | T13: =IFERROR(__xludf.DUMMYFUNCTION("""COMPUTED_VALUE"""),"Adam Sabo") -> Adam Sabo
A14: =IFERROR(__xludf.DUMMYFUNCTION("""COMPUTED_VALUE"""),"A") -> A | B14: =IFERROR(__xludf.DUMMYFUNCTION("""COMPUTED_VALUE"""),"Preston Ta") -> Preston Ta | C14: =IFERROR(__xludf.DUMMYFUNCTION("""COMPUTED_VALUE"""),10) -> 10 | D14: =IFERROR(__xludf.DUMMYFUNCTION("""COMPUTED_VALUE"""),"B") -> B | E14: =IFERROR(__xludf.DUMMYFUNCTION("""COMPUTED_VALUE"""),"F") -> F | F14: =IFERROR(__xludf.DUMMYFUNCTION("""COMPUTED_VALUE"""),"J") -> J | G14: =IFERROR(__xludf.DUMMYFUNCTION("""COMPUTED_VALUE"""),7) -> 7 | H14: =IFERROR(__xludf.DUMMYFUNCTION("""COMPUTED_VALUE"""),"A") -> A | I14: =IFERROR(__xludf.DUMMYFUNCTION("""COMPUTED_VALUE"""),5) -> 5 | J14: =IFERROR(__xludf.DUMMYFUNCTION("""COMPUTED_VALUE"""),5) -> 5 | K14: =IFERROR(__xludf.DUMMYFUNCTION("""COMPUTED_VALUE"""),63.5) -> 63.5 | M14: =IFERROR(__xludf.DUMMYFUNCTION("""COMPUTED_VALUE"""),63.5) -> 63.5 | O14: =IFERROR(__xludf.DUMMYFUNCTION("""COMPUTED_VALUE"""),61) -> 61 | Q14: =IFERROR(__xludf.DUMMYFUNCTION("""COMPUTED_VALUE"""),"Abigail Hoggins") -> Abigail Hoggins | R14: =IFERROR(__xludf.DUMMYFUNCTION("""COMPUTED_VALUE"""),"Aiden Miller") -> Aiden Miller | S14: =IFERROR(__xludf.DUMMYFUNCTION("""COMPUTED_VALUE"""),"Abigail Cassatt") -> Abigail Cassatt | T14: =IFERROR(__xludf.DUMMYFUNCTION("""COMPUTED_VALUE"""),"Adam Zimmer") -> Adam Zimmer
A15: =IFERROR(__xludf.DUMMYFUNCTION("""COMPUTED_VALUE"""),"A") -> A | B15: =IFERROR(__xludf.DUMMYFUNCTION("""COMPUTED_VALUE"""),"Timothy Davis") -> Timothy Davis | C15: =IFERROR(__xludf.DUMMYFUNCTION("""COMPUTED_VALUE"""),8) -> 8 | D15: =IFERROR(__xludf.DUMMYFUNCTION("""COMPUTED_VALUE"""),"B") -> B | E15: =IFERROR(__xludf.DUMMYFUNCTION("""COMPUTED_VALUE"""),"F") -> F | F15: =IFERROR(__xludf.DUMMYFUNCTION("""COMPUTED_VALUE"""),"J") -> J | G15: =IFERROR(__xludf.DUMMYFUNCTION("""COMPUTED_VALUE"""),7) -> 7 | H15: =IFERROR(__xludf.DUMMYFUNCTION("""COMPUTED_VALUE"""),"A") -> A | I15: =IFERROR(__xludf.DUMMYFUNCTION("""COMPUTED_VALUE"""),5) -> 5 | J15: =IFERROR(__xludf.DUMMYFUNCTION("""COMPUTED_VALUE"""),0) -> 0 | Q15: =IFERROR(__xludf.DUMMYFUNCTION("""COMPUTED_VALUE"""),"Abigail Menjivar") -> Abigail Menjivar | R15: =IFERROR(__xludf.DUMMYFUNCTION("""COMPUTED_VALUE"""),"Aiden Taylor") -> Aiden Taylor | S15: =IFERROR(__xludf.DUMMYFUNCTION("""COMPUTED_VALUE"""),"Abigail Hoggins") -> Abigail Hoggins | T15: =IFERROR(__xludf.DUMMYFUNCTION("""COMPUTED_VALUE"""),"Ahru Lee") -> Ahru Lee
A16: =IFERROR(__xludf.DUMMYFUNCTION("""COMPUTED_VALUE"""),"A") -> A | B16: =IFERROR(__xludf.DUMMYFUNCTION("""COMPUTED_VALUE"""),"Avery Ma") -> Avery Ma | C16: =IFERROR(__xludf.DUMMYFUNCTION("""COMPUTED_VALUE"""),11) -> 11 | D16: =IFERROR(__xludf.DUMMYFUNCTION("""COMPUTED_VALUE"""),"G") -> G | E16: =IFERROR(__xludf.DUMMYFUNCTION("""COMPUTED_VALUE"""),"J") -> J | F16: =IFERROR(__xludf.DUMMYFUNCTION("""COMPUTED_VALUE"""),"I") -> I | G16: =IFERROR(__xludf.DUMMYFUNCTION("""COMPUTED_VALUE"""),7) -> 7 | H16: =IFERROR(__xludf.DUMMYFUNCTION("""COMPUTED_VALUE"""),"A") -> A | I16: =IFERROR(__xludf.DUMMYFUNCTION("""COMPUTED_VALUE"""),6) -> 6 | J16: =IFERROR(__xludf.DUMMYFUNCTION("""COMPUTED_VALUE"""),4) -> 4 | K16: =IFERROR(__xludf.DUMMYFUNCTION("""COMPUTED_VALUE"""),80.55) -> 80.55 | O16: =IFERROR(__xludf.DUMMYFUNCTION("""COMPUTED_VALUE"""),80.55) -> 80.55 | Q16: =IFERROR(__xludf.DUMMYFUNCTION("""COMPUTED_VALUE"""),"Abigail Quint") -> Abigail Quint | R16: =IFERROR(__xludf.DUMMYFUNCTION("""COMPUTED_VALUE"""),"Alejandro Pereira") -> Alejandro Pereira | S16: =IFERROR(__xludf.DUMMYFUNCTION("""COMPUTED_VALUE"""),"Abigail Menjivar") -> Abigail Menjivar | T16: =IFERROR(__xludf.DUMMYFUNCTION("""COMPUTED_VALUE"""),"Aidan McGarry") -> Aidan McGarry
A17: =IFERROR(__xludf.DUMMYFUNCTION("""COMPUTED_VALUE"""),"A") -> A | B17: =IFERROR(__xludf.DUMMYFUNCTION("""COMPUTED_VALUE"""),"Foster Middendorf") -> Foster Middendorf | C17: =IFERROR(__xludf.DUMMYFUNCTION("""COMPUTED_VALUE"""),11) -> 11 | D17: =IFERROR(__xludf.DUMMYFUNCTION("""COMPUTED_VALUE"""),"B") -> B | E17: =IFERROR(__xludf.DUMMYFUNCTION("""COMPUTED_VALUE"""),"J") -> J | F17: =IFERROR(__xludf.DUMMYFUNCTION("""COMPUTED_VALUE"""),"I") -> I | G17: =IFERROR(__xludf.DUMMYFUNCTION("""COMPUTED_VALUE"""),7) -> 7 | H17: =IFERROR(__xludf.DUMMYFUNCTION("""COMPUTED_VALUE"""),"A") -> A | I17: =IFERROR(__xludf.DUMMYFUNCTION("""COMPUTED_VALUE"""),7) -> 7 | J17: =IFERROR(__xludf.DUMMYFUNCTION("""COMPUTED_VALUE"""),0) -> 0 | Q17: =IFERROR(__xludf.DUMMYFUNCTION("""COMPUTED_VALUE"""),"Abigail Webster") -> Abigail Webster | R17: =IFERROR(__xludf.DUMMYFUNCTION("""COMPUTED_VALUE"""),"Aleko Misitzis") -> Aleko Misitzis | S17: =IFERROR(__xludf.DUMMYFUNCTION("""COMPUTED_VALUE"""),"Abigail Quint") -> Abigail Quint | T17: =IFERROR(__xludf.DUMMYFUNCTION("""COMPUTED_VALUE"""),"Aidan Smith") -> Aidan Smith
A18: =IFERROR(__xludf.DUMMYFUNCTION("""COMPUTED_VALUE"""),"A") -> A | B18: =IFERROR(__xludf.DUMMYFUNCTION("""COMPUTED_VALUE"""),"John Nguyen") -> John Nguyen | C18: =IFERROR(__xludf.DUMMYFUNCTION("""COMPUTED_VALUE"""),12) -> 12 | D18: =IFERROR(__xludf.DUMMYFUNCTION("""COMPUTED_VALUE"""),"B") -> B | E18: =IFERROR(__xludf.DUMMYFUNCTION("""COMPUTED_VALUE"""),"J") -> J | F18: =IFERROR(__xludf.DUMMYFUNCTION("""COMPUTED_VALUE"""),"I") -> I | G18: =IFERROR(__xludf.DUMMYFUNCTION("""COMPUTED_VALUE"""),7) -> 7 | H18: =IFERROR(__xludf.DUMMYFUNCTION("""COMPUTED_VALUE"""),"A") -> A | I18: =IFERROR(__xludf.DUMMYFUNCTION("""COMPUTED_VALUE"""),7) -> 7 | J18: =IFERROR(__xludf.DUMMYFUNCTION("""COMPUTED_VALUE"""),3) -> 3 | K18: =IFERROR(__xludf.DUMMYFUNCTION("""COMPUTED_VALUE"""),74.5) -> 74.5 | M18: =IFERROR(__xludf.DUMMYFUNCTION("""COMPUTED_VALUE"""),74.5) -> 74.5 | Q18: =IFERROR(__xludf.DUMMYFUNCTION("""COMPUTED_VALUE"""),"Acadia Taylor") -> Acadia Taylor | R18: =IFERROR(__xludf.DUMMYFUNCTION("""COMPUTED_VALUE"""),"Alex Aurilio") -> Alex Aurilio | S18: =IFERROR(__xludf.DUMMYFUNCTION("""COMPUTED_VALUE"""),"Abigail Webster") -> Abigail Webster | T18: =IFERROR(__xludf.DUMMYFUNCTION("""COMPUTED_VALUE"""),"Aiden Cox") -> Aiden Cox
A19: =IFERROR(__xludf.DUMMYFUNCTION("""COMPUTED_VALUE"""),"A") -> A | B19: =IFERROR(__xludf.DUMMYFUNCTION("""COMPUTED_VALUE"""),"Logan Cao") -> Logan Cao | C19: =IFERROR(__xludf.DUMMYFUNCTION("""COMPUTED_VALUE"""),12) -> 12 | D19: =IFERROR(__xludf.DUMMYFUNCTION("""COMPUTED_VALUE"""),"B") -> B | E19: =IFERROR(__xludf.DUMMYFUNCTION("""COMPUTED_VALUE"""),"J") -> J | F19: =IFERROR(__xludf.DUMMYFUNCTION("""COMPUTED_VALUE"""),"I") -> I | G19: =IFERROR(__xludf.DUMMYFUNCTION("""COMPUTED_VALUE"""),7) -> 7 | H19: =IFERROR(__xludf.DUMMYFUNCTION("""COMPUTED_VALUE"""),"A") -> A | I19: =IFERROR(__xludf.DUMMYFUNCTION("""COMPUTED_VALUE"""),7) -> 7 | J19: =IFERROR(__xludf.DUMMYFUNCTION("""COMPUTED_VALUE"""),3) -> 3 | K19: =IFERROR(__xludf.DUMMYFUNCTION("""COMPUTED_VALUE"""),87.4) -> 87.4 | Q19: =IFERROR(__xludf.DUMMYFUNCTION("""COMPUTED_VALUE"""),"Ada Goehring") -> Ada Goehring | R19: =IFERROR(__xludf.DUMMYFUNCTION("""COMPUTED_VALUE"""),"Alex Ferssizidis") -> Alex Ferssizidis | S19: =IFERROR(__xludf.DUMMYFUNCTION("""COMPUTED_VALUE"""),"Acadia Taylor") -> Acadia Taylor | T19: =IFERROR(__xludf.DUMMYFUNCTION("""COMPUTED_VALUE"""),"Aiden Kapoor") -> Aiden Kapoor
A20: =IFERROR(__xludf.DUMMYFUNCTION("""COMPUTED_VALUE"""),"A") -> A | B20: =IFERROR(__xludf.DUMMYFUNCTION("""COMPUTED_VALUE"""),"Noah Hua") -> Noah Hua | C20: =IFERROR(__xludf.DUMMYFUNCTION("""COMPUTED_VALUE"""),11) -> 11 | D20: =IFERROR(__xludf.DUMMYFUNCTION("""COMPUTED_VALUE"""),"B") -> B | E20: =IFERROR(__xludf.DUMMYFUNCTION("""COMPUTED_VALUE"""),"J") -> J | F20: =IFERROR(__xludf.DUMMYFUNCTION("""COMPUTED_VALUE"""),"I") -> I | G20: =IFERROR(__xludf.DUMMYFUNCTION("""COMPUTED_VALUE"""),7) -> 7 | H20: =IFERROR(__xludf.DUMMYFUNCTION("""COMPUTED_VALUE"""),"A") -> A | I20: =IFERROR(__xludf.DUMMYFUNCTION("""COMPUTED_VALUE"""),7) -> 7 | J20: =IFERROR(__xludf.DUMMYFUNCTION("""COMPUTED_VALUE"""),5) -> 5 | K20: =IFERROR(__xludf.DUMMYFUNCTION("""COMPUTED_VALUE"""),89.55) -> 89.55 | M20: =IFERROR(__xludf.DUMMYFUNCTION("""COMPUTED_VALUE"""),77.25) -> 77.25 | O20: =IFERROR(__xludf.DUMMYFUNCTION("""COMPUTED_VALUE"""),79.25) -> 79.25 | Q20: =IFERROR(__xludf.DUMMYFUNCTION("""COMPUTED_VALUE"""),"Ada Scherer") -> Ada Scherer | R20: =IFERROR(__xludf.DUMMYFUNCTION("""COMPUTED_VALUE"""),"Alex Kroely") -> Alex Kroely | S20: =IFERROR(__xludf.DUMMYFUNCTION("""COMPUTED_VALUE"""),"Ada Goehring") -> Ada Goehring | T20: =IFERROR(__xludf.DUMMYFUNCTION("""COMPUTED_VALUE"""),"Aiden Miller") -> Aiden Miller
A21: =IFERROR(__xludf.DUMMYFUNCTION("""COMPUTED_VALUE"""),"A") -> A | B21: =IFERROR(__xludf.DUMMYFUNCTION("""COMPUTED_VALUE"""),"Esperanza Hernandez-Giblin") -> Esperanza Hernandez-Giblin | C21: =IFERROR(__xludf.DUMMYFUNCTION("""COMPUTED_VALUE"""),13) -> 13 | D21: =IFERROR(__xludf.DUMMYFUNCTION("""COMPUTED_VALUE"""),"G") -> G | E21: =IFERROR(__xludf.DUMMYFUNCTION("""COMPUTED_VALUE"""),"I") -> I | F21: =IFERROR(__xludf.DUMMYFUNCTION("""COMPUTED_VALUE"""),"S") -> S | G21: =IFERROR(__xludf.DUMMYFUNCTION("""COMPUTED_VALUE"""),7) -> 7 | H21: =IFERROR(__xludf.DUMMYFUNCTION("""COMPUTED_VALUE"""),"A") -> A | I21: =IFERROR(__xludf.DUMMYFUNCTION("""COMPUTED_VALUE"""),8) -> 8 | J21: =IFERROR(__xludf.DUMMYFUNCTION("""COMPUTED_VALUE"""),4) -> 4 | K21: =IFERROR(__xludf.DUMMYFUNCTION("""COMPUTED_VALUE"""),81.8) -> 81.8 | M21: =IFERROR(__xludf.DUMMYFUNCTION("""COMPUTED_VALUE"""),76.85) -> 76.85 | O21: =IFERROR(__xludf.DUMMYFUNCTION("""COMPUTED_VALUE"""),81.8) -> 81.8 | Q21: =IFERROR(__xludf.DUMMYFUNCTION("""COMPUTED_VALUE"""),"Addie Celentano") -> Addie Celentano | R21: =IFERROR(__xludf.DUMMYFUNCTION("""COMPUTED_VALUE"""),"Alex Valmont") -> Alex Valmont | S21: =IFERROR(__xludf.DUMMYFUNCTION("""COMPUTED_VALUE"""),"Ada Jordan") -> Ada Jordan | T21: =IFERROR(__xludf.DUMMYFUNCTION("""COMPUTED_VALUE"""),"Aiden Taylor") -> Aiden Taylor
A22: =IFERROR(__xludf.DUMMYFUNCTION("""COMPUTED_VALUE"""),"A") -> A | B22: =IFERROR(__xludf.DUMMYFUNCTION("""COMPUTED_VALUE"""),"Raito Detten") -> Raito Detten | C22: =IFERROR(__xludf.DUMMYFUNCTION("""COMPUTED_VALUE"""),14) -> 14 | D22: =IFERROR(__xludf.DUMMYFUNCTION("""COMPUTED_VALUE"""),"B") -> B | E22: =IFERROR(__xludf.DUMMYFUNCTION("""COMPUTED_VALUE"""),"I") -> I | F22: =IFERROR(__xludf.DUMMYFUNCTION("""COMPUTED_VALUE"""),"S") -> S | G22: =IFERROR(__xludf.DUMMYFUNCTION("""COMPUTED_VALUE"""),7) -> 7 | H22: =IFERROR(__xludf.DUMMYFUNCTION("""COMPUTED_VALUE"""),"A") -> A | I22: =IFERROR(__xludf.DUMMYFUNCTION("""COMPUTED_VALUE"""),9) -> 9 | J22: =IFERROR(__xludf.DUMMYFUNCTION("""COMPUTED_VALUE"""),4) -> 4 | K22: =IFERROR(__xludf.DUMMYFUNCTION("""COMPUTED_VALUE"""),211.7) -> 211.7 | M22: =IFERROR(__xludf.DUMMYFUNCTION("""COMPUTED_VALUE"""),211.7) -> 211.7 | O22: =IFERROR(__xludf.DUMMYFUNCTION("""COMPUTED_VALUE"""),187) -> 187 | Q22: =IFERROR(__xludf.DUMMYFUNCTION("""COMPUTED_VALUE"""),"Addie Gaylor") -> Addie Gaylor | R22: =IFERROR(__xludf.DUMMYFUNCTION("""COMPUTED_VALUE"""),"Alexander Halphen") -> Alexander Halphen | S22: =IFERROR(__xludf.DUMMYFUNCTION("""COMPUTED_VALUE"""),"Ada Scherer") -> Ada Scherer | T22: =IFERROR(__xludf.DUMMYFUNCTION("""COMPUTED_VALUE"""),"Alan Fu") -> Alan Fu
A23: =IFERROR(__xludf.DUMMYFUNCTION("""COMPUTED_VALUE"""),"A") -> A | B23: =IFERROR(__xludf.DUMMYFUNCTION("""COMPUTED_VALUE"""),"Remy Cao") -> Remy Cao | C23: =IFERROR(__xludf.DUMMYFUNCTION("""COMPUTED_VALUE"""),14) -> 14 | D23: =IFERROR(__xludf.DUMMYFUNCTION("""COMPUTED_VALUE"""),"B") -> B | E23: =IFERROR(__xludf.DUMMYFUNCTION("""COMPUTED_VALUE"""),"I") -> I | F23: =IFERROR(__xludf.DUMMYFUNCTION("""COMPUTED_VALUE"""),"S") -> S | G23: =IFERROR(__xludf.DUMMYFUNCTION("""COMPUTED_VALUE"""),7) -> 7 | H23: =IFERROR(__xludf.DUMMYFUNCTION("""COMPUTED_VALUE"""),"A") -> A | I23: =IFERROR(__xludf.DUMMYFUNCTION("""COMPUTED_VALUE"""),9) -> 9 | J23: =IFERROR(__xludf.DUMMYFUNCTION("""COMPUTED_VALUE"""),2) -> 2 | K23: =IFERROR(__xludf.DUMMYFUNCTION("""COMPUTED_VALUE"""),76.15) -> 76.15 | Q23: =IFERROR(__xludf.DUMMYFUNCTION("""COMPUTED_VALUE"""),"Addison D'Avilar") -> Addison D'Avilar | R23: =IFERROR(__xludf.DUMMYFUNCTION("""COMPUTED_VALUE"""),"Alexander Hudes") -> Alexander Hudes | S23: =IFERROR(__xludf.DUMMYFUNCTION("""COMPUTED_VALUE"""),"Addie Celentano") -> Addie Celentano | T23: =IFERROR(__xludf.DUMMYFUNCTION("""COMPUTED_VALUE"""),"Alberto Tolentino") -> Alberto Tolentino
A24: =IFERROR(__xludf.DUMMYFUNCTION("""COMPUTED_VALUE"""),"A") -> A | B24: =IFERROR(__xludf.DUMMYFUNCTION("""COMPUTED_VALUE"""),"Michael Sweeney") -> Michael Sweeney | C24: =IFERROR(__xludf.DUMMYFUNCTION("""COMPUTED_VALUE"""),15) -> 15 | D24: =IFERROR(__xludf.DUMMYFUNCTION("""COMPUTED_VALUE"""),"B") -> B | E24: =IFERROR(__xludf.DUMMYFUNCTION("""COMPUTED_VALUE"""),"S") -> S | F24: =IFERROR(__xludf.DUMMYFUNCTION("""COMPUTED_VALUE"""),"S") -> S | G24: =IFERROR(__xludf.DUMMYFUNCTION("""COMPUTED_VALUE"""),7) -> 7 | H24: =IFERROR(__xludf.DUMMYFUNCTION("""COMPUTED_VALUE"""),"A") -> A | I24: =IFERROR(__xludf.DUMMYFUNCTION("""COMPUTED_VALUE"""),11) -> 11 | J24: =IFERROR(__xludf.DUMMYFUNCTION("""COMPUTED_VALUE"""),5) -> 5 | K24: =IFERROR(__xludf.DUMMYFUNCTION("""COMPUTED_VALUE"""),173.9) -> 173.9 | M24: =IFERROR(__xludf.DUMMYFUNCTION("""COMPUTED_VALUE"""),173.9) -> 173.9 | O24: =IFERROR(__xludf.DUMMYFUNCTION("""COMPUTED_VALUE"""),169.9) -> 169.9 | Q24: =IFERROR(__xludf.DUMMYFUNCTION("""COMPUTED_VALUE"""),"Addison Morgan") -> Addison Morgan | R24: =IFERROR(__xludf.DUMMYFUNCTION("""COMPUTED_VALUE"""),"Alexander Moch") -> Alexander Moch | S24: =IFERROR(__xludf.DUMMYFUNCTION("""COMPUTED_VALUE"""),"Addie Gaylor") -> Addie Gaylor | T24: =IFERROR(__xludf.DUMMYFUNCTION("""COMPUTED_VALUE"""),"Alden Meholic") -> Alden Meholic
A25: =IFERROR(__xludf.DUMMYFUNCTION("""COMPUTED_VALUE"""),"A") -> A | B25: =IFERROR(__xludf.DUMMYFUNCTION("""COMPUTED_VALUE"""),"Ricky Nguyen") -> Ricky Nguyen | C25: =IFERROR(__xludf.DUMMYFUNCTION("""COMPUTED_VALUE"""),16) -> 16 | D25: =IFERROR(__xludf.DUMMYFUNCTION("""COMPUTED_VALUE"""),"B") -> B | E25: =IFERROR(__xludf.DUMMYFUNCTION("""COMPUTED_VALUE"""),"S") -> S | F25: =IFERROR(__xludf.DUMMYFUNCTION("""COMPUTED_VALUE"""),"S") -> S | G25: =IFERROR(__xludf.DUMMYFUNCTION("""COMPUTED_VALUE"""),7) -> 7 | H25: =IFERROR(__xludf.DUMMYFUNCTION("""COMPUTED_VALUE"""),"A") -> A | I25: =IFERROR(__xludf.DUMMYFUNCTION("""COMPUTED_VALUE"""),11) -> 11 | J25: =IFERROR(__xludf.DUMMYFUNCTION("""COMPUTED_VALUE"""),4) -> 4 | K25: =IFERROR(__xludf.DUMMYFUNCTION("""COMPUTED_VALUE"""),140.45) -> 140.45 | O25: =IFERROR(__xludf.DUMMYFUNCTION("""COMPUTED_VALUE"""),118.65) -> 118.65 | Q25: =IFERROR(__xludf.DUMMYFUNCTION("""COMPUTED_VALUE"""),"Addison Prunty") -> Addison Prunty | R25: =IFERROR(__xludf.DUMMYFUNCTION("""COMPUTED_VALUE"""),"Alexander Ogrodny") -> Alexander Ogrodny | S25: =IFERROR(__xludf.DUMMYFUNCTION("""COMPUTED_VALUE"""),"Addison D'Avilar") -> Addison D'Avilar | T25: =IFERROR(__xludf.DUMMYFUNCTION("""COMPUTED_VALUE"""),"Alejandro Pereira") -> Alejandro Pereira
A26: =IFERROR(__xludf.DUMMYFUNCTION("""COMPUTED_VALUE"""),"A") -> A | B26: =IFERROR(__xludf.DUMMYFUNCTION("""COMPUTED_VALUE"""),"Will Miracle") -> Will Miracle | C26: =IFERROR(__xludf.DUMMYFUNCTION("""COMPUTED_VALUE"""),16) -> 16 | D26: =IFERROR(__xludf.DUMMYFUNCTION("""COMPUTED_VALUE"""),"B") -> B | E26: =IFERROR(__xludf.DUMMYFUNCTION("""COMPUTED_VALUE"""),"S") -> S | F26: =IFERROR(__xludf.DUMMYFUNCTION("""COMPUTED_VALUE"""),"S") -> S | G26: =IFERROR(__xludf.DUMMYFUNCTION("""COMPUTED_VALUE"""),7) -> 7 | H26: =IFERROR(__xludf.DUMMYFUNCTION("""COMPUTED_VALUE"""),"A") -> A | I26: =IFERROR(__xludf.DUMMYFUNCTION("""COMPUTED_VALUE"""),11) -> 11 | J26: =IFERROR(__xludf.DUMMYFUNCTION("""COMPUTED_VALUE"""),4) -> 4 | K26: =IFERROR(__xludf.DUMMYFUNCTION("""COMPUTED_VALUE"""),107.7) -> 107.7 | O26: =IFERROR(__xludf.DUMMYFUNCTION("""COMPUTED_VALUE"""),84.25) -> 84.25 | Q26: =IFERROR(__xludf.DUMMYFUNCTION("""COMPUTED_VALUE"""),"Addy Andresen") -> Addy Andresen | R26: =IFERROR(__xludf.DUMMYFUNCTION("""COMPUTED_VALUE"""),"Alexander Stewart") -> Alexander Stewart | S26: =IFERROR(__xludf.DUMMYFUNCTION("""COMPUTED_VALUE"""),"Addison Johnson") -> Addison Johnson | T26: =IFERROR(__xludf.DUMMYFUNCTION("""COMPUTED_VALUE"""),"Aleko Misitzis") -> Aleko Misitzis
A27: =IFERROR(__xludf.DUMMYFUNCTION("""COMPUTED_VALUE"""),"AF") -> AF | B27: =IFERROR(__xludf.DUMMYFUNCTION("""COMPUTED_VALUE"""),"Abigail Cassatt") -> Abigail Cassatt | C27: =IFERROR(__xludf.DUMMYFUNCTION("""COMPUTED_VALUE"""),10) -> 10 | D27: =IFERROR(__xludf.DUMMYFUNCTION("""COMPUTED_VALUE"""),"G") -> G | E27: =IFERROR(__xludf.DUMMYFUNCTION("""COMPUTED_VALUE"""),"F") -> F | F27: =IFERROR(__xludf.DUMMYFUNCTION("""COMPUTED_VALUE"""),"J") -> J | G27: =IFERROR(__xludf.DUMMYFUNCTION("""COMPUTED_VALUE"""),7) -> 7 | H27: =IFERROR(__xludf.DUMMYFUNCTION("""COMPUTED_VALUE"""),"AF") -> AF | I27: =IFERROR(__xludf.DUMMYFUNCTION("""COMPUTED_VALUE"""),4) -> 4 | J27: =IFERROR(__xludf.DUMMYFUNCTION("""COMPUTED_VALUE"""),1) -> 1 | Q27: =IFERROR(__xludf.DUMMYFUNCTION("""COMPUTED_VALUE"""),"Addy Kohn") -> Addy Kohn | R27: =IFERROR(__xludf.DUMMYFUNCTION("""COMPUTED_VALUE"""),"Alexander Tkacz") -> Alexander Tkacz | S27: =IFERROR(__xludf.DUMMYFUNCTION("""COMPUTED_VALUE"""),"Addison Morgan") -> Addison Morgan | T27: =IFERROR(__xludf.DUMMYFUNCTION("""COMPUTED_VALUE"""),"Alex Aurilio") -> Alex Aurilio
A28: =IFERROR(__xludf.DUMMYFUNCTION("""COMPUTED_VALUE"""),"AF") -> AF | B28: =IFERROR(__xludf.DUMMYFUNCTION("""COMPUTED_VALUE"""),"Agnes Campbell") -> Agnes Campbell | C28: =IFERROR(__xludf.DUMMYFUNCTION("""COMPUTED_VALUE"""),10) -> 10 | D28: =IFERROR(__xludf.DUMMYFUNCTION("""COMPUTED_VALUE"""),"G") -> G | E28: =IFERROR(__xludf.DUMMYFUNCTION("""COMPUTED_VALUE"""),"F") -> F | F28: =IFERROR(__xludf.DUMMYFUNCTION("""COMPUTED_VALUE"""),"J") -> J | G28: =IFERROR(__xludf.DUMMYFUNCTION("""COMPUTED_VALUE"""),7) -> 7 | H28: =IFERROR(__xludf.DUMMYFUNCTION("""COMPUTED_VALUE"""),"AF") -> AF | I28: =IFERROR(__xludf.DUMMYFUNCTION("""COMPUTED_VALUE"""),4) -> 4 | J28: =IFERROR(__xludf.DUMMYFUNCTION("""COMPUTED_VALUE"""),5) -> 5 | K28: =IFERROR(__xludf.DUMMYFUNCTION("""COMPUTED_VALUE"""),51.4) -> 51.4 | M28: =IFERROR(__xludf.DUMMYFUNCTION("""COMPUTED_VALUE"""),46.9) -> 46.9 | O28: =IFERROR(__xludf.DUMMYFUNCTION("""COMPUTED_VALUE"""),50.8) -> 50.8 | Q28: =IFERROR(__xludf.DUMMYFUNCTION("""COMPUTED_VALUE"""),"Adelaide Bergmans") -> Adelaide Bergmans | R28: =IFERROR(__xludf.DUMMYFUNCTION("""COMPUTED_VALUE"""),"Alexi Ramis") -> Alexi Ramis | S28: =IFERROR(__xludf.DUMMYFUNCTION("""COMPUTED_VALUE"""),"Addison Prunty") -> Addison Prunty | T28: =IFERROR(__xludf.DUMMYFUNCTION("""COMPUTED_VALUE"""),"Alex Ferssizidis") -> Alex Ferssizidis
A29: =IFERROR(__xludf.DUMMYFUNCTION("""COMPUTED_VALUE"""),"AF") -> AF | B29: =IFERROR(__xludf.DUMMYFUNCTION("""COMPUTED_VALUE"""),"Agnes Robert") -> Agnes Robert | C29: =IFERROR(__xludf.DUMMYFUNCTION("""COMPUTED_VALUE"""),7) -> 7 | D29: =IFERROR(__xludf.DUMMYFUNCTION("""COMPUTED_VALUE"""),"G") -> G | E29: =IFERROR(__xludf.DUMMYFUNCTION("""COMPUTED_VALUE"""),"F") -> F | F29: =IFERROR(__xludf.DUMMYFUNCTION("""COMPUTED_VALUE"""),"J") -> J | G29: =IFERROR(__xludf.DUMMYFUNCTION("""COMPUTED_VALUE"""),7) -> 7 | H29: =IFERROR(__xludf.DUMMYFUNCTION("""COMPUTED_VALUE"""),"AF") -> AF | I29: =IFERROR(__xludf.DUMMYFUNCTION("""COMPUTED_VALUE"""),4) -> 4 | J29: =IFERROR(__xludf.DUMMYFUNCTION("""COMPUTED_VALUE"""),4) -> 4 | K29: =IFERROR(__xludf.DUMMYFUNCTION("""COMPUTED_VALUE"""),39.4) -> 39.4 | M29: =IFERROR(__xludf.DUMMYFUNCTION("""COMPUTED_VALUE"""),39.15) -> 39.15 | O29: =IFERROR(__xludf.DUMMYFUNCTION("""COMPUTED_VALUE"""),26.6) -> 26.6 | Q29: =IFERROR(__xludf.DUMMYFUNCTION("""COMPUTED_VALUE"""),"Adelaide Frame") -> Adelaide Frame | R29: =IFERROR(__xludf.DUMMYFUNCTION("""COMPUTED_VALUE"""),"Amadeus Gudauskas") -> Amadeus Gudauskas | S29: =IFERROR(__xludf.DUMMYFUNCTION("""COMPUTED_VALUE"""),"Addy Andresen") -> Addy Andresen | T29: =IFERROR(__xludf.DUMMYFUNCTION("""COMPUTED_VALUE"""),"Alex Kroely") -> Alex Kroely
A30: =IFERROR(__xludf.DUMMYFUNCTION("""COMPUTED_VALUE"""),"AF") -> AF | B30: =IFERROR(__xludf.DUMMYFUNCTION("""COMPUTED_VALUE"""),"Brogen Cagianesa") -> Brogen Cagianesa | C30: =IFERROR(__xludf.DUMMYFUNCTION("""COMPUTED_VALUE"""),6) -> 6 | D30: =IFERROR(__xludf.DUMMYFUNCTION("""COMPUTED_VALUE"""),"G") -> G | E30: =IFERROR(__xludf.DUMMYFUNCTION("""COMPUTED_VALUE"""),"F") -> F | F30: =IFERROR(__xludf.DUMMYFUNCTION("""COMPUTED_VALUE"""),"J") -> J | G30: =IFERROR(__xludf.DUMMYFUNCTION("""COMPUTED_VALUE"""),7) -> 7 | H30: =IFERROR(__xludf.DUMMYFUNCTION("""COMPUTED_VALUE"""),"AF") -> AF | I30: =IFERROR(__xludf.DUMMYFUNCTION("""COMPUTED_VALUE"""),4) -> 4 | J30: =IFERROR(__xludf.DUMMYFUNCTION("""COMPUTED_VALUE"""),3) -> 3 | K30: =IFERROR(__xludf.DUMMYFUNCTION("""COMPUTED_VALUE"""),19.4) -> 19.4 | Q30: =IFERROR(__xludf.DUMMYFUNCTION("""COMPUTED_VALUE"""),"Adella Bryant") -> Adella Bryant | R30: =IFERROR(__xludf.DUMMYFUNCTION("""COMPUTED_VALUE"""),"Amias Paz") -> Amias Paz | S30: =IFERROR(__xludf.DUMMYFUNCTION("""COMPUTED_VALUE"""),"Addy Bennett") -> Addy Bennett | T30: =IFERROR(__xludf.DUMMYFUNCTION("""COMPUTED_VALUE"""),"Alex Lum") -> Alex Lum
A31: =IFERROR(__xludf.DUMMYFUNCTION("""COMPUTED_VALUE"""),"AF") -> AF | B31: =IFERROR(__xludf.DUMMYFUNCTION("""COMPUTED_VALUE"""),"Coco Harbeck") -> Coco Harbeck | C31: =IFERROR(__xludf.DUMMYFUNCTION("""COMPUTED_VALUE"""),8) -> 8 | D31: =IFERROR(__xludf.DUMMYFUNCTION("""COMPUTED_VALUE"""),"G") -> G | E31: =IFERROR(__xludf.DUMMYFUNCTION("""COMPUTED_VALUE"""),"F") -> F | F31: =IFERROR(__xludf.DUMMYFUNCTION("""COMPUTED_VALUE"""),"J") -> J | G31: =IFERROR(__xludf.DUMMYFUNCTION("""COMPUTED_VALUE"""),7) -> 7 | H31: =IFERROR(__xludf.DUMMYFUNCTION("""COMPUTED_VALUE"""),"AF") -> AF | I31: =IFERROR(__xludf.DUMMYFUNCTION("""COMPUTED_VALUE"""),4) -> 4 | J31: =IFERROR(__xludf.DUMMYFUNCTION("""COMPUTED_VALUE"""),0) -> 0 | Q31: =IFERROR(__xludf.DUMMYFUNCTION("""COMPUTED_VALUE"""),"Adelyn Whaley") -> Adelyn Whaley | R31: =IFERROR(__xludf.DUMMYFUNCTION("""COMPUTED_VALUE"""),"Amir Owens") -> Amir Owens | S31: =IFERROR(__xludf.DUMMYFUNCTION("""COMPUTED_VALUE"""),"Addy Kohn") -> Addy Kohn | T31: =IFERROR(__xludf.DUMMYFUNCTION("""COMPUTED_VALUE"""),"Alex Negron") -> Alex Negron
A32: =IFERROR(__xludf.DUMMYFUNCTION("""COMPUTED_VALUE"""),"AF") -> AF | B32: =IFERROR(__xludf.DUMMYFUNCTION("""COMPUTED_VALUE"""),"Elm Burke") -> Elm Burke | C32: =IFERROR(__xludf.DUMMYFUNCTION("""COMPUTED_VALUE"""),7) -> 7 | D32: =IFERROR(__xludf.DUMMYFUNCTION("""COMPUTED_VALUE"""),"G") -> G | E32: =IFERROR(__xludf.DUMMYFUNCTION("""COMPUTED_VALUE"""),"F") -> F | F32: =IFERROR(__xludf.DUMMYFUNCTION("""COMPUTED_VALUE"""),"J") -> J | G32: =IFERROR(__xludf.DUMMYFUNCTION("""COMPUTED_VALUE"""),7) -> 7 | H32: =IFERROR(__xludf.DUMMYFUNCTION("""COMPUTED_VALUE"""),"AF") -> AF | I32: =IFERROR(__xludf.DUMMYFUNCTION("""COMPUTED_VALUE"""),4) -> 4 | J32: =IFERROR(__xludf.DUMMYFUNCTION("""COMPUTED_VALUE"""),0) -> 0 | Q32: =IFERROR(__xludf.DUMMYFUNCTION("""COMPUTED_VALUE"""),"Adelyn Wilder") -> Adelyn Wilder | R32: =IFERROR(__xludf.DUMMYFUNCTION("""COMPUTED_VALUE"""),"Andrew Baldovich") -> Andrew Baldovich | S32: =IFERROR(__xludf.DUMMYFUNCTION("""COMPUTED_VALUE"""),"Addy Vandenbemden") -> Addy Vandenbemden | T32: =IFERROR(__xludf.DUMMYFUNCTION("""COMPUTED_VALUE"""),"Alex Valencic") -> Alex Valencic
A33: =IFERROR(__xludf.DUMMYFUNCTION("""COMPUTED_VALUE"""),"AF") -> AF | B33: =IFERROR(__xludf.DUMMYFUNCTION("""COMPUTED_VALUE"""),"Libby Snow") -> Libby Snow | C33: =IFERROR(__xludf.DUMMYFUNCTION("""COMPUTED_VALUE"""),8) -> 8 | D33: =IFERROR(__xludf.DUMMYFUNCTION("""COMPUTED_VALUE"""),"G") -> G | E33: =IFERROR(__xludf.DUMMYFUNCTION("""COMPUTED_VALUE"""),"F") -> F | F33: =IFERROR(__xludf.DUMMYFUNCTION("""COMPUTED_VALUE"""),"J") -> J | G33: =IFERROR(__xludf.DUMMYFUNCTION("""COMPUTED_VALUE"""),7) -> 7 | H33: =IFERROR(__xludf.DUMMYFUNCTION("""COMPUTED_VALUE"""),"AF") -> AF | I33: =IFERROR(__xludf.DUMMYFUNCTION("""COMPUTED_VALUE"""),4) -> 4 | J33: =IFERROR(__xludf.DUMMYFUNCTION("""COMPUTED_VALUE"""),1) -> 1 | K33: =IFERROR(__xludf.DUMMYFUNCTION("""COMPUTED_VALUE"""),28.6) -> 28.6 | M33: =IFERROR(__xludf.DUMMYFUNCTION("""COMPUTED_VALUE"""),28.6) -> 28.6 | Q33: =IFERROR(__xludf.DUMMYFUNCTION("""COMPUTED_VALUE"""),"Aemilia Connolly") -> Aemilia Connolly | R33: =IFERROR(__xludf.DUMMYFUNCTION("""COMPUTED_VALUE"""),"Andrew Beck") -> Andrew Beck | S33: =IFERROR(__xludf.DUMMYFUNCTION("""COMPUTED_VALUE"""),"Adelaide Bergmans") -> Adelaide Bergmans | T33: =IFERROR(__xludf.DUMMYFUNCTION("""COMPUTED_VALUE"""),"Alex Valmont") -> Alex Valmont
A34: =IFERROR(__xludf.DUMMYFUNCTION("""COMPUTED_VALUE"""),"AF") -> AF | B34: =IFERROR(__xludf.DUMMYFUNCTION("""COMPUTED_VALUE"""),"Mara Albro") -> Mara Albro | C34: =IFERROR(__xludf.DUMMYFUNCTION("""COMPUTED_VALUE"""),8) -> 8 | D34: =IFERROR(__xludf.DUMMYFUNCTION("""COMPUTED_VALUE"""),"G") -> G | E34: =IFERROR(__xludf.DUMMYFUNCTION("""COMPUTED_VALUE"""),"F") -> F | F34: =IFERROR(__xludf.DUMMYFUNCTION("""COMPUTED_VALUE"""),"J") -> J | G34: =IFERROR(__xludf.DUMMYFUNCTION("""COMPUTED_VALUE"""),7) -> 7 | H34: =IFERROR(__xludf.DUMMYFUNCTION("""COMPUTED_VALUE"""),"AF") -> AF | I34: =IFERROR(__xludf.DUMMYFUNCTION("""COMPUTED_VALUE"""),4) -> 4 | J34: =IFERROR(__xludf.DUMMYFUNCTION("""COMPUTED_VALUE"""),5) -> 5 | K34: =IFERROR(__xludf.DUMMYFUNCTION("""COMPUTED_VALUE"""),48.1) -> 48.1 | M34: =IFERROR(__xludf.DUMMYFUNCTION("""COMPUTED_VALUE"""),48.1) -> 48.1 | O34: =IFERROR(__xludf.DUMMYFUNCTION("""COMPUTED_VALUE"""),43.5) -> 43.5 | Q34: =IFERROR(__xludf.DUMMYFUNCTION("""COMPUTED_VALUE"""),"Afton Walter") -> Afton Walter | R34: =IFERROR(__xludf.DUMMYFUNCTION("""COMPUTED_VALUE"""),"Andrew Cho") -> Andrew Cho | S34: =IFERROR(__xludf.DUMMYFUNCTION("""COMPUTED_VALUE"""),"Adelaide Frame") -> Adelaide Frame | T34: =IFERROR(__xludf.DUMMYFUNCTION("""COMPUTED_VALUE"""),"Alex Way") -> Alex Way
A35: =IFERROR(__xludf.DUMMYFUNCTION("""COMPUTED_VALUE"""),"AF") -> AF | B35: =IFERROR(__xludf.DUMMYFUNCTION("""COMPUTED_VALUE"""),"Mia Harbeck") -> Mia Harbeck | C35: =IFERROR(__xludf.DUMMYFUNCTION("""COMPUTED_VALUE"""),10) -> 10 | D35: =IFERROR(__xludf.DUMMYFUNCTION("""COMPUTED_VALUE"""),"G") -> G | E35: =IFERROR(__xludf.DUMMYFUNCTION("""COMPUTED_VALUE"""),"F") -> F | F35: =IFERROR(__xludf.DUMMYFUNCTION("""COMPUTED_VALUE"""),"J") -> J | G35: =IFERROR(__xludf.DUMMYFUNCTION("""COMPUTED_VALUE"""),7) -> 7 | H35: =IFERROR(__xludf.DUMMYFUNCTION("""COMPUTED_VALUE"""),"AF") -> AF | I35: =IFERROR(__xludf.DUMMYFUNCTION("""COMPUTED_VALUE"""),4) -> 4 | J35: =IFERROR(__xludf.DUMMYFUNCTION("""COMPUTED_VALUE"""),4) -> 4 | K35: =IFERROR(__xludf.DUMMYFUNCTION("""COMPUTED_VALUE"""),77.5) -> 77.5 | M35: =IFERROR(__xludf.DUMMYFUNCTION("""COMPUTED_VALUE"""),77.5) -> 77.5 | O35: =IFERROR(__xludf.DUMMYFUNCTION("""COMPUTED_VALUE"""),72.65) -> 72.65 | Q35: =IFERROR(__xludf.DUMMYFUNCTION("""COMPUTED_VALUE"""),"Agnes Campbell") -> Agnes Campbell | R35: =IFERROR(__xludf.DUMMYFUNCTION("""COMPUTED_VALUE"""),"Andrew Haldeman") -> Andrew Haldeman | S35: =IFERROR(__xludf.DUMMYFUNCTION("""COMPUTED_VALUE"""),"Adelaide Frank") -> Adelaide Frank | T35: =IFERROR(__xludf.DUMMYFUNCTION("""COMPUTED_VALUE"""),"Alexander Halphen") -> Alexander Halphen
A36: =IFERROR(__xludf.DUMMYFUNCTION("""COMPUTED_VALUE"""),"AF") -> AF | B36: =IFERROR(__xludf.DUMMYFUNCTION("""COMPUTED_VALUE"""),"Michaela Swartz") -> Michaela Swartz | C36: =IFERROR(__xludf.DUMMYFUNCTION("""COMPUTED_VALUE"""),10) -> 10 | D36: =IFERROR(__xludf.DUMMYFUNCTION("""COMPUTED_VALUE"""),"G") -> G | E36: =IFERROR(__xludf.DUMMYFUNCTION("""COMPUTED_VALUE"""),"F") -> F | F36: =IFERROR(__xludf.DUMMYFUNCTION("""COMPUTED_VALUE"""),"J") -> J | G36: =IFERROR(__xludf.DUMMYFUNCTION("""COMPUTED_VALUE"""),7) -> 7 | H36: =IFERROR(__xludf.DUMMYFUNCTION("""COMPUTED_VALUE"""),"AF") -> AF | I36: =IFERROR(__xludf.DUMMYFUNCTION("""COMPUTED_VALUE"""),4) -> 4 | J36: =IFERROR(__xludf.DUMMYFUNCTION("""COMPUTED_VALUE"""),4) -> 4 | K36: =IFERROR(__xludf.DUMMYFUNCTION("""COMPUTED_VALUE"""),30.95) -> 30.95 | O36: =IFERROR(__xludf.DUMMYFUNCTION("""COMPUTED_VALUE"""),8.5) -> 8.5 | Q36: =IFERROR(__xludf.DUMMYFUNCTION("""COMPUTED_VALUE"""),"Agnes Robert") -> Agnes Robert | R36: =IFERROR(__xludf.DUMMYFUNCTION("""COMPUTED_VALUE"""),"Andrew Werlinger") -> Andrew Werlinger | S36: =IFERROR(__xludf.DUMMYFUNCTION("""COMPUTED_VALUE"""),"Adella Bryant") -> Adella Bryant | T36: =IFERROR(__xludf.DUMMYFUNCTION("""COMPUTED_VALUE"""),"Alexander Hudes") -> Alexander Hudes
A37: =IFERROR(__xludf.DUMMYFUNCTION("""COMPUTED_VALUE"""),"AF") -> AF | B37: =IFERROR(__xludf.DUMMYFUNCTION("""COMPUTED_VALUE"""),"Odile Burke") -> Odile Burke | C37: =IFERROR(__xludf.DUMMYFUNCTION("""COMPUTED_VALUE"""),7) -> 7 | D37: =IFERROR(__xludf.DUMMYFUNCTION("""COMPUTED_VALUE"""),"G") -> G | E37: =IFERROR(__xludf.DUMMYFUNCTION("""COMPUTED_VALUE"""),"F") -> F | F37: =IFERROR(__xludf.DUMMYFUNCTION("""COMPUTED_VALUE"""),"J") -> J | G37: =IFERROR(__xludf.DUMMYFUNCTION("""COMPUTED_VALUE"""),7) -> 7 | H37: =IFERROR(__xludf.DUMMYFUNCTION("""COMPUTED_VALUE"""),"AF") -> AF | I37: =IFERROR(__xludf.DUMMYFUNCTION("""COMPUTED_VALUE"""),4) -> 4 | J37: =IFERROR(__xludf.DUMMYFUNCTION("""COMPUTED_VALUE"""),0) -> 0 | Q37: =IFERROR(__xludf.DUMMYFUNCTION("""COMPUTED_VALUE"""),"Aira Kayastha") -> Aira Kayastha | R37: =IFERROR(__xludf.DUMMYFUNCTION("""COMPUTED_VALUE"""),"Andrew Zemek") -> Andrew Zemek | S37: =IFERROR(__xludf.DUMMYFUNCTION("""COMPUTED_VALUE"""),"Adelyn Whaley") -> Adelyn Whaley | T37: =IFERROR(__xludf.DUMMYFUNCTION("""COMPUTED_VALUE"""),"Alexander Moch") -> Alexander Moch
A38: =IFERROR(__xludf.DUMMYFUNCTION("""COMPUTED_VALUE"""),"AF") -> AF | B38: =IFERROR(__xludf.DUMMYFUNCTION("""COMPUTED_VALUE"""),"Parker Sachs") -> Parker Sachs | C38: =IFERROR(__xludf.DUMMYFUNCTION("""COMPUTED_VALUE"""),10) -> 10 | D38: =IFERROR(__xludf.DUMMYFUNCTION("""COMPUTED_VALUE"""),"G") -> G | E38: =IFERROR(__xludf.DUMMYFUNCTION("""COMPUTED_VALUE"""),"F") -> F | F38: =IFERROR(__xludf.DUMMYFUNCTION("""COMPUTED_VALUE"""),"J") -> J | G38: =IFERROR(__xludf.DUMMYFUNCTION("""COMPUTED_VALUE"""),7) -> 7 | H38: =IFERROR(__xludf.DUMMYFUNCTION("""COMPUTED_VALUE"""),"AF") -> AF | I38: =IFERROR(__xludf.DUMMYFUNCTION("""COMPUTED_VALUE"""),4) -> 4 | J38: =IFERROR(__xludf.DUMMYFUNCTION("""COMPUTED_VALUE"""),4) -> 4 | K38: =IFERROR(__xludf.DUMMYFUNCTION("""COMPUTED_VALUE"""),44.2) -> 44.2 | O38: =IFERROR(__xludf.DUMMYFUNCTION("""COMPUTED_VALUE"""),44.2) -> 44.2 | Q38: =IFERROR(__xludf.DUMMYFUNCTION("""COMPUTED_VALUE"""),"Aislyn Burnside") -> Aislyn Burnside | R38: =IFERROR(__xludf.DUMMYFUNCTION("""COMPUTED_VALUE"""),"Aniket Agarwal") -> Aniket Agarwal | S38: =IFERROR(__xludf.DUMMYFUNCTION("""COMPUTED_VALUE"""),"Adelyn Wilder") -> Adelyn Wilder | T38: =IFERROR(__xludf.DUMMYFUNCTION("""COMPUTED_VALUE"""),"Alexander Ogrodny") -> Alexander Ogrodny
A39: =IFERROR(__xludf.DUMMYFUNCTION("""COMPUTED_VALUE"""),"AF") -> AF | B39: =IFERROR(__xludf.DUMMYFUNCTION("""COMPUTED_VALUE"""),"Vi Robert") -> Vi Robert | C39: =IFERROR(__xludf.DUMMYFUNCTION("""COMPUTED_VALUE"""),9) -> 9 | D39: =IFERROR(__xludf.DUMMYFUNCTION("""COMPUTED_VALUE"""),"G") -> G | E39: =IFERROR(__xludf.DUMMYFUNCTION("""COMPUTED_VALUE"""),"F") -> F | F39: =IFERROR(__xludf.DUMMYFUNCTION("""COMPUTED_VALUE"""),"J") -> J | G39: =IFERROR(__xludf.DUMMYFUNCTION("""COMPUTED_VALUE"""),7) -> 7 | H39: =IFERROR(__xludf.DUMMYFUNCTION("""COMPUTED_VALUE"""),"AF") -> AF | I39: =IFERROR(__xludf.DUMMYFUNCTION("""COMPUTED_VALUE"""),4) -> 4 | J39: =IFERROR(__xludf.DUMMYFUNCTION("""COMPUTED_VALUE"""),4) -> 4 | K39: =IFERROR(__xludf.DUMMYFUNCTION("""COMPUTED_VALUE"""),54.75) -> 54.75 | M39: =IFERROR(__xludf.DUMMYFUNCTION("""COMPUTED_VALUE"""),53.3) -> 53.3 | O39: =IFERROR(__xludf.DUMMYFUNCTION("""COMPUTED_VALUE"""),54.75) -> 54.75 | Q39: =IFERROR(__xludf.DUMMYFUNCTION("""COMPUTED_VALUE"""),"Alessandra Falsone") -> Alessandra Falsone | R39: =IFERROR(__xludf.DUMMYFUNCTION("""COMPUTED_VALUE"""),"Archer Kouhestani") -> Archer Kouhestani | S39: =IFERROR(__xludf.DUMMYFUNCTION("""COMPUTED_VALUE"""),"Adriana McCormick") -> Adriana McCormick | T39: =IFERROR(__xludf.DUMMYFUNCTION("""COMPUTED_VALUE"""),"Alexander Stewart") -> Alexander Stewart
A40: =IFERROR(__xludf.DUMMYFUNCTION("""COMPUTED_VALUE"""),"AF") -> AF | B40: =IFERROR(__xludf.DUMMYFUNCTION("""COMPUTED_VALUE"""),"Victoria Beier") -> Victoria Beier | C40: =IFERROR(__xludf.DUMMYFUNCTION("""COMPUTED_VALUE"""),9) -> 9 | D40: =IFERROR(__xludf.DUMMYFUNCTION("""COMPUTED_VALUE"""),"G") -> G | E40: =IFERROR(__xludf.DUMMYFUNCTION("""COMPUTED_VALUE"""),"F") -> F | F40: =IFERROR(__xludf.DUMMYFUNCTION("""COMPUTED_VALUE"""),"J") -> J | G40: =IFERROR(__xludf.DUMMYFUNCTION("""COMPUTED_VALUE"""),7) -> 7 | H40: =IFERROR(__xludf.DUMMYFUNCTION("""COMPUTED_VALUE"""),"AF") -> AF | I40: =IFERROR(__xludf.DUMMYFUNCTION("""COMPUTED_VALUE"""),4) -> 4 | J40: =IFERROR(__xludf.DUMMYFUNCTION("""COMPUTED_VALUE"""),4) -> 4 | K40: =IFERROR(__xludf.DUMMYFUNCTION("""COMPUTED_VALUE"""),53.35) -> 53.35 | M40: =IFERROR(__xludf.DUMMYFUNCTION("""COMPUTED_VALUE"""),53.35) -> 53.35 | O40: =IFERROR(__xludf.DUMMYFUNCTION("""COMPUTED_VALUE"""),44.8) -> 44.8 | Q40: =IFERROR(__xludf.DUMMYFUNCTION("""COMPUTED_VALUE"""),"Aletheia Wiley-Jimenez") -> Aletheia Wiley-Jimenez | R40: =IFERROR(__xludf.DUMMYFUNCTION("""COMPUTED_VALUE"""),"Archie Wiedemann") -> Archie Wiedemann | S40: =IFERROR(__xludf.DUMMYFUNCTION("""COMPUTED_VALUE"""),"Aemilia Connolly") -> Aemilia Connolly | T40: =IFERROR(__xludf.DUMMYFUNCTION("""COMPUTED_VALUE"""),"Alexander Tkacz") -> Alexander Tkacz
A41: =IFERROR(__xludf.DUMMYFUNCTION("""COMPUTED_VALUE"""),"AF") -> AF | B41: =IFERROR(__xludf.DUMMYFUNCTION("""COMPUTED_VALUE"""),"Brandon Dasch") -> Brandon Dasch | C41: =IFERROR(__xludf.DUMMYFUNCTION("""COMPUTED_VALUE"""),9) -> 9 | D41: =IFERROR(__xludf.DUMMYFUNCTION("""COMPUTED_VALUE"""),"B") -> B | E41: =IFERROR(__xludf.DUMMYFUNCTION("""COMPUTED_VALUE"""),"F") -> F | F41: =IFERROR(__xludf.DUMMYFUNCTION("""COMPUTED_VALUE"""),"J") -> J | G41: =IFERROR(__xludf.DUMMYFUNCTION("""COMPUTED_VALUE"""),7) -> 7 | H41: =IFERROR(__xludf.DUMMYFUNCTION("""COMPUTED_VALUE"""),"AF") -> AF | I41: =IFERROR(__xludf.DUMMYFUNCTION("""COMPUTED_VALUE"""),5) -> 5 | J41: =IFERROR(__xludf.DUMMYFUNCTION("""COMPUTED_VALUE"""),4) -> 4 | K41: =IFERROR(__xludf.DUMMYFUNCTION("""COMPUTED_VALUE"""),40) -> 40 | O41: =IFERROR(__xludf.DUMMYFUNCTION("""COMPUTED_VALUE"""),35.85) -> 35.85 | Q41: =IFERROR(__xludf.DUMMYFUNCTION("""COMPUTED_VALUE"""),"Alex Klimek") -> Alex Klimek | R41: =IFERROR(__xludf.DUMMYFUNCTION("""COMPUTED_VALUE"""),"Ari Yarmolovich") -> Ari Yarmolovich | S41: =IFERROR(__xludf.DUMMYFUNCTION("""COMPUTED_VALUE"""),"Afton Walter") -> Afton Walter | T41: =IFERROR(__xludf.DUMMYFUNCTION("""COMPUTED_VALUE"""),"Alexi Ramis") -> Alexi Ramis
A42: =IFERROR(__xludf.DUMMYFUNCTION("""COMPUTED_VALUE"""),"AF") -> AF | B42: =IFERROR(__xludf.DUMMYFUNCTION("""COMPUTED_VALUE"""),"Connor Bergen") -> Connor Bergen | C42: =IFERROR(__xludf.DUMMYFUNCTION("""COMPUTED_VALUE"""),9) -> 9 | D42: =IFERROR(__xludf.DUMMYFUNCTION("""COMPUTED_VALUE"""),"B") -> B | E42: =IFERROR(__xludf.DUMMYFUNCTION("""COMPUTED_VALUE"""),"F") -> F | F42: =IFERROR(__xludf.DUMMYFUNCTION("""COMPUTED_VALUE"""),"J") -> J | G42: =IFERROR(__xludf.DUMMYFUNCTION("""COMPUTED_VALUE"""),7) -> 7 | H42: =IFERROR(__xludf.DUMMYFUNCTION("""COMPUTED_VALUE"""),"AF") -> AF | I42: =IFERROR(__xludf.DUMMYFUNCTION("""COMPUTED_VALUE"""),5) -> 5 | J42: =IFERROR(__xludf.DUMMYFUNCTION("""COMPUTED_VALUE"""),3) -> 3 | K42: =IFERROR(__xludf.DUMMYFUNCTION("""COMPUTED_VALUE"""),70.25) -> 70.25 | Q42: =IFERROR(__xludf.DUMMYFUNCTION("""COMPUTED_VALUE"""),"Alex Shrieves") -> Alex Shrieves | R42: =IFERROR(__xludf.DUMMYFUNCTION("""COMPUTED_VALUE"""),"Arlo Creen") -> Arlo Creen | S42: =IFERROR(__xludf.DUMMYFUNCTION("""COMPUTED_VALUE"""),"Agnes Campbell") -> Agnes Campbell | T42: =IFERROR(__xludf.DUMMYFUNCTION("""COMPUTED_VALUE"""),"Amadeus Gudauskas") -> Amadeus Gudauskas
A43: =IFERROR(__xludf.DUMMYFUNCTION("""COMPUTED_VALUE"""),"AF") -> AF | B43: =IFERROR(__xludf.DUMMYFUNCTION("""COMPUTED_VALUE"""),"Connor Brannan") -> Connor Brannan | C43: =IFERROR(__xludf.DUMMYFUNCTION("""COMPUTED_VALUE"""),10) -> 10 | D43: =IFERROR(__xludf.DUMMYFUNCTION("""COMPUTED_VALUE"""),"B") -> B | E43: =IFERROR(__xludf.DUMMYFUNCTION("""COMPUTED_VALUE"""),"F") -> F | F43: =IFERROR(__xludf.DUMMYFUNCTION("""COMPUTED_VALUE"""),"J") -> J | G43: =IFERROR(__xludf.DUMMYFUNCTION("""COMPUTED_VALUE"""),7) -> 7 | H43: =IFERROR(__xludf.DUMMYFUNCTION("""COMPUTED_VALUE"""),"AF") -> AF | I43: =IFERROR(__xludf.DUMMYFUNCTION("""COMPUTED_VALUE"""),5) -> 5 | J43: =IFERROR(__xludf.DUMMYFUNCTION("""COMPUTED_VALUE"""),0) -> 0 | Q43: =IFERROR(__xludf.DUMMYFUNCTION("""COMPUTED_VALUE"""),"Alexa Rusk") -> Alexa Rusk | R43: =IFERROR(__xludf.DUMMYFUNCTION("""COMPUTED_VALUE"""),"Arlo Kapadia") -> Arlo Kapadia | S43: =IFERROR(__xludf.DUMMYFUNCTION("""COMPUTED_VALUE"""),"Agnes Robert") -> Agnes Robert | T43: =IFERROR(__xludf.DUMMYFUNCTION("""COMPUTED_VALUE"""),"Amias Paz") -> Amias Paz
A44: =IFERROR(__xludf.DUMMYFUNCTION("""COMPUTED_VALUE"""),"AF") -> AF | B44: =IFERROR(__xludf.DUMMYFUNCTION("""COMPUTED_VALUE"""),"Gibson Cagianesa") -> Gibson Cagianesa | C44: =IFERROR(__xludf.DUMMYFUNCTION("""COMPUTED_VALUE"""),4) -> 4 | D44: =IFERROR(__xludf.DUMMYFUNCTION("""COMPUTED_VALUE"""),"B") -> B | E44: =IFERROR(__xludf.DUMMYFUNCTION("""COMPUTED_VALUE"""),"F") -> F | F44: =IFERROR(__xludf.DUMMYFUNCTION("""COMPUTED_VALUE"""),"J") -> J | G44: =IFERROR(__xludf.DUMMYFUNCTION("""COMPUTED_VALUE"""),7) -> 7 | H44: =IFERROR(__xludf.DUMMYFUNCTION("""COMPUTED_VALUE"""),"AF") -> AF | I44: =IFERROR(__xludf.DUMMYFUNCTION("""COMPUTED_VALUE"""),5) -> 5 | J44: =IFERROR(__xludf.DUMMYFUNCTION("""COMPUTED_VALUE"""),0) -> 0 | Q44: =IFERROR(__xludf.DUMMYFUNCTION("""COMPUTED_VALUE"""),"Alexandra Bagully") -> Alexandra Bagully | R44: =IFERROR(__xludf.DUMMYFUNCTION("""COMPUTED_VALUE"""),"Arthur Fleischer") -> Arthur Fleischer | S44: =IFERROR(__xludf.DUMMYFUNCTION("""COMPUTED_VALUE"""),"Aicha Boyd") -> Aicha Boyd | T44: =IFERROR(__xludf.DUMMYFUNCTION("""COMPUTED_VALUE"""),"Amir Owens") -> Amir Owens
A45: =IFERROR(__xludf.DUMMYFUNCTION("""COMPUTED_VALUE"""),"AF") -> AF | B45: =IFERROR(__xludf.DUMMYFUNCTION("""COMPUTED_VALUE"""),"Hershey Zeeman") -> Hershey Zeeman | C45: =IFERROR(__xludf.DUMMYFUNCTION("""COMPUTED_VALUE"""),9) -> 9 | D45: =IFERROR(__xludf.DUMMYFUNCTION("""COMPUTED_VALUE"""),"B") -> B | E45: =IFERROR(__xludf.DUMMYFUNCTION("""COMPUTED_VALUE"""),"F") -> F | F45: =IFERROR(__xludf.DUMMYFUNCTION("""COMPUTED_VALUE"""),"J") -> J | G45: =IFERROR(__xludf.DUMMYFUNCTION("""COMPUTED_VALUE"""),7) -> 7 | H45: =IFERROR(__xludf.DUMMYFUNCTION("""COMPUTED_VALUE"""),"AF") -> AF | I45: =IFERROR(__xludf.DUMMYFUNCTION("""COMPUTED_VALUE"""),5) -> 5 | J45: =IFERROR(__xludf.DUMMYFUNCTION("""COMPUTED_VALUE"""),0) -> 0 | Q45: =IFERROR(__xludf.DUMMYFUNCTION("""COMPUTED_VALUE"""),"Alexandra Grant") -> Alexandra Grant | R45: =IFERROR(__xludf.DUMMYFUNCTION("""COMPUTED_VALUE"""),"Arthur Jozefczyk") -> Arthur Jozefczyk | S45: =IFERROR(__xludf.DUMMYFUNCTION("""COMPUTED_VALUE"""),"Ainslee Girard") -> Ainslee Girard | T45: =IFERROR(__xludf.DUMMYFUNCTION("""COMPUTED_VALUE"""),"Andrew Baldovich") -> Andrew Baldovich
A46: =IFERROR(__xludf.DUMMYFUNCTION("""COMPUTED_VALUE"""),"AF") -> AF | B46: =IFERROR(__xludf.DUMMYFUNCTION("""COMPUTED_VALUE"""),"R. Emerson Koch") -> R. Emerson Koch | C46: =IFERROR(__xludf.DUMMYFUNCTION("""COMPUTED_VALUE"""),10) -> 10 | D46: =IFERROR(__xludf.DUMMYFUNCTION("""COMPUTED_VALUE"""),"B") -> B | E46: =IFERROR(__xludf.DUMMYFUNCTION("""COMPUTED_VALUE"""),"F") -> F | F46: =IFERROR(__xludf.DUMMYFUNCTION("""COMPUTED_VALUE"""),"J") -> J | G46: =IFERROR(__xludf.DUMMYFUNCTION("""COMPUTED_VALUE"""),7) -> 7 | H46: =IFERROR(__xludf.DUMMYFUNCTION("""COMPUTED_VALUE"""),"AF") -> AF | I46: =IFERROR(__xludf.DUMMYFUNCTION("""COMPUTED_VALUE"""),5) -> 5 | J46: =IFERROR(__xludf.DUMMYFUNCTION("""COMPUTED_VALUE"""),4) -> 4 | K46: =IFERROR(__xludf.DUMMYFUNCTION("""COMPUTED_VALUE"""),45.6) -> 45.6 | M46: =IFERROR(__xludf.DUMMYFUNCTION("""COMPUTED_VALUE"""),45.6) -> 45.6 | Q46: =IFERROR(__xludf.DUMMYFUNCTION("""COMPUTED_VALUE"""),"Alexandra Kennedy") -> Alexandra Kennedy | R46: =IFERROR(__xludf.DUMMYFUNCTION("""COMPUTED_VALUE"""),"Asher Arnic") -> Asher Arnic | S46: =IFERROR(__xludf.DUMMYFUNCTION("""COMPUTED_VALUE"""),"Aira Kayastha") -> Aira Kayastha | T46: =IFERROR(__xludf.DUMMYFUNCTION("""COMPUTED_VALUE"""),"Andrew Bean") -> Andrew Bean
A47: =IFERROR(__xludf.DUMMYFUNCTION("""COMPUTED_VALUE"""),"AF") -> AF | B47: =IFERROR(__xludf.DUMMYFUNCTION("""COMPUTED_VALUE"""),"Tristan Dasch") -> Tristan Dasch | C47: =IFERROR(__xludf.DUMMYFUNCTION("""COMPUTED_VALUE"""),7) -> 7 | D47: =IFERROR(__xludf.DUMMYFUNCTION("""COMPUTED_VALUE"""),"B") -> B | E47: =IFERROR(__xludf.DUMMYFUNCTION("""COMPUTED_VALUE"""),"F") -> F | F47: =IFERROR(__xludf.DUMMYFUNCTION("""COMPUTED_VALUE"""),"J") -> J | G47: =IFERROR(__xludf.DUMMYFUNCTION("""COMPUTED_VALUE"""),7) -> 7 | H47: =IFERROR(__xludf.DUMMYFUNCTION("""COMPUTED_VALUE"""),"AF") -> AF | I47: =IFERROR(__xludf.DUMMYFUNCTION("""COMPUTED_VALUE"""),5) -> 5 | J47: =IFERROR(__xludf.DUMMYFUNCTION("""COMPUTED_VALUE"""),4) -> 4 | K47: =IFERROR(__xludf.DUMMYFUNCTION("""COMPUTED_VALUE"""),37.1) -> 37.1 | O47: =IFERROR(__xludf.DUMMYFUNCTION("""COMPUTED_VALUE"""),37.1) -> 37.1 | Q47: =IFERROR(__xludf.DUMMYFUNCTION("""COMPUTED_VALUE"""),"Alexandra Steber") -> Alexandra Steber | R47: =IFERROR(__xludf.DUMMYFUNCTION("""COMPUTED_VALUE"""),"Asher Cameron") -> Asher Cameron | S47: =IFERROR(__xludf.DUMMYFUNCTION("""COMPUTED_VALUE"""),"Aislyn Burnside") -> Aislyn Burnside | T47: =IFERROR(__xludf.DUMMYFUNCTION("""COMPUTED_VALUE"""),"Andrew Beck") -> Andrew Beck
A48: =IFERROR(__xludf.DUMMYFUNCTION("""COMPUTED_VALUE"""),"AF") -> AF | B48: =IFERROR(__xludf.DUMMYFUNCTION("""COMPUTED_VALUE"""),"Campbell Black") -> Campbell Black | C48: =IFERROR(__xludf.DUMMYFUNCTION("""COMPUTED_VALUE"""),11) -> 11 | D48: =IFERROR(__xludf.DUMMYFUNCTION("""COMPUTED_VALUE"""),"G") -> G | E48: =IFERROR(__xludf.DUMMYFUNCTION("""COMPUTED_VALUE"""),"J") -> J | F48: =IFERROR(__xludf.DUMMYFUNCTION("""COMPUTED_VALUE"""),"I") -> I | G48: =IFERROR(__xludf.DUMMYFUNCTION("""COMPUTED_VALUE"""),7) -> 7 | H48: =IFERROR(__xludf.DUMMYFUNCTION("""COMPUTED_VALUE"""),"AF") -> AF | I48: =IFERROR(__xludf.DUMMYFUNCTION("""COMPUTED_VALUE"""),6) -> 6 | J48: =IFERROR(__xludf.DUMMYFUNCTION("""COMPUTED_VALUE"""),4) -> 4 | K48: =IFERROR(__xludf.DUMMYFUNCTION("""COMPUTED_VALUE"""),80.8) -> 80.8 | M48: =IFERROR(__xludf.DUMMYFUNCTION("""COMPUTED_VALUE"""),67.55) -> 67.55 | O48: =IFERROR(__xludf.DUMMYFUNCTION("""COMPUTED_VALUE"""),78.15) -> 78.15 | Q48: =IFERROR(__xludf.DUMMYFUNCTION("""COMPUTED_VALUE"""),"Alexandra Torrez") -> Alexandra Torrez | R48: =IFERROR(__xludf.DUMMYFUNCTION("""COMPUTED_VALUE"""),"Ashton Akers") -> Ashton Akers | S48: =IFERROR(__xludf.DUMMYFUNCTION("""COMPUTED_VALUE"""),"Alessandra Falsone") -> Alessandra Falsone | T48: =IFERROR(__xludf.DUMMYFUNCTION("""COMPUTED_VALUE"""),"Andrew Cho") -> Andrew Cho
A49: =IFERROR(__xludf.DUMMYFUNCTION("""COMPUTED_VALUE"""),"AF") -> AF | B49: =IFERROR(__xludf.DUMMYFUNCTION("""COMPUTED_VALUE"""),"Ella Turner") -> Ella Turner | C49: =IFERROR(__xludf.DUMMYFUNCTION("""COMPUTED_VALUE"""),11) -> 11 | D49: =IFERROR(__xludf.DUMMYFUNCTION("""COMPUTED_VALUE"""),"G") -> G | E49: =IFERROR(__xludf.DUMMYFUNCTION("""COMPUTED_VALUE"""),"J") -> J | F49: =IFERROR(__xludf.DUMMYFUNCTION("""COMPUTED_VALUE"""),"I") -> I | G49: =IFERROR(__xludf.DUMMYFUNCTION("""COMPUTED_VALUE"""),7) -> 7 | H49: =IFERROR(__xludf.DUMMYFUNCTION("""COMPUTED_VALUE"""),"AF") -> AF | I49: =IFERROR(__xludf.DUMMYFUNCTION("""COMPUTED_VALUE"""),6) -> 6 | J49: =IFERROR(__xludf.DUMMYFUNCTION("""COMPUTED_VALUE"""),3) -> 3 | K49: =IFERROR(__xludf.DUMMYFUNCTION("""COMPUTED_VALUE"""),77.85) -> 77.85 | M49: =IFERROR(__xludf.DUMMYFUNCTION("""COMPUTED_VALUE"""),71.4) -> 71.4 | O49: =IFERROR(__xludf.DUMMYFUNCTION("""COMPUTED_VALUE"""),77.85) -> 77.85 | Q49: =IFERROR(__xludf.DUMMYFUNCTION("""COMPUTED_VALUE"""),"Alice Beaudoin") -> Alice Beaudoin | R49: =IFERROR(__xludf.DUMMYFUNCTION("""COMPUTED_VALUE"""),"Atticus Lee") -> Atticus Lee | S49: =IFERROR(__xludf.DUMMYFUNCTION("""COMPUTED_VALUE"""),"Aletheia Wiley-Jimenez") -> Aletheia Wiley-Jimenez | T49: =IFERROR(__xludf.DUMMYFUNCTION("""COMPUTED_VALUE"""),"Andrew Haldeman") -> Andrew Haldeman
A50: =IFERROR(__xludf.DUMMYFUNCTION("""COMPUTED_VALUE"""),"AF") -> AF | B50: =IFERROR(__xludf.DUMMYFUNCTION("""COMPUTED_VALUE"""),"Fiona Bergen") -> Fiona Bergen | C50: =IFERROR(__xludf.DUMMYFUNCTION("""COMPUTED_VALUE"""),11) -> 11 | D50: =IFERROR(__xludf.DUMMYFUNCTION("""COMPUTED_VALUE"""),"G") -> G | E50: =IFERROR(__xludf.DUMMYFUNCTION("""COMPUTED_VALUE"""),"J") -> J | F50: =IFERROR(__xludf.DUMMYFUNCTION("""COMPUTED_VALUE"""),"I") -> I | G50: =IFERROR(__xludf.DUMMYFUNCTION("""COMPUTED_VALUE"""),7) -> 7 | H50: =IFERROR(__xludf.DUMMYFUNCTION("""COMPUTED_VALUE"""),"AF") -> AF | I50: =IFERROR(__xludf.DUMMYFUNCTION("""COMPUTED_VALUE"""),6) -> 6 | J50: =IFERROR(__xludf.DUMMYFUNCTION("""COMPUTED_VALUE"""),0) -> 0 | Q50: =IFERROR(__xludf.DUMMYFUNCTION("""COMPUTED_VALUE"""),"Alice Henderson") -> Alice Henderson | R50: =IFERROR(__xludf.DUMMYFUNCTION("""COMPUTED_VALUE"""),"Augie Rusnak") -> Augie Rusnak | S50: =IFERROR(__xludf.DUMMYFUNCTION("""COMPUTED_VALUE"""),"Alex Klimek") -> Alex Klimek | T50: =IFERROR(__xludf.DUMMYFUNCTION("""COMPUTED_VALUE"""),"Andrew Parente") -> Andrew Parente
A51: =IFERROR(__xludf.DUMMYFUNCTION("""COMPUTED_VALUE"""),"AF") -> AF | B51: =IFERROR(__xludf.DUMMYFUNCTION("""COMPUTED_VALUE"""),"Helen Huggler") -> Helen Huggler | C51: =IFERROR(__xludf.DUMMYFUNCTION("""COMPUTED_VALUE"""),11) -> 11 | D51: =IFERROR(__xludf.DUMMYFUNCTION("""COMPUTED_VALUE"""),"G") -> G | E51: =IFERROR(__xludf.DUMMYFUNCTION("""COMPUTED_VALUE"""),"J") -> J | F51: =IFERROR(__xludf.DUMMYFUNCTION("""COMPUTED_VALUE"""),"I") -> I | G51: =IFERROR(__xludf.DUMMYFUNCTION("""COMPUTED_VALUE"""),7) -> 7 | H51: =IFERROR(__xludf.DUMMYFUNCTION("""COMPUTED_VALUE"""),"AF") -> AF | I51: =IFERROR(__xludf.DUMMYFUNCTION("""COMPUTED_VALUE"""),6) -> 6 | J51: =IFERROR(__xludf.DUMMYFUNCTION("""COMPUTED_VALUE"""),5) -> 5 | K51: =IFERROR(__xludf.DUMMYFUNCTION("""COMPUTED_VALUE"""),72.9) -> 72.9 | M51: =IFERROR(__xludf.DUMMYFUNCTION("""COMPUTED_VALUE"""),68.4) -> 68.4 | O51: =IFERROR(__xludf.DUMMYFUNCTION("""COMPUTED_VALUE"""),72.9) -> 72.9 | Q51: =IFERROR(__xludf.DUMMYFUNCTION("""COMPUTED_VALUE"""),"Alice Uhl") -> Alice Uhl | R51: =IFERROR(__xludf.DUMMYFUNCTION("""COMPUTED_VALUE"""),"Augusto Sondoval") -> Augusto Sondoval | S51: =IFERROR(__xludf.DUMMYFUNCTION("""COMPUTED_VALUE"""),"Alex Shrieves") -> Alex Shrieves | T51: =IFERROR(__xludf.DUMMYFUNCTION("""COMPUTED_VALUE"""),"Andrew Werlinger") -> Andrew Werlinger
A52: =IFERROR(__xludf.DUMMYFUNCTION("""COMPUTED_VALUE"""),"AF") -> AF | B52: =IFERROR(__xludf.DUMMYFUNCTION("""COMPUTED_VALUE"""),"Lottie Robert") -> Lottie Robert | C52: =IFERROR(__xludf.DUMMYFUNCTION("""COMPUTED_VALUE"""),12) -> 12 | D52: =IFERROR(__xludf.DUMMYFUNCTION("""COMPUTED_VALUE"""),"G") -> G | E52: =IFERROR(__xludf.DUMMYFUNCTION("""COMPUTED_VALUE"""),"J") -> J | F52: =IFERROR(__xludf.DUMMYFUNCTION("""COMPUTED_VALUE"""),"I") -> I | G52: =IFERROR(__xludf.DUMMYFUNCTION("""COMPUTED_VALUE"""),7) -> 7 | H52: =IFERROR(__xludf.DUMMYFUNCTION("""COMPUTED_VALUE"""),"AF") -> AF | I52: =IFERROR(__xludf.DUMMYFUNCTION("""COMPUTED_VALUE"""),6) -> 6 | J52: =IFERROR(__xludf.DUMMYFUNCTION("""COMPUTED_VALUE"""),4) -> 4 | K52: =IFERROR(__xludf.DUMMYFUNCTION("""COMPUTED_VALUE"""),-57.35) -> -57.35 | M52: =IFERROR(__xludf.DUMMYFUNCTION("""COMPUTED_VALUE"""),-85.75) -> -85.75 | O52: =IFERROR(__xludf.DUMMYFUNCTION("""COMPUTED_VALUE"""),-72) -> -72 | Q52: =IFERROR(__xludf.DUMMYFUNCTION("""COMPUTED_VALUE"""),"Alicia Pereira Kim") -> Alicia Pereira Kim | R52: =IFERROR(__xludf.DUMMYFUNCTION("""COMPUTED_VALUE"""),"Austin Brooks") -> Austin Brooks | S52: =IFERROR(__xludf.DUMMYFUNCTION("""COMPUTED_VALUE"""),"Alexa Mansuy") -> Alexa Mansuy | T52: =IFERROR(__xludf.DUMMYFUNCTION("""COMPUTED_VALUE"""),"Andrew Zemek") -> Andrew Zemek
A53: =IFERROR(__xludf.DUMMYFUNCTION("""COMPUTED_VALUE"""),"AF") -> AF | B53: =IFERROR(__xludf.DUMMYFUNCTION("""COMPUTED_VALUE"""),"Savannah Lehman") -> Savannah Lehman | C53: =IFERROR(__xludf.DUMMYFUNCTION("""COMPUTED_VALUE"""),11) -> 11 | D53: =IFERROR(__xludf.DUMMYFUNCTION("""COMPUTED_VALUE"""),"G") -> G | E53: =IFERROR(__xludf.DUMMYFUNCTION("""COMPUTED_VALUE"""),"J") -> J | F53: =IFERROR(__xludf.DUMMYFUNCTION("""COMPUTED_VALUE"""),"I") -> I | G53: =IFERROR(__xludf.DUMMYFUNCTION("""COMPUTED_VALUE"""),7) -> 7 | H53: =IFERROR(__xludf.DUMMYFUNCTION("""COMPUTED_VALUE"""),"AF") -> AF | I53: =IFERROR(__xludf.DUMMYFUNCTION("""COMPUTED_VALUE"""),6) -> 6 | J53: =IFERROR(__xludf.DUMMYFUNCTION("""COMPUTED_VALUE"""),0) -> 0 | Q53: =IFERROR(__xludf.DUMMYFUNCTION("""COMPUTED_VALUE"""),"Aliyah Benmbarek") -> Aliyah Benmbarek | R53: =IFERROR(__xludf.DUMMYFUNCTION("""COMPUTED_VALUE"""),"Austin Moss") -> Austin Moss | S53: =IFERROR(__xludf.DUMMYFUNCTION("""COMPUTED_VALUE"""),"Alexa Rusk") -> Alexa Rusk | T53: =IFERROR(__xludf.DUMMYFUNCTION("""COMPUTED_VALUE"""),"Aniket Agarwal") -> Aniket Agarwal
A54: =IFERROR(__xludf.DUMMYFUNCTION("""COMPUTED_VALUE"""),"AF") -> AF | B54: =IFERROR(__xludf.DUMMYFUNCTION("""COMPUTED_VALUE"""),"Alexander Stewart") -> Alexander Stewart | C54: =IFERROR(__xludf.DUMMYFUNCTION("""COMPUTED_VALUE"""),12) -> 12 | D54: =IFERROR(__xludf.DUMMYFUNCTION("""COMPUTED_VALUE"""),"B") -> B | E54: =IFERROR(__xludf.DUMMYFUNCTION("""COMPUTED_VALUE"""),"J") -> J | F54: =IFERROR(__xludf.DUMMYFUNCTION("""COMPUTED_VALUE"""),"I") -> I | G54: =IFERROR(__xludf.DUMMYFUNCTION("""COMPUTED_VALUE"""),7) -> 7 | H54: =IFERROR(__xludf.DUMMYFUNCTION("""COMPUTED_VALUE"""),"AF") -> AF | I54: =IFERROR(__xludf.DUMMYFUNCTION("""COMPUTED_VALUE"""),7) -> 7 | J54: =IFERROR(__xludf.DUMMYFUNCTION("""COMPUTED_VALUE"""),3) -> 3 | K54: =IFERROR(__xludf.DUMMYFUNCTION("""COMPUTED_VALUE"""),93) -> 93 | Q54: =IFERROR(__xludf.DUMMYFUNCTION("""COMPUTED_VALUE"""),"Aliyah Pleisch") -> Aliyah Pleisch | R54: =IFERROR(__xludf.DUMMYFUNCTION("""COMPUTED_VALUE"""),"Babi Aldonas") -> Babi Aldonas | S54: =IFERROR(__xludf.DUMMYFUNCTION("""COMPUTED_VALUE"""),"Alexandra Bagully") -> Alexandra Bagully | T54: =IFERROR(__xludf.DUMMYFUNCTION("""COMPUTED_VALUE"""),"Anthony Maull") -> Anthony Maull
A55: =IFERROR(__xludf.DUMMYFUNCTION("""COMPUTED_VALUE"""),"AF") -> AF | B55: =IFERROR(__xludf.DUMMYFUNCTION("""COMPUTED_VALUE"""),"Jack Snow") -> Jack Snow | C55: =IFERROR(__xludf.DUMMYFUNCTION("""COMPUTED_VALUE"""),11) -> 11 | D55: =IFERROR(__xludf.DUMMYFUNCTION("""COMPUTED_VALUE"""),"B") -> B | E55: =IFERROR(__xludf.DUMMYFUNCTION("""COMPUTED_VALUE"""),"J") -> J | F55: =IFERROR(__xludf.DUMMYFUNCTION("""COMPUTED_VALUE"""),"I") -> I | G55: =IFERROR(__xludf.DUMMYFUNCTION("""COMPUTED_VALUE"""),7) -> 7 | H55: =IFERROR(__xludf.DUMMYFUNCTION("""COMPUTED_VALUE"""),"AF") -> AF | I55: =IFERROR(__xludf.DUMMYFUNCTION("""COMPUTED_VALUE"""),7) -> 7 | J55: =IFERROR(__xludf.DUMMYFUNCTION("""COMPUTED_VALUE"""),3) -> 3 | K55: =IFERROR(__xludf.DUMMYFUNCTION("""COMPUTED_VALUE"""),62.95) -> 62.95 | M55: =IFERROR(__xludf.DUMMYFUNCTION("""COMPUTED_VALUE"""),61.45) -> 61.45 | Q55: =IFERROR(__xludf.DUMMYFUNCTION("""COMPUTED_VALUE"""),"Aliza Cohen") -> Aliza Cohen | R55: =IFERROR(__xludf.DUMMYFUNCTION("""COMPUTED_VALUE"""),"Baiden Vu") -> Baiden Vu | S55: =IFERROR(__xludf.DUMMYFUNCTION("""COMPUTED_VALUE"""),"Alexandra Grant") -> Alexandra Grant | T55: =IFERROR(__xludf.DUMMYFUNCTION("""COMPUTED_VALUE"""),"Archer Kouhestani") -> Archer Kouhestani
A56: =IFERROR(__xludf.DUMMYFUNCTION("""COMPUTED_VALUE"""),"AF") -> AF | B56: =IFERROR(__xludf.DUMMYFUNCTION("""COMPUTED_VALUE"""),"Konrad Epley") -> Konrad Epley | C56: =IFERROR(__xludf.DUMMYFUNCTION("""COMPUTED_VALUE"""),11) -> 11 | D56: =IFERROR(__xludf.DUMMYFUNCTION("""COMPUTED_VALUE"""),"B") -> B | E56: =IFERROR(__xludf.DUMMYFUNCTION("""COMPUTED_VALUE"""),"J") -> J | F56: =IFERROR(__xludf.DUMMYFUNCTION("""COMPUTED_VALUE"""),"I") -> I | G56: =IFERROR(__xludf.DUMMYFUNCTION("""COMPUTED_VALUE"""),7) -> 7 | H56: =IFERROR(__xludf.DUMMYFUNCTION("""COMPUTED_VALUE"""),"AF") -> AF | I56: =IFERROR(__xludf.DUMMYFUNCTION("""COMPUTED_VALUE"""),7) -> 7 | J56: =IFERROR(__xludf.DUMMYFUNCTION("""COMPUTED_VALUE"""),2) -> 2 | K56: =IFERROR(__xludf.DUMMYFUNCTION("""COMPUTED_VALUE"""),61.7) -> 61.7 | Q56: =IFERROR(__xludf.DUMMYFUNCTION("""COMPUTED_VALUE"""),"Allie Benone") -> Allie Benone | R56: =IFERROR(__xludf.DUMMYFUNCTION("""COMPUTED_VALUE"""),"Baxter Shimooka") -> Baxter Shimooka | S56: =IFERROR(__xludf.DUMMYFUNCTION("""COMPUTED_VALUE"""),"Alexandra Kennedy") -> Alexandra Kennedy | T56: =IFERROR(__xludf.DUMMYFUNCTION("""COMPUTED_VALUE"""),"Archie Wiedemann") -> Archie Wiedemann
A57: =IFERROR(__xludf.DUMMYFUNCTION("""COMPUTED_VALUE"""),"AF") -> AF | B57: =IFERROR(__xludf.DUMMYFUNCTION("""COMPUTED_VALUE"""),"Nathaniel Cassatt") -> Nathaniel Cassatt | C57: =IFERROR(__xludf.DUMMYFUNCTION("""COMPUTED_VALUE"""),12) -> 12 | D57: =IFERROR(__xludf.DUMMYFUNCTION("""COMPUTED_VALUE"""),"B") -> B | E57: =IFERROR(__xludf.DUMMYFUNCTION("""COMPUTED_VALUE"""),"J") -> J | F57: =IFERROR(__xludf.DUMMYFUNCTION("""COMPUTED_VALUE"""),"I") -> I | G57: =IFERROR(__xludf.DUMMYFUNCTION("""COMPUTED_VALUE"""),7) -> 7 | H57: =IFERROR(__xludf.DUMMYFUNCTION("""COMPUTED_VALUE"""),"AF") -> AF | I57: =IFERROR(__xludf.DUMMYFUNCTION("""COMPUTED_VALUE"""),7) -> 7 | J57: =IFERROR(__xludf.DUMMYFUNCTION("""COMPUTED_VALUE"""),2) -> 2 | K57: =IFERROR(__xludf.DUMMYFUNCTION("""COMPUTED_VALUE"""),-63.8) -> -63.8 | Q57: =IFERROR(__xludf.DUMMYFUNCTION("""COMPUTED_VALUE"""),"Allie Pearson") -> Allie Pearson | R57: =IFERROR(__xludf.DUMMYFUNCTION("""COMPUTED_VALUE"""),"Bear Jackson") -> Bear Jackson | S57: =IFERROR(__xludf.DUMMYFUNCTION("""COMPUTED_VALUE"""),"Alexandra Lee") -> Alexandra Lee | T57: =IFERROR(__xludf.DUMMYFUNCTION("""COMPUTED_VALUE"""),"Ari Yarmolovich") -> Ari Yarmolovich
A58: =IFERROR(__xludf.DUMMYFUNCTION("""COMPUTED_VALUE"""),"AF") -> AF | B58: =IFERROR(__xludf.DUMMYFUNCTION("""COMPUTED_VALUE"""),"Nicholas Beier") -> Nicholas Beier | C58: =IFERROR(__xludf.DUMMYFUNCTION("""COMPUTED_VALUE"""),12) -> 12 | D58: =IFERROR(__xludf.DUMMYFUNCTION("""COMPUTED_VALUE"""),"B") -> B | E58: =IFERROR(__xludf.DUMMYFUNCTION("""COMPUTED_VALUE"""),"J") -> J | F58: =IFERROR(__xludf.DUMMYFUNCTION("""COMPUTED_VALUE"""),"I") -> I | G58: =IFERROR(__xludf.DUMMYFUNCTION("""COMPUTED_VALUE"""),7) -> 7 | H58: =IFERROR(__xludf.DUMMYFUNCTION("""COMPUTED_VALUE"""),"AF") -> AF | I58: =IFERROR(__xludf.DUMMYFUNCTION("""COMPUTED_VALUE"""),7) -> 7 | J58: =IFERROR(__xludf.DUMMYFUNCTION("""COMPUTED_VALUE"""),5) -> 5 | K58: =IFERROR(__xludf.DUMMYFUNCTION("""COMPUTED_VALUE"""),76.15) -> 76.15 | M58: =IFERROR(__xludf.DUMMYFUNCTION("""COMPUTED_VALUE"""),76.15) -> 76.15 | O58: =IFERROR(__xludf.DUMMYFUNCTION("""COMPUTED_VALUE"""),74) -> 74 | Q58: =IFERROR(__xludf.DUMMYFUNCTION("""COMPUTED_VALUE"""),"Ally Argenta") -> Ally Argenta | R58: =IFERROR(__xludf.DUMMYFUNCTION("""COMPUTED_VALUE"""),"Beau Rosser") -> Beau Rosser | S58: =IFERROR(__xludf.DUMMYFUNCTION("""COMPUTED_VALUE"""),"Alexandra Steber") -> Alexandra Steber | T58: =IFERROR(__xludf.DUMMYFUNCTION("""COMPUTED_VALUE"""),"Arlo Creen") -> Arlo Creen
A59: =IFERROR(__xludf.DUMMYFUNCTION("""COMPUTED_VALUE"""),"AF") -> AF | B59: =IFERROR(__xludf.DUMMYFUNCTION("""COMPUTED_VALUE"""),"Nicholas Petruccelli") -> Nicholas Petruccelli | C59: =IFERROR(__xludf.DUMMYFUNCTION("""COMPUTED_VALUE"""),11) -> 11 | D59: =IFERROR(__xludf.DUMMYFUNCTION("""COMPUTED_VALUE"""),"B") -> B | E59: =IFERROR(__xludf.DUMMYFUNCTION("""COMPUTED_VALUE"""),"J") -> J | F59: =IFERROR(__xludf.DUMMYFUNCTION("""COMPUTED_VALUE"""),"I") -> I | G59: =IFERROR(__xludf.DUMMYFUNCTION("""COMPUTED_VALUE"""),7) -> 7 | H59: =IFERROR(__xludf.DUMMYFUNCTION("""COMPUTED_VALUE"""),"AF") -> AF | I59: =IFERROR(__xludf.DUMMYFUNCTION("""COMPUTED_VALUE"""),7) -> 7 | J59: =IFERROR(__xludf.DUMMYFUNCTION("""COMPUTED_VALUE"""),5) -> 5 | K59: =IFERROR(__xludf.DUMMYFUNCTION("""COMPUTED_VALUE"""),78.9) -> 78.9 | M59: =IFERROR(__xludf.DUMMYFUNCTION("""COMPUTED_VALUE"""),78.9) -> 78.9 | O59: =IFERROR(__xludf.DUMMYFUNCTION("""COMPUTED_VALUE"""),61) -> 61 | Q59: =IFERROR(__xludf.DUMMYFUNCTION("""COMPUTED_VALUE"""),"Ally Han") -> Ally Han | R59: =IFERROR(__xludf.DUMMYFUNCTION("""COMPUTED_VALUE"""),"Beck Nazarshoyev") -> Beck Nazarshoyev | S59: =IFERROR(__xludf.DUMMYFUNCTION("""COMPUTED_VALUE"""),"Alexandra Torrez") -> Alexandra Torrez | T59: =IFERROR(__xludf.DUMMYFUNCTION("""COMPUTED_VALUE"""),"Arlo Kapadia") -> Arlo Kapadia
A60: =IFERROR(__xludf.DUMMYFUNCTION("""COMPUTED_VALUE"""),"AF") -> AF | B60: =IFERROR(__xludf.DUMMYFUNCTION("""COMPUTED_VALUE"""),"Ryan Foshay") -> Ryan Foshay | C60: =IFERROR(__xludf.DUMMYFUNCTION("""COMPUTED_VALUE"""),11) -> 11 | D60: =IFERROR(__xludf.DUMMYFUNCTION("""COMPUTED_VALUE"""),"B") -> B | E60: =IFERROR(__xludf.DUMMYFUNCTION("""COMPUTED_VALUE"""),"J") -> J | F60: =IFERROR(__xludf.DUMMYFUNCTION("""COMPUTED_VALUE"""),"I") -> I | G60: =IFERROR(__xludf.DUMMYFUNCTION("""COMPUTED_VALUE"""),7) -> 7 | H60: =IFERROR(__xludf.DUMMYFUNCTION("""COMPUTED_VALUE"""),"AF") -> AF | I60: =IFERROR(__xludf.DUMMYFUNCTION("""COMPUTED_VALUE"""),7) -> 7 | J60: =IFERROR(__xludf.DUMMYFUNCTION("""COMPUTED_VALUE"""),4) -> 4 | K60: =IFERROR(__xludf.DUMMYFUNCTION("""COMPUTED_VALUE"""),48.15) -> 48.15 | M60: =IFERROR(__xludf.DUMMYFUNCTION("""COMPUTED_VALUE"""),46.9) -> 46.9 | Q60: =IFERROR(__xludf.DUMMYFUNCTION("""COMPUTED_VALUE"""),"Alma Cappitelli") -> Alma Cappitelli | R60: =IFERROR(__xludf.DUMMYFUNCTION("""COMPUTED_VALUE"""),"Ben Baker") -> Ben Baker | S60: =IFERROR(__xludf.DUMMYFUNCTION("""COMPUTED_VALUE"""),"Ali Gurganus") -> Ali Gurganus | T60: =IFERROR(__xludf.DUMMYFUNCTION("""COMPUTED_VALUE"""),"Arthur Fleischer") -> Arthur Fleischer
A61: =IFERROR(__xludf.DUMMYFUNCTION("""COMPUTED_VALUE"""),"AF") -> AF | B61: =IFERROR(__xludf.DUMMYFUNCTION("""COMPUTED_VALUE"""),"Tanner Green") -> Tanner Green | C61: =IFERROR(__xludf.DUMMYFUNCTION("""COMPUTED_VALUE"""),12) -> 12 | D61: =IFERROR(__xludf.DUMMYFUNCTION("""COMPUTED_VALUE"""),"B") -> B | E61: =IFERROR(__xludf.DUMMYFUNCTION("""COMPUTED_VALUE"""),"J") -> J | F61: =IFERROR(__xludf.DUMMYFUNCTION("""COMPUTED_VALUE"""),"I") -> I | G61: =IFERROR(__xludf.DUMMYFUNCTION("""COMPUTED_VALUE"""),7) -> 7 | H61: =IFERROR(__xludf.DUMMYFUNCTION("""COMPUTED_VALUE"""),"AF") -> AF | I61: =IFERROR(__xludf.DUMMYFUNCTION("""COMPUTED_VALUE"""),7) -> 7 | J61: =IFERROR(__xludf.DUMMYFUNCTION("""COMPUTED_VALUE"""),4) -> 4 | K61: =IFERROR(__xludf.DUMMYFUNCTION("""COMPUTED_VALUE"""),97.95) -> 97.95 | M61: =IFERROR(__xludf.DUMMYFUNCTION("""COMPUTED_VALUE"""),97.95) -> 97.95 | O61: =IFERROR(__xludf.DUMMYFUNCTION("""COMPUTED_VALUE"""),92.1) -> 92.1 | Q61: =IFERROR(__xludf.DUMMYFUNCTION("""COMPUTED_VALUE"""),"Amelia Gentry") -> Amelia Gentry | R61: =IFERROR(__xludf.DUMMYFUNCTION("""COMPUTED_VALUE"""),"Ben Blaeuer") -> Ben Blaeuer | S61: =IFERROR(__xludf.DUMMYFUNCTION("""COMPUTED_VALUE"""),"Alice Beaudoin") -> Alice Beaudoin | T61: =IFERROR(__xludf.DUMMYFUNCTION("""COMPUTED_VALUE"""),"Arthur Jozefczyk") -> Arthur Jozefczyk
A62: =IFERROR(__xludf.DUMMYFUNCTION("""COMPUTED_VALUE"""),"AF") -> AF | B62: =IFERROR(__xludf.DUMMYFUNCTION("""COMPUTED_VALUE"""),"William Kunkle") -> William Kunkle | C62: =IFERROR(__xludf.DUMMYFUNCTION("""COMPUTED_VALUE"""),11) -> 11 | D62: =IFERROR(__xludf.DUMMYFUNCTION("""COMPUTED_VALUE"""),"B") -> B | E62: =IFERROR(__xludf.DUMMYFUNCTION("""COMPUTED_VALUE"""),"J") -> J | F62: =IFERROR(__xludf.DUMMYFUNCTION("""COMPUTED_VALUE"""),"I") -> I | G62: =IFERROR(__xludf.DUMMYFUNCTION("""COMPUTED_VALUE"""),7) -> 7 | H62: =IFERROR(__xludf.DUMMYFUNCTION("""COMPUTED_VALUE"""),"AF") -> AF | I62: =IFERROR(__xludf.DUMMYFUNCTION("""COMPUTED_VALUE"""),7) -> 7 | J62: =IFERROR(__xludf.DUMMYFUNCTION("""COMPUTED_VALUE"""),3) -> 3 | K62: =IFERROR(__xludf.DUMMYFUNCTION("""COMPUTED_VALUE"""),33.2) -> 33.2 | O62: =IFERROR(__xludf.DUMMYFUNCTION("""COMPUTED_VALUE"""),-66.1) -> -66.1 | Q62: =IFERROR(__xludf.DUMMYFUNCTION("""COMPUTED_VALUE"""),"Amelia Koch") -> Amelia Koch | R62: =IFERROR(__xludf.DUMMYFUNCTION("""COMPUTED_VALUE"""),"Ben Gulotta") -> Ben Gulotta | S62: =IFERROR(__xludf.DUMMYFUNCTION("""COMPUTED_VALUE"""),"Alice Henderson") -> Alice Henderson | T62: =IFERROR(__xludf.DUMMYFUNCTION("""COMPUTED_VALUE"""),"Asa Keller") -> Asa Keller
A63: =IFERROR(__xludf.DUMMYFUNCTION("""COMPUTED_VALUE"""),"AF") -> AF | B63: =IFERROR(__xludf.DUMMYFUNCTION("""COMPUTED_VALUE"""),"Claire Polsinelli") -> Claire Polsinelli | C63: =IFERROR(__xludf.DUMMYFUNCTION("""COMPUTED_VALUE"""),13) -> 13 | D63: =IFERROR(__xludf.DUMMYFUNCTION("""COMPUTED_VALUE"""),"G") -> G | E63: =IFERROR(__xludf.DUMMYFUNCTION("""COMPUTED_VALUE"""),"I") -> I | F63: =IFERROR(__xludf.DUMMYFUNCTION("""COMPUTED_VALUE"""),"S") -> S | G63: =IFERROR(__xludf.DUMMYFUNCTION("""COMPUTED_VALUE"""),7) -> 7 | H63: =IFERROR(__xludf.DUMMYFUNCTION("""COMPUTED_VALUE"""),"AF") -> AF | I63: =IFERROR(__xludf.DUMMYFUNCTION("""COMPUTED_VALUE"""),8) -> 8 | J63: =IFERROR(__xludf.DUMMYFUNCTION("""COMPUTED_VALUE"""),5) -> 5 | K63: =IFERROR(__xludf.DUMMYFUNCTION("""COMPUTED_VALUE"""),107.25) -> 107.25 | M63: =IFERROR(__xludf.DUMMYFUNCTION("""COMPUTED_VALUE"""),103.35) -> 103.35 | O63: =IFERROR(__xludf.DUMMYFUNCTION("""COMPUTED_VALUE"""),100.5) -> 100.5 | Q63: =IFERROR(__xludf.DUMMYFUNCTION("""COMPUTED_VALUE"""),"Amelia Rigoli") -> Amelia Rigoli | R63: =IFERROR(__xludf.DUMMYFUNCTION("""COMPUTED_VALUE"""),"Ben Jacobs") -> Ben Jacobs | S63: =IFERROR(__xludf.DUMMYFUNCTION("""COMPUTED_VALUE"""),"Alice Uhl") -> Alice Uhl | T63: =IFERROR(__xludf.DUMMYFUNCTION("""COMPUTED_VALUE"""),"Asher Arnic") -> Asher Arnic
A64: =IFERROR(__xludf.DUMMYFUNCTION("""COMPUTED_VALUE"""),"AF") -> AF | B64: =IFERROR(__xludf.DUMMYFUNCTION("""COMPUTED_VALUE"""),"Banks Buergler") -> Banks Buergler | C64: =IFERROR(__xludf.DUMMYFUNCTION("""COMPUTED_VALUE"""),13) -> 13 | D64: =IFERROR(__xludf.DUMMYFUNCTION("""COMPUTED_VALUE"""),"B") -> B | E64: =IFERROR(__xludf.DUMMYFUNCTION("""COMPUTED_VALUE"""),"I") -> I | F64: =IFERROR(__xludf.DUMMYFUNCTION("""COMPUTED_VALUE"""),"S") -> S | G64: =IFERROR(__xludf.DUMMYFUNCTION("""COMPUTED_VALUE"""),7) -> 7 | H64: =IFERROR(__xludf.DUMMYFUNCTION("""COMPUTED_VALUE"""),"AF") -> AF | I64: =IFERROR(__xludf.DUMMYFUNCTION("""COMPUTED_VALUE"""),9) -> 9 | J64: =IFERROR(__xludf.DUMMYFUNCTION("""COMPUTED_VALUE"""),4) -> 4 | K64: =IFERROR(__xludf.DUMMYFUNCTION("""COMPUTED_VALUE"""),130.25) -> 130.25 | M64: =IFERROR(__xludf.DUMMYFUNCTION("""COMPUTED_VALUE"""),130.25) -> 130.25 | Q64: =IFERROR(__xludf.DUMMYFUNCTION("""COMPUTED_VALUE"""),"Amelia Wisniewski") -> Amelia Wisniewski | R64: =IFERROR(__xludf.DUMMYFUNCTION("""COMPUTED_VALUE"""),"Ben Lyon") -> Ben Lyon | S64: =IFERROR(__xludf.DUMMYFUNCTION("""COMPUTED_VALUE"""),"Alicia Pereira Kim") -> Alicia Pereira Kim | T64: =IFERROR(__xludf.DUMMYFUNCTION("""COMPUTED_VALUE"""),"Asher Cameron") -> Asher Cameron
A65: =IFERROR(__xludf.DUMMYFUNCTION("""COMPUTED_VALUE"""),"AF") -> AF | B65: =IFERROR(__xludf.DUMMYFUNCTION("""COMPUTED_VALUE"""),"Elias Cater") -> Elias Cater | C65: =IFERROR(__xludf.DUMMYFUNCTION("""COMPUTED_VALUE"""),13) -> 13 | D65: =IFERROR(__xludf.DUMMYFUNCTION("""COMPUTED_VALUE"""),"B") -> B | E65: =IFERROR(__xludf.DUMMYFUNCTION("""COMPUTED_VALUE"""),"I") -> I | F65: =IFERROR(__xludf.DUMMYFUNCTION("""COMPUTED_VALUE"""),"S") -> S | G65: =IFERROR(__xludf.DUMMYFUNCTION("""COMPUTED_VALUE"""),7) -> 7 | H65: =IFERROR(__xludf.DUMMYFUNCTION("""COMPUTED_VALUE"""),"AF") -> AF | I65: =IFERROR(__xludf.DUMMYFUNCTION("""COMPUTED_VALUE"""),9) -> 9 | J65: =IFERROR(__xludf.DUMMYFUNCTION("""COMPUTED_VALUE"""),0) -> 0 | Q65: =IFERROR(__xludf.DUMMYFUNCTION("""COMPUTED_VALUE"""),"Ana Negrelli") -> Ana Negrelli | R65: =IFERROR(__xludf.DUMMYFUNCTION("""COMPUTED_VALUE"""),"Ben Margolis") -> Ben Margolis | S65: =IFERROR(__xludf.DUMMYFUNCTION("""COMPUTED_VALUE"""),"Aliyah Benmbarek") -> Aliyah Benmbarek | T65: =IFERROR(__xludf.DUMMYFUNCTION("""COMPUTED_VALUE"""),"Asher Lanthier") -> Asher Lanthier
A66: =IFERROR(__xludf.DUMMYFUNCTION("""COMPUTED_VALUE"""),"AF") -> AF | B66: =IFERROR(__xludf.DUMMYFUNCTION("""COMPUTED_VALUE"""),"Matthew Petruccelli") -> Matthew Petruccelli | C66: =IFERROR(__xludf.DUMMYFUNCTION("""COMPUTED_VALUE"""),13) -> 13 | D66: =IFERROR(__xludf.DUMMYFUNCTION("""COMPUTED_VALUE"""),"B") -> B | E66: =IFERROR(__xludf.DUMMYFUNCTION("""COMPUTED_VALUE"""),"I") -> I | F66: =IFERROR(__xludf.DUMMYFUNCTION("""COMPUTED_VALUE"""),"S") -> S | G66: =IFERROR(__xludf.DUMMYFUNCTION("""COMPUTED_VALUE"""),7) -> 7 | H66: =IFERROR(__xludf.DUMMYFUNCTION("""COMPUTED_VALUE"""),"AF") -> AF | I66: =IFERROR(__xludf.DUMMYFUNCTION("""COMPUTED_VALUE"""),9) -> 9 | J66: =IFERROR(__xludf.DUMMYFUNCTION("""COMPUTED_VALUE"""),5) -> 5 | K66: =IFERROR(__xludf.DUMMYFUNCTION("""COMPUTED_VALUE"""),127.35) -> 127.35 | M66: =IFERROR(__xludf.DUMMYFUNCTION("""COMPUTED_VALUE"""),127.35) -> 127.35 | O66: =IFERROR(__xludf.DUMMYFUNCTION("""COMPUTED_VALUE"""),110) -> 110 | Q66: =IFERROR(__xludf.DUMMYFUNCTION("""COMPUTED_VALUE"""),"Anabel Bezdieck") -> Anabel Bezdieck | R66: =IFERROR(__xludf.DUMMYFUNCTION("""COMPUTED_VALUE"""),"Ben Panko") -> Ben Panko | S66: =IFERROR(__xludf.DUMMYFUNCTION("""COMPUTED_VALUE"""),"Aliyah Pleisch") -> Aliyah Pleisch | T66: =IFERROR(__xludf.DUMMYFUNCTION("""COMPUTED_VALUE"""),"Ashton Akers") -> Ashton Akers
A67: =IFERROR(__xludf.DUMMYFUNCTION("""COMPUTED_VALUE"""),"AF") -> AF | B67: =IFERROR(__xludf.DUMMYFUNCTION("""COMPUTED_VALUE"""),"Quinn Coogen") -> Quinn Coogen | C67: =IFERROR(__xludf.DUMMYFUNCTION("""COMPUTED_VALUE"""),14) -> 14 | D67: =IFERROR(__xludf.DUMMYFUNCTION("""COMPUTED_VALUE"""),"B") -> B | E67: =IFERROR(__xludf.DUMMYFUNCTION("""COMPUTED_VALUE"""),"I") -> I | F67: =IFERROR(__xludf.DUMMYFUNCTION("""COMPUTED_VALUE"""),"S") -> S | G67: =IFERROR(__xludf.DUMMYFUNCTION("""COMPUTED_VALUE"""),7) -> 7 | H67: =IFERROR(__xludf.DUMMYFUNCTION("""COMPUTED_VALUE"""),"AF") -> AF | I67: =IFERROR(__xludf.DUMMYFUNCTION("""COMPUTED_VALUE"""),9) -> 9 | J67: =IFERROR(__xludf.DUMMYFUNCTION("""COMPUTED_VALUE"""),5) -> 5 | K67: =IFERROR(__xludf.DUMMYFUNCTION("""COMPUTED_VALUE"""),148.8) -> 148.8 | M67: =IFERROR(__xludf.DUMMYFUNCTION("""COMPUTED_VALUE"""),145.1) -> 145.1 | O67: =IFERROR(__xludf.DUMMYFUNCTION("""COMPUTED_VALUE"""),-156.55) -> -156.55 | Q67: =IFERROR(__xludf.DUMMYFUNCTION("""COMPUTED_VALUE"""),"Anabelle Chan") -> Anabelle Chan | R67: =IFERROR(__xludf.DUMMYFUNCTION("""COMPUTED_VALUE"""),"Ben Root") -> Ben Root | S67: =IFERROR(__xludf.DUMMYFUNCTION("""COMPUTED_VALUE"""),"Aliza Cohen") -> Aliza Cohen | T67: =IFERROR(__xludf.DUMMYFUNCTION("""COMPUTED_VALUE"""),"Atticus Lee") -> Atticus Lee
A68: =IFERROR(__xludf.DUMMYFUNCTION("""COMPUTED_VALUE"""),"AF") -> AF | B68: =IFERROR(__xludf.DUMMYFUNCTION("""COMPUTED_VALUE"""),"Ada Jordan") -> Ada Jordan | C68: =IFERROR(__xludf.DUMMYFUNCTION("""COMPUTED_VALUE"""),16) -> 16 | D68: =IFERROR(__xludf.DUMMYFUNCTION("""COMPUTED_VALUE"""),"G") -> G | E68: =IFERROR(__xludf.DUMMYFUNCTION("""COMPUTED_VALUE"""),"S") -> S | F68: =IFERROR(__xludf.DUMMYFUNCTION("""COMPUTED_VALUE"""),"S") -> S | G68: =IFERROR(__xludf.DUMMYFUNCTION("""COMPUTED_VALUE"""),7) -> 7 | H68: =IFERROR(__xludf.DUMMYFUNCTION("""COMPUTED_VALUE"""),"AF") -> AF | I68: =IFERROR(__xludf.DUMMYFUNCTION("""COMPUTED_VALUE"""),10) -> 10 | J68: =IFERROR(__xludf.DUMMYFUNCTION("""COMPUTED_VALUE"""),5) -> 5 | K68: =IFERROR(__xludf.DUMMYFUNCTION("""COMPUTED_VALUE"""),128.7) -> 128.7 | M68: =IFERROR(__xludf.DUMMYFUNCTION("""COMPUTED_VALUE"""),121.75) -> 121.75 | O68: =IFERROR(__xludf.DUMMYFUNCTION("""COMPUTED_VALUE"""),128.7) -> 128.7 | Q68: =IFERROR(__xludf.DUMMYFUNCTION("""COMPUTED_VALUE"""),"Anastasia Wendle") -> Anastasia Wendle | R68: =IFERROR(__xludf.DUMMYFUNCTION("""COMPUTED_VALUE"""),"Ben Thoman") -> Ben Thoman | S68: =IFERROR(__xludf.DUMMYFUNCTION("""COMPUTED_VALUE"""),"Allie Benone") -> Allie Benone | T68: =IFERROR(__xludf.DUMMYFUNCTION("""COMPUTED_VALUE"""),"Augie Rusnak") -> Augie Rusnak
A69: =IFERROR(__xludf.DUMMYFUNCTION("""COMPUTED_VALUE"""),"AF") -> AF | B69: =IFERROR(__xludf.DUMMYFUNCTION("""COMPUTED_VALUE"""),"Julia Green") -> Julia Green | C69: =IFERROR(__xludf.DUMMYFUNCTION("""COMPUTED_VALUE"""),15) -> 15 | D69: =IFERROR(__xludf.DUMMYFUNCTION("""COMPUTED_VALUE"""),"G") -> G | E69: =IFERROR(__xludf.DUMMYFUNCTION("""COMPUTED_VALUE"""),"S") -> S | F69: =IFERROR(__xludf.DUMMYFUNCTION("""COMPUTED_VALUE"""),"S") -> S | G69: =IFERROR(__xludf.DUMMYFUNCTION("""COMPUTED_VALUE"""),7) -> 7 | H69: =IFERROR(__xludf.DUMMYFUNCTION("""COMPUTED_VALUE"""),"AF") -> AF | I69: =IFERROR(__xludf.DUMMYFUNCTION("""COMPUTED_VALUE"""),10) -> 10 | J69: =IFERROR(__xludf.DUMMYFUNCTION("""COMPUTED_VALUE"""),5) -> 5 | K69: =IFERROR(__xludf.DUMMYFUNCTION("""COMPUTED_VALUE"""),157.5) -> 157.5 | M69: =IFERROR(__xludf.DUMMYFUNCTION("""COMPUTED_VALUE"""),157.5) -> 157.5 | O69: =IFERROR(__xludf.DUMMYFUNCTION("""COMPUTED_VALUE"""),143.35) -> 143.35 | Q69: =IFERROR(__xludf.DUMMYFUNCTION("""COMPUTED_VALUE"""),"Anaya Bose") -> Anaya Bose | R69: =IFERROR(__xludf.DUMMYFUNCTION("""COMPUTED_VALUE"""),"Benjamin Weitz") -> Benjamin Weitz | S69: =IFERROR(__xludf.DUMMYFUNCTION("""COMPUTED_VALUE"""),"Allie Duffield") -> Allie Duffield | T69: =IFERROR(__xludf.DUMMYFUNCTION("""COMPUTED_VALUE"""),"Augusto Sondoval") -> Augusto Sondoval
A70: =IFERROR(__xludf.DUMMYFUNCTION("""COMPUTED_VALUE"""),"AF") -> AF | B70: =IFERROR(__xludf.DUMMYFUNCTION("""COMPUTED_VALUE"""),"Connor Hogan") -> Connor Hogan | C70: =IFERROR(__xludf.DUMMYFUNCTION("""COMPUTED_VALUE"""),15) -> 15 | D70: =IFERROR(__xludf.DUMMYFUNCTION("""COMPUTED_VALUE"""),"B") -> B | E70: =IFERROR(__xludf.DUMMYFUNCTION("""COMPUTED_VALUE"""),"S") -> S | F70: =IFERROR(__xludf.DUMMYFUNCTION("""COMPUTED_VALUE"""),"S") -> S | G70: =IFERROR(__xludf.DUMMYFUNCTION("""COMPUTED_VALUE"""),7) -> 7 | H70: =IFERROR(__xludf.DUMMYFUNCTION("""COMPUTED_VALUE"""),"AF") -> AF | I70: =IFERROR(__xludf.DUMMYFUNCTION("""COMPUTED_VALUE"""),11) -> 11 | J70: =IFERROR(__xludf.DUMMYFUNCTION("""COMPUTED_VALUE"""),4) -> 4 | K70: =IFERROR(__xludf.DUMMYFUNCTION("""COMPUTED_VALUE"""),146.85) -> 146.85 | M70: =IFERROR(__xludf.DUMMYFUNCTION("""COMPUTED_VALUE"""),131.7) -> 131.7 | O70: =IFERROR(__xludf.DUMMYFUNCTION("""COMPUTED_VALUE"""),132.45) -> 132.45 | Q70: =IFERROR(__xludf.DUMMYFUNCTION("""COMPUTED_VALUE"""),"Angelina Katsas") -> Angelina Katsas | R70: =IFERROR(__xludf.DUMMYFUNCTION("""COMPUTED_VALUE"""),"Benjamin Werlinger") -> Benjamin Werlinger | S70: =IFERROR(__xludf.DUMMYFUNCTION("""COMPUTED_VALUE"""),"Allie Farello") -> Allie Farello | T70: =IFERROR(__xludf.DUMMYFUNCTION("""COMPUTED_VALUE"""),"Austin Brooks") -> Austin Brooks
A71: =IFERROR(__xludf.DUMMYFUNCTION("""COMPUTED_VALUE"""),"AF") -> AF | B71: =IFERROR(__xludf.DUMMYFUNCTION("""COMPUTED_VALUE"""),"David Alves") -> David Alves | C71: =IFERROR(__xludf.DUMMYFUNCTION("""COMPUTED_VALUE"""),18) -> 18 | D71: =IFERROR(__xludf.DUMMYFUNCTION("""COMPUTED_VALUE"""),"B") -> B | E71: =IFERROR(__xludf.DUMMYFUNCTION("""COMPUTED_VALUE"""),"S") -> S | F71: =IFERROR(__xludf.DUMMYFUNCTION("""COMPUTED_VALUE"""),"S") -> S | G71: =IFERROR(__xludf.DUMMYFUNCTION("""COMPUTED_VALUE"""),7) -> 7 | H71: =IFERROR(__xludf.DUMMYFUNCTION("""COMPUTED_VALUE"""),"AF") -> AF | I71: =IFERROR(__xludf.DUMMYFUNCTION("""COMPUTED_VALUE"""),11) -> 11 | J71: =IFERROR(__xludf.DUMMYFUNCTION("""COMPUTED_VALUE"""),1) -> 1 | K71: =IFERROR(__xludf.DUMMYFUNCTION("""COMPUTED_VALUE"""),111.6) -> 111.6 | M71: =IFERROR(__xludf.DUMMYFUNCTION("""COMPUTED_VALUE"""),111.6) -> 111.6 | Q71: =IFERROR(__xludf.DUMMYFUNCTION("""COMPUTED_VALUE"""),"Anh Trac") -> Anh Trac | R71: =IFERROR(__xludf.DUMMYFUNCTION("""COMPUTED_VALUE"""),"Bennett Birkelbach") -> Bennett Birkelbach | S71: =IFERROR(__xludf.DUMMYFUNCTION("""COMPUTED_VALUE"""),"Allie Pearson") -> Allie Pearson | T71: =IFERROR(__xludf.DUMMYFUNCTION("""COMPUTED_VALUE"""),"Austin Moss") -> Austin Moss
A72: =IFERROR(__xludf.DUMMYFUNCTION("""COMPUTED_VALUE"""),"AF") -> AF | B72: =IFERROR(__xludf.DUMMYFUNCTION("""COMPUTED_VALUE"""),"Max Cassatt") -> Max Cassatt | C72: =IFERROR(__xludf.DUMMYFUNCTION("""COMPUTED_VALUE"""),18) -> 18 | D72: =IFERROR(__xludf.DUMMYFUNCTION("""COMPUTED_VALUE"""),"B") -> B | E72: =IFERROR(__xludf.DUMMYFUNCTION("""COMPUTED_VALUE"""),"S") -> S | F72: =IFERROR(__xludf.DUMMYFUNCTION("""COMPUTED_VALUE"""),"S") -> S | G72: =IFERROR(__xludf.DUMMYFUNCTION("""COMPUTED_VALUE"""),7) -> 7 | H72: =IFERROR(__xludf.DUMMYFUNCTION("""COMPUTED_VALUE"""),"AF") -> AF | I72: =IFERROR(__xludf.DUMMYFUNCTION("""COMPUTED_VALUE"""),11) -> 11 | J72: =IFERROR(__xludf.DUMMYFUNCTION("""COMPUTED_VALUE"""),3) -> 3 | K72: =IFERROR(__xludf.DUMMYFUNCTION("""COMPUTED_VALUE"""),155.3) -> 155.3 | Q72: =IFERROR(__xludf.DUMMYFUNCTION("""COMPUTED_VALUE"""),"Anika Chaturvedi") -> Anika Chaturvedi | R72: =IFERROR(__xludf.DUMMYFUNCTION("""COMPUTED_VALUE"""),"Bennett Gilbert") -> Bennett Gilbert | S72: =IFERROR(__xludf.DUMMYFUNCTION("""COMPUTED_VALUE"""),"Allie Reback") -> Allie Reback | T72: =IFERROR(__xludf.DUMMYFUNCTION("""COMPUTED_VALUE"""),"Babi Aldonas") -> Babi Aldonas
A73: =IFERROR(__xludf.DUMMYFUNCTION("""COMPUTED_VALUE"""),"CB") -> CB | B73: =IFERROR(__xludf.DUMMYFUNCTION("""COMPUTED_VALUE"""),"Audrey Magolies") -> Audrey Magolies | C73: =IFERROR(__xludf.DUMMYFUNCTION("""COMPUTED_VALUE"""),8) -> 8 | D73: =IFERROR(__xludf.DUMMYFUNCTION("""COMPUTED_VALUE"""),"G") -> G | E73: =IFERROR(__xludf.DUMMYFUNCTION("""COMPUTED_VALUE"""),"F") -> F | F73: =IFERROR(__xludf.DUMMYFUNCTION("""COMPUTED_VALUE"""),"J") -> J | G73: =IFERROR(__xludf.DUMMYFUNCTION("""COMPUTED_VALUE"""),4) -> 4 | H73: =IFERROR(__xludf.DUMMYFUNCTION("""COMPUTED_VALUE"""),"CB") -> CB | I73: =IFERROR(__xludf.DUMMYFUNCTION("""COMPUTED_VALUE"""),4) -> 4 | J73: =IFERROR(__xludf.DUMMYFUNCTION("""COMPUTED_VALUE"""),0) -> 0 | Q73: =IFERROR(__xludf.DUMMYFUNCTION("""COMPUTED_VALUE"""),"Anika Sander") -> Anika Sander | R73: =IFERROR(__xludf.DUMMYFUNCTION("""COMPUTED_VALUE"""),"Benny DeLong") -> Benny DeLong | S73: =IFERROR(__xludf.DUMMYFUNCTION("""COMPUTED_VALUE"""),"Ally Argenta") -> Ally Argenta | T73: =IFERROR(__xludf.DUMMYFUNCTION("""COMPUTED_VALUE"""),"Baiden Vu") -> Baiden Vu
A74: =IFERROR(__xludf.DUMMYFUNCTION("""COMPUTED_VALUE"""),"CB") -> CB | B74: =IFERROR(__xludf.DUMMYFUNCTION("""COMPUTED_VALUE"""),"Bri Whitney") -> Bri Whitney | C74: =IFERROR(__xludf.DUMMYFUNCTION("""COMPUTED_VALUE"""),10) -> 10 | D74: =IFERROR(__xludf.DUMMYFUNCTION("""COMPUTED_VALUE"""),"G") -> G | E74: =IFERROR(__xludf.DUMMYFUNCTION("""COMPUTED_VALUE"""),"F") -> F | F74: =IFERROR(__xludf.DUMMYFUNCTION("""COMPUTED_VALUE"""),"J") -> J | G74: =IFERROR(__xludf.DUMMYFUNCTION("""COMPUTED_VALUE"""),4) -> 4 | H74: =IFERROR(__xludf.DUMMYFUNCTION("""COMPUTED_VALUE"""),"CB") -> CB | I74: =IFERROR(__xludf.DUMMYFUNCTION("""COMPUTED_VALUE"""),4) -> 4 | J74: =IFERROR(__xludf.DUMMYFUNCTION("""COMPUTED_VALUE"""),0) -> 0 | Q74: =IFERROR(__xludf.DUMMYFUNCTION("""COMPUTED_VALUE"""),"Anna Barry") -> Anna Barry | R74: =IFERROR(__xludf.DUMMYFUNCTION("""COMPUTED_VALUE"""),"Benton Bower") -> Benton Bower | S74: =IFERROR(__xludf.DUMMYFUNCTION("""COMPUTED_VALUE"""),"Ally Han") -> Ally Han | T74: =IFERROR(__xludf.DUMMYFUNCTION("""COMPUTED_VALUE"""),"Banks Buergler") -> Banks Buergler
A75: =IFERROR(__xludf.DUMMYFUNCTION("""COMPUTED_VALUE"""),"CB") -> CB | B75: =IFERROR(__xludf.DUMMYFUNCTION("""COMPUTED_VALUE"""),"Claire Scarlett") -> Claire Scarlett | C75: =IFERROR(__xludf.DUMMYFUNCTION("""COMPUTED_VALUE"""),6) -> 6 | D75: =IFERROR(__xludf.DUMMYFUNCTION("""COMPUTED_VALUE"""),"G") -> G | E75: =IFERROR(__xludf.DUMMYFUNCTION("""COMPUTED_VALUE"""),"F") -> F | F75: =IFERROR(__xludf.DUMMYFUNCTION("""COMPUTED_VALUE"""),"J") -> J | G75: =IFERROR(__xludf.DUMMYFUNCTION("""COMPUTED_VALUE"""),4) -> 4 | H75: =IFERROR(__xludf.DUMMYFUNCTION("""COMPUTED_VALUE"""),"CB") -> CB | I75: =IFERROR(__xludf.DUMMYFUNCTION("""COMPUTED_VALUE"""),4) -> 4 | J75: =IFERROR(__xludf.DUMMYFUNCTION("""COMPUTED_VALUE"""),2) -> 2 | K75: =IFERROR(__xludf.DUMMYFUNCTION("""COMPUTED_VALUE"""),36) -> 36 | M75: =IFERROR(__xludf.DUMMYFUNCTION("""COMPUTED_VALUE"""),20.85) -> 20.85 | Q75: =IFERROR(__xludf.DUMMYFUNCTION("""COMPUTED_VALUE"""),"Anna Dreyer") -> Anna Dreyer | R75: =IFERROR(__xludf.DUMMYFUNCTION("""COMPUTED_VALUE"""),"Blaise Bailey") -> Blaise Bailey | S75: =IFERROR(__xludf.DUMMYFUNCTION("""COMPUTED_VALUE"""),"Alma Cappitelli") -> Alma Cappitelli | T75: =IFERROR(__xludf.DUMMYFUNCTION("""COMPUTED_VALUE"""),"Batyr Turatbekov") -> Batyr Turatbekov
A76: =IFERROR(__xludf.DUMMYFUNCTION("""COMPUTED_VALUE"""),"CB") -> CB | B76: =IFERROR(__xludf.DUMMYFUNCTION("""COMPUTED_VALUE"""),"Grace Luk") -> Grace Luk | C76: =IFERROR(__xludf.DUMMYFUNCTION("""COMPUTED_VALUE"""),10) -> 10 | D76: =IFERROR(__xludf.DUMMYFUNCTION("""COMPUTED_VALUE"""),"G") -> G | E76: =IFERROR(__xludf.DUMMYFUNCTION("""COMPUTED_VALUE"""),"F") -> F | F76: =IFERROR(__xludf.DUMMYFUNCTION("""COMPUTED_VALUE"""),"J") -> J | G76: =IFERROR(__xludf.DUMMYFUNCTION("""COMPUTED_VALUE"""),4) -> 4 | H76: =IFERROR(__xludf.DUMMYFUNCTION("""COMPUTED_VALUE"""),"CB") -> CB | I76: =IFERROR(__xludf.DUMMYFUNCTION("""COMPUTED_VALUE"""),4) -> 4 | J76: =IFERROR(__xludf.DUMMYFUNCTION("""COMPUTED_VALUE"""),0) -> 0 | Q76: =IFERROR(__xludf.DUMMYFUNCTION("""COMPUTED_VALUE"""),"Anna Goodell") -> Anna Goodell | R76: =IFERROR(__xludf.DUMMYFUNCTION("""COMPUTED_VALUE"""),"Blaise Hawley") -> Blaise Hawley | S76: =IFERROR(__xludf.DUMMYFUNCTION("""COMPUTED_VALUE"""),"Alyssa Proulx") -> Alyssa Proulx | T76: =IFERROR(__xludf.DUMMYFUNCTION("""COMPUTED_VALUE"""),"Baxter Shimooka") -> Baxter Shimooka
A77: =IFERROR(__xludf.DUMMYFUNCTION("""COMPUTED_VALUE"""),"CB") -> CB | B77: =IFERROR(__xludf.DUMMYFUNCTION("""COMPUTED_VALUE"""),"Harper Easley") -> Harper Easley | C77: =IFERROR(__xludf.DUMMYFUNCTION("""COMPUTED_VALUE"""),10) -> 10 | D77: =IFERROR(__xludf.DUMMYFUNCTION("""COMPUTED_VALUE"""),"G") -> G | E77: =IFERROR(__xludf.DUMMYFUNCTION("""COMPUTED_VALUE"""),"F") -> F | F77: =IFERROR(__xludf.DUMMYFUNCTION("""COMPUTED_VALUE"""),"J") -> J | G77: =IFERROR(__xludf.DUMMYFUNCTION("""COMPUTED_VALUE"""),4) -> 4 | H77: =IFERROR(__xludf.DUMMYFUNCTION("""COMPUTED_VALUE"""),"CB") -> CB | I77: =IFERROR(__xludf.DUMMYFUNCTION("""COMPUTED_VALUE"""),4) -> 4 | J77: =IFERROR(__xludf.DUMMYFUNCTION("""COMPUTED_VALUE"""),1) -> 1 | K77: =IFERROR(__xludf.DUMMYFUNCTION("""COMPUTED_VALUE"""),51.2) -> 51.2 | M77: =IFERROR(__xludf.DUMMYFUNCTION("""COMPUTED_VALUE"""),51.2) -> 51.2 | Q77: =IFERROR(__xludf.DUMMYFUNCTION("""COMPUTED_VALUE"""),"Anna Hunt") -> Anna Hunt | R77: =IFERROR(__xludf.DUMMYFUNCTION("""COMPUTED_VALUE"""),"Bobby Ferssizidis") -> Bobby Ferssizidis | S77: =IFERROR(__xludf.DUMMYFUNCTION("""COMPUTED_VALUE"""),"Amelia Buczek") -> Amelia Buczek | T77: =IFERROR(__xludf.DUMMYFUNCTION("""COMPUTED_VALUE"""),"Bear Jackson") -> Bear Jackson
A78: =IFERROR(__xludf.DUMMYFUNCTION("""COMPUTED_VALUE"""),"CB") -> CB | B78: =IFERROR(__xludf.DUMMYFUNCTION("""COMPUTED_VALUE"""),"Katherine Lazarus") -> Katherine Lazarus | C78: =IFERROR(__xludf.DUMMYFUNCTION("""COMPUTED_VALUE"""),9) -> 9 | D78: =IFERROR(__xludf.DUMMYFUNCTION("""COMPUTED_VALUE"""),"G") -> G | E78: =IFERROR(__xludf.DUMMYFUNCTION("""COMPUTED_VALUE"""),"F") -> F | F78: =IFERROR(__xludf.DUMMYFUNCTION("""COMPUTED_VALUE"""),"J") -> J | G78: =IFERROR(__xludf.DUMMYFUNCTION("""COMPUTED_VALUE"""),4) -> 4 | H78: =IFERROR(__xludf.DUMMYFUNCTION("""COMPUTED_VALUE"""),"CB") -> CB | I78: =IFERROR(__xludf.DUMMYFUNCTION("""COMPUTED_VALUE"""),4) -> 4 | J78: =IFERROR(__xludf.DUMMYFUNCTION("""COMPUTED_VALUE"""),3) -> 3 | K78: =IFERROR(__xludf.DUMMYFUNCTION("""COMPUTED_VALUE"""),55.85) -> 55.85 | M78: =IFERROR(__xludf.DUMMYFUNCTION("""COMPUTED_VALUE"""),55.85) -> 55.85 | Q78: =IFERROR(__xludf.DUMMYFUNCTION("""COMPUTED_VALUE"""),"Anna Kosowski") -> Anna Kosowski | R78: =IFERROR(__xludf.DUMMYFUNCTION("""COMPUTED_VALUE"""),"Bode Lamkin") -> Bode Lamkin | S78: =IFERROR(__xludf.DUMMYFUNCTION("""COMPUTED_VALUE"""),"Amelia Gentry") -> Amelia Gentry | T78: =IFERROR(__xludf.DUMMYFUNCTION("""COMPUTED_VALUE"""),"Beau Lochmann") -> Beau Lochmann
A79: =IFERROR(__xludf.DUMMYFUNCTION("""COMPUTED_VALUE"""),"CB") -> CB | B79: =IFERROR(__xludf.DUMMYFUNCTION("""COMPUTED_VALUE"""),"Makenzie Case") -> Makenzie Case | C79: =IFERROR(__xludf.DUMMYFUNCTION("""COMPUTED_VALUE"""),8) -> 8 | D79: =IFERROR(__xludf.DUMMYFUNCTION("""COMPUTED_VALUE"""),"G") -> G | E79: =IFERROR(__xludf.DUMMYFUNCTION("""COMPUTED_VALUE"""),"F") -> F | F79: =IFERROR(__xludf.DUMMYFUNCTION("""COMPUTED_VALUE"""),"J") -> J | G79: =IFERROR(__xludf.DUMMYFUNCTION("""COMPUTED_VALUE"""),4) -> 4 | H79: =IFERROR(__xludf.DUMMYFUNCTION("""COMPUTED_VALUE"""),"CB") -> CB | I79: =IFERROR(__xludf.DUMMYFUNCTION("""COMPUTED_VALUE"""),4) -> 4 | J79: =IFERROR(__xludf.DUMMYFUNCTION("""COMPUTED_VALUE"""),5) -> 5 | K79: =IFERROR(__xludf.DUMMYFUNCTION("""COMPUTED_VALUE"""),50.95) -> 50.95 | M79: =IFERROR(__xludf.DUMMYFUNCTION("""COMPUTED_VALUE"""),50.95) -> 50.95 | O79: =IFERROR(__xludf.DUMMYFUNCTION("""COMPUTED_VALUE"""),49.45) -> 49.45 | Q79: =IFERROR(__xludf.DUMMYFUNCTION("""COMPUTED_VALUE"""),"Anna Shrieves") -> Anna Shrieves | R79: =IFERROR(__xludf.DUMMYFUNCTION("""COMPUTED_VALUE"""),"Bode Pierce") -> Bode Pierce | S79: =IFERROR(__xludf.DUMMYFUNCTION("""COMPUTED_VALUE"""),"Amelia Koch") -> Amelia Koch | T79: =IFERROR(__xludf.DUMMYFUNCTION("""COMPUTED_VALUE"""),"Beau Rosser") -> Beau Rosser
A80: =IFERROR(__xludf.DUMMYFUNCTION("""COMPUTED_VALUE"""),"CB") -> CB | B80: =IFERROR(__xludf.DUMMYFUNCTION("""COMPUTED_VALUE"""),"Melody MacGarvey") -> Melody MacGarvey | C80: =IFERROR(__xludf.DUMMYFUNCTION("""COMPUTED_VALUE"""),7) -> 7 | D80: =IFERROR(__xludf.DUMMYFUNCTION("""COMPUTED_VALUE"""),"G") -> G | E80: =IFERROR(__xludf.DUMMYFUNCTION("""COMPUTED_VALUE"""),"F") -> F | F80: =IFERROR(__xludf.DUMMYFUNCTION("""COMPUTED_VALUE"""),"J") -> J | G80: =IFERROR(__xludf.DUMMYFUNCTION("""COMPUTED_VALUE"""),4) -> 4 | H80: =IFERROR(__xludf.DUMMYFUNCTION("""COMPUTED_VALUE"""),"CB") -> CB | I80: =IFERROR(__xludf.DUMMYFUNCTION("""COMPUTED_VALUE"""),4) -> 4 | J80: =IFERROR(__xludf.DUMMYFUNCTION("""COMPUTED_VALUE"""),0) -> 0 | Q80: =IFERROR(__xludf.DUMMYFUNCTION("""COMPUTED_VALUE"""),"Anna Silver") -> Anna Silver | R80: =IFERROR(__xludf.DUMMYFUNCTION("""COMPUTED_VALUE"""),"Bodhi Bailey") -> Bodhi Bailey | S80: =IFERROR(__xludf.DUMMYFUNCTION("""COMPUTED_VALUE"""),"Amelia Rigoli") -> Amelia Rigoli | T80: =IFERROR(__xludf.DUMMYFUNCTION("""COMPUTED_VALUE"""),"Beck Nazarshoyev") -> Beck Nazarshoyev
A81: =IFERROR(__xludf.DUMMYFUNCTION("""COMPUTED_VALUE"""),"CB") -> CB | B81: =IFERROR(__xludf.DUMMYFUNCTION("""COMPUTED_VALUE"""),"Parker Georgas") -> Parker Georgas | C81: =IFERROR(__xludf.DUMMYFUNCTION("""COMPUTED_VALUE"""),7) -> 7 | D81: =IFERROR(__xludf.DUMMYFUNCTION("""COMPUTED_VALUE"""),"G") -> G | E81: =IFERROR(__xludf.DUMMYFUNCTION("""COMPUTED_VALUE"""),"F") -> F | F81: =IFERROR(__xludf.DUMMYFUNCTION("""COMPUTED_VALUE"""),"J") -> J | G81: =IFERROR(__xludf.DUMMYFUNCTION("""COMPUTED_VALUE"""),4) -> 4 | H81: =IFERROR(__xludf.DUMMYFUNCTION("""COMPUTED_VALUE"""),"CB") -> CB | I81: =IFERROR(__xludf.DUMMYFUNCTION("""COMPUTED_VALUE"""),4) -> 4 | J81: =IFERROR(__xludf.DUMMYFUNCTION("""COMPUTED_VALUE"""),0) -> 0 | Q81: =IFERROR(__xludf.DUMMYFUNCTION("""COMPUTED_VALUE"""),"Anna Walsh") -> Anna Walsh | R81: =IFERROR(__xludf.DUMMYFUNCTION("""COMPUTED_VALUE"""),"Booth Mitchell") -> Booth Mitchell | S81: =IFERROR(__xludf.DUMMYFUNCTION("""COMPUTED_VALUE"""),"Amelia Wisniewski") -> Amelia Wisniewski | T81: =IFERROR(__xludf.DUMMYFUNCTION("""COMPUTED_VALUE"""),"Ben Baker") -> Ben Baker
A82: =IFERROR(__xludf.DUMMYFUNCTION("""COMPUTED_VALUE"""),"CB") -> CB | B82: =IFERROR(__xludf.DUMMYFUNCTION("""COMPUTED_VALUE"""),"Ryan King") -> Ryan King | C82: =IFERROR(__xludf.DUMMYFUNCTION("""COMPUTED_VALUE"""),6) -> 6 | D82: =IFERROR(__xludf.DUMMYFUNCTION("""COMPUTED_VALUE"""),"G") -> G | E82: =IFERROR(__xludf.DUMMYFUNCTION("""COMPUTED_VALUE"""),"F") -> F | F82: =IFERROR(__xludf.DUMMYFUNCTION("""COMPUTED_VALUE"""),"J") -> J | G82: =IFERROR(__xludf.DUMMYFUNCTION("""COMPUTED_VALUE"""),4) -> 4 | H82: =IFERROR(__xludf.DUMMYFUNCTION("""COMPUTED_VALUE"""),"CB") -> CB | I82: =IFERROR(__xludf.DUMMYFUNCTION("""COMPUTED_VALUE"""),4) -> 4 | J82: =IFERROR(__xludf.DUMMYFUNCTION("""COMPUTED_VALUE"""),0) -> 0 | Q82: =IFERROR(__xludf.DUMMYFUNCTION("""COMPUTED_VALUE"""),"Anna Zrembski") -> Anna Zrembski | R82: =IFERROR(__xludf.DUMMYFUNCTION("""COMPUTED_VALUE"""),"Braden Healey") -> Braden Healey | S82: =IFERROR(__xludf.DUMMYFUNCTION("""COMPUTED_VALUE"""),"Amy Nam") -> Amy Nam | T82: =IFERROR(__xludf.DUMMYFUNCTION("""COMPUTED_VALUE"""),"Ben Blaeuer") -> Ben Blaeuer
A83: =IFERROR(__xludf.DUMMYFUNCTION("""COMPUTED_VALUE"""),"CB") -> CB | B83: =IFERROR(__xludf.DUMMYFUNCTION("""COMPUTED_VALUE"""),"Sofia Grantz") -> Sofia Grantz | C83: =IFERROR(__xludf.DUMMYFUNCTION("""COMPUTED_VALUE"""),8) -> 8 | D83: =IFERROR(__xludf.DUMMYFUNCTION("""COMPUTED_VALUE"""),"G") -> G | E83: =IFERROR(__xludf.DUMMYFUNCTION("""COMPUTED_VALUE"""),"F") -> F | F83: =IFERROR(__xludf.DUMMYFUNCTION("""COMPUTED_VALUE"""),"J") -> J | G83: =IFERROR(__xludf.DUMMYFUNCTION("""COMPUTED_VALUE"""),4) -> 4 | H83: =IFERROR(__xludf.DUMMYFUNCTION("""COMPUTED_VALUE"""),"CB") -> CB | I83: =IFERROR(__xludf.DUMMYFUNCTION("""COMPUTED_VALUE"""),4) -> 4 | J83: =IFERROR(__xludf.DUMMYFUNCTION("""COMPUTED_VALUE"""),4) -> 4 | K83: =IFERROR(__xludf.DUMMYFUNCTION("""COMPUTED_VALUE"""),34.55) -> 34.55 | M83: =IFERROR(__xludf.DUMMYFUNCTION("""COMPUTED_VALUE"""),28.35) -> 28.35 | O83: =IFERROR(__xludf.DUMMYFUNCTION("""COMPUTED_VALUE"""),32.4) -> 32.4 | Q83: =IFERROR(__xludf.DUMMYFUNCTION("""COMPUTED_VALUE"""),"Annabel Manegold") -> Annabel Manegold | R83: =IFERROR(__xludf.DUMMYFUNCTION("""COMPUTED_VALUE"""),"Bradley Barry") -> Bradley Barry | S83: =IFERROR(__xludf.DUMMYFUNCTION("""COMPUTED_VALUE"""),"Ana Negrelli") -> Ana Negrelli | T83: =IFERROR(__xludf.DUMMYFUNCTION("""COMPUTED_VALUE"""),"Ben Fletcher") -> Ben Fletcher
A84: =IFERROR(__xludf.DUMMYFUNCTION("""COMPUTED_VALUE"""),"CB") -> CB | B84: =IFERROR(__xludf.DUMMYFUNCTION("""COMPUTED_VALUE"""),"Whitney Grantz") -> Whitney Grantz | C84: =IFERROR(__xludf.DUMMYFUNCTION("""COMPUTED_VALUE"""),8) -> 8 | D84: =IFERROR(__xludf.DUMMYFUNCTION("""COMPUTED_VALUE"""),"G") -> G | E84: =IFERROR(__xludf.DUMMYFUNCTION("""COMPUTED_VALUE"""),"F") -> F | F84: =IFERROR(__xludf.DUMMYFUNCTION("""COMPUTED_VALUE"""),"J") -> J | G84: =IFERROR(__xludf.DUMMYFUNCTION("""COMPUTED_VALUE"""),4) -> 4 | H84: =IFERROR(__xludf.DUMMYFUNCTION("""COMPUTED_VALUE"""),"CB") -> CB | I84: =IFERROR(__xludf.DUMMYFUNCTION("""COMPUTED_VALUE"""),4) -> 4 | J84: =IFERROR(__xludf.DUMMYFUNCTION("""COMPUTED_VALUE"""),4) -> 4 | K84: =IFERROR(__xludf.DUMMYFUNCTION("""COMPUTED_VALUE"""),35.55) -> 35.55 | M84: =IFERROR(__xludf.DUMMYFUNCTION("""COMPUTED_VALUE"""),23.8) -> 23.8 | O84: =IFERROR(__xludf.DUMMYFUNCTION("""COMPUTED_VALUE"""),35.55) -> 35.55 | Q84: =IFERROR(__xludf.DUMMYFUNCTION("""COMPUTED_VALUE"""),"Annabel Rider") -> Annabel Rider | R84: =IFERROR(__xludf.DUMMYFUNCTION("""COMPUTED_VALUE"""),"Bradley Johnson") -> Bradley Johnson | S84: =IFERROR(__xludf.DUMMYFUNCTION("""COMPUTED_VALUE"""),"Anabel Bezdieck") -> Anabel Bezdieck | T84: =IFERROR(__xludf.DUMMYFUNCTION("""COMPUTED_VALUE"""),"Ben Gulotta") -> Ben Gulotta
A85: =IFERROR(__xludf.DUMMYFUNCTION("""COMPUTED_VALUE"""),"CB") -> CB | B85: =IFERROR(__xludf.DUMMYFUNCTION("""COMPUTED_VALUE"""),"Clayton MacGarvey") -> Clayton MacGarvey | C85: =IFERROR(__xludf.DUMMYFUNCTION("""COMPUTED_VALUE"""),9) -> 9 | D85: =IFERROR(__xludf.DUMMYFUNCTION("""COMPUTED_VALUE"""),"B") -> B | E85: =IFERROR(__xludf.DUMMYFUNCTION("""COMPUTED_VALUE"""),"F") -> F | F85: =IFERROR(__xludf.DUMMYFUNCTION("""COMPUTED_VALUE"""),"J") -> J | G85: =IFERROR(__xludf.DUMMYFUNCTION("""COMPUTED_VALUE"""),4) -> 4 | H85: =IFERROR(__xludf.DUMMYFUNCTION("""COMPUTED_VALUE"""),"CB") -> CB | I85: =IFERROR(__xludf.DUMMYFUNCTION("""COMPUTED_VALUE"""),5) -> 5 | J85: =IFERROR(__xludf.DUMMYFUNCTION("""COMPUTED_VALUE"""),1) -> 1 | K85: =IFERROR(__xludf.DUMMYFUNCTION("""COMPUTED_VALUE"""),52.35) -> 52.35 | Q85: =IFERROR(__xludf.DUMMYFUNCTION("""COMPUTED_VALUE"""),"Annabelle Freshman") -> Annabelle Freshman | R85: =IFERROR(__xludf.DUMMYFUNCTION("""COMPUTED_VALUE"""),"Brandon Dasch") -> Brandon Dasch | S85: =IFERROR(__xludf.DUMMYFUNCTION("""COMPUTED_VALUE"""),"Anabel Kemp") -> Anabel Kemp | T85: =IFERROR(__xludf.DUMMYFUNCTION("""COMPUTED_VALUE"""),"Ben Jacobs") -> Ben Jacobs
A86: =IFERROR(__xludf.DUMMYFUNCTION("""COMPUTED_VALUE"""),"CB") -> CB | B86: =IFERROR(__xludf.DUMMYFUNCTION("""COMPUTED_VALUE"""),"Evan Tan") -> Evan Tan | C86: =IFERROR(__xludf.DUMMYFUNCTION("""COMPUTED_VALUE"""),9) -> 9 | D86: =IFERROR(__xludf.DUMMYFUNCTION("""COMPUTED_VALUE"""),"B") -> B | E86: =IFERROR(__xludf.DUMMYFUNCTION("""COMPUTED_VALUE"""),"F") -> F | F86: =IFERROR(__xludf.DUMMYFUNCTION("""COMPUTED_VALUE"""),"J") -> J | G86: =IFERROR(__xludf.DUMMYFUNCTION("""COMPUTED_VALUE"""),4) -> 4 | H86: =IFERROR(__xludf.DUMMYFUNCTION("""COMPUTED_VALUE"""),"CB") -> CB | I86: =IFERROR(__xludf.DUMMYFUNCTION("""COMPUTED_VALUE"""),5) -> 5 | J86: =IFERROR(__xludf.DUMMYFUNCTION("""COMPUTED_VALUE"""),4) -> 4 | K86: =IFERROR(__xludf.DUMMYFUNCTION("""COMPUTED_VALUE"""),48.55) -> 48.55 | M86: =IFERROR(__xludf.DUMMYFUNCTION("""COMPUTED_VALUE"""),48.15) -> 48.15 | O86: =IFERROR(__xludf.DUMMYFUNCTION("""COMPUTED_VALUE"""),48.55) -> 48.55 | Q86: =IFERROR(__xludf.DUMMYFUNCTION("""COMPUTED_VALUE"""),"Annabeth Volosin") -> Annabeth Volosin | R86: =IFERROR(__xludf.DUMMYFUNCTION("""COMPUTED_VALUE"""),"Brandon HO") -> Brandon HO | S86: =IFERROR(__xludf.DUMMYFUNCTION("""COMPUTED_VALUE"""),"Anabelle Chan") -> Anabelle Chan | T86: =IFERROR(__xludf.DUMMYFUNCTION("""COMPUTED_VALUE"""),"Ben Keppler") -> Ben Keppler
A87: =IFERROR(__xludf.DUMMYFUNCTION("""COMPUTED_VALUE"""),"CB") -> CB | B87: =IFERROR(__xludf.DUMMYFUNCTION("""COMPUTED_VALUE"""),"Ezra Landman") -> Ezra Landman | C87: =IFERROR(__xludf.DUMMYFUNCTION("""COMPUTED_VALUE"""),8) -> 8 | D87: =IFERROR(__xludf.DUMMYFUNCTION("""COMPUTED_VALUE"""),"B") -> B | E87: =IFERROR(__xludf.DUMMYFUNCTION("""COMPUTED_VALUE"""),"F") -> F | F87: =IFERROR(__xludf.DUMMYFUNCTION("""COMPUTED_VALUE"""),"J") -> J | G87: =IFERROR(__xludf.DUMMYFUNCTION("""COMPUTED_VALUE"""),4) -> 4 | H87: =IFERROR(__xludf.DUMMYFUNCTION("""COMPUTED_VALUE"""),"CB") -> CB | I87: =IFERROR(__xludf.DUMMYFUNCTION("""COMPUTED_VALUE"""),5) -> 5 | J87: =IFERROR(__xludf.DUMMYFUNCTION("""COMPUTED_VALUE"""),4) -> 4 | K87: =IFERROR(__xludf.DUMMYFUNCTION("""COMPUTED_VALUE"""),56.55) -> 56.55 | M87: =IFERROR(__xludf.DUMMYFUNCTION("""COMPUTED_VALUE"""),50.95) -> 50.95 | O87: =IFERROR(__xludf.DUMMYFUNCTION("""COMPUTED_VALUE"""),56.55) -> 56.55 | Q87: =IFERROR(__xludf.DUMMYFUNCTION("""COMPUTED_VALUE"""),"Anne Marie Cummings") -> Anne Marie Cummings | R87: =IFERROR(__xludf.DUMMYFUNCTION("""COMPUTED_VALUE"""),"Brayden Lane") -> Brayden Lane | S87: =IFERROR(__xludf.DUMMYFUNCTION("""COMPUTED_VALUE"""),"Anamarie Harrison") -> Anamarie Harrison | T87: =IFERROR(__xludf.DUMMYFUNCTION("""COMPUTED_VALUE"""),"Ben Lyon") -> Ben Lyon
A88: =IFERROR(__xludf.DUMMYFUNCTION("""COMPUTED_VALUE"""),"CB") -> CB | B88: =IFERROR(__xludf.DUMMYFUNCTION("""COMPUTED_VALUE"""),"Ian Mormann") -> Ian Mormann | C88: =IFERROR(__xludf.DUMMYFUNCTION("""COMPUTED_VALUE"""),10) -> 10 | D88: =IFERROR(__xludf.DUMMYFUNCTION("""COMPUTED_VALUE"""),"B") -> B | E88: =IFERROR(__xludf.DUMMYFUNCTION("""COMPUTED_VALUE"""),"F") -> F | F88: =IFERROR(__xludf.DUMMYFUNCTION("""COMPUTED_VALUE"""),"J") -> J | G88: =IFERROR(__xludf.DUMMYFUNCTION("""COMPUTED_VALUE"""),4) -> 4 | H88: =IFERROR(__xludf.DUMMYFUNCTION("""COMPUTED_VALUE"""),"CB") -> CB | I88: =IFERROR(__xludf.DUMMYFUNCTION("""COMPUTED_VALUE"""),5) -> 5 | J88: =IFERROR(__xludf.DUMMYFUNCTION("""COMPUTED_VALUE"""),0) -> 0 | Q88: =IFERROR(__xludf.DUMMYFUNCTION("""COMPUTED_VALUE"""),"Annelise Saunders") -> Annelise Saunders | R88: =IFERROR(__xludf.DUMMYFUNCTION("""COMPUTED_VALUE"""),"Breck Bowman") -> Breck Bowman | S88: =IFERROR(__xludf.DUMMYFUNCTION("""COMPUTED_VALUE"""),"Anastasia Wendle") -> Anastasia Wendle | T88: =IFERROR(__xludf.DUMMYFUNCTION("""COMPUTED_VALUE"""),"Ben Margolis") -> Ben Margolis
A89: =IFERROR(__xludf.DUMMYFUNCTION("""COMPUTED_VALUE"""),"CB") -> CB | B89: =IFERROR(__xludf.DUMMYFUNCTION("""COMPUTED_VALUE"""),"Jack Zecher") -> Jack Zecher | C89: =IFERROR(__xludf.DUMMYFUNCTION("""COMPUTED_VALUE"""),10) -> 10 | D89: =IFERROR(__xludf.DUMMYFUNCTION("""COMPUTED_VALUE"""),"B") -> B | E89: =IFERROR(__xludf.DUMMYFUNCTION("""COMPUTED_VALUE"""),"F") -> F | F89: =IFERROR(__xludf.DUMMYFUNCTION("""COMPUTED_VALUE"""),"J") -> J | G89: =IFERROR(__xludf.DUMMYFUNCTION("""COMPUTED_VALUE"""),4) -> 4 | H89: =IFERROR(__xludf.DUMMYFUNCTION("""COMPUTED_VALUE"""),"CB") -> CB | I89: =IFERROR(__xludf.DUMMYFUNCTION("""COMPUTED_VALUE"""),5) -> 5 | J89: =IFERROR(__xludf.DUMMYFUNCTION("""COMPUTED_VALUE"""),3) -> 3 | K89: =IFERROR(__xludf.DUMMYFUNCTION("""COMPUTED_VALUE"""),60.65) -> 60.65 | O89: =IFERROR(__xludf.DUMMYFUNCTION("""COMPUTED_VALUE"""),60.65) -> 60.65 | Q89: =IFERROR(__xludf.DUMMYFUNCTION("""COMPUTED_VALUE"""),"Annie Baker") -> Annie Baker | R89: =IFERROR(__xludf.DUMMYFUNCTION("""COMPUTED_VALUE"""),"Brennan Gyor") -> Brennan Gyor | S89: =IFERROR(__xludf.DUMMYFUNCTION("""COMPUTED_VALUE"""),"Anaya Bose") -> Anaya Bose | T89: =IFERROR(__xludf.DUMMYFUNCTION("""COMPUTED_VALUE"""),"Ben Panko") -> Ben Panko
A90: =IFERROR(__xludf.DUMMYFUNCTION("""COMPUTED_VALUE"""),"CB") -> CB | B90: =IFERROR(__xludf.DUMMYFUNCTION("""COMPUTED_VALUE"""),"Mason Georgas") -> Mason Georgas | C90: =IFERROR(__xludf.DUMMYFUNCTION("""COMPUTED_VALUE"""),10) -> 10 | D90: =IFERROR(__xludf.DUMMYFUNCTION("""COMPUTED_VALUE"""),"B") -> B | E90: =IFERROR(__xludf.DUMMYFUNCTION("""COMPUTED_VALUE"""),"F") -> F | F90: =IFERROR(__xludf.DUMMYFUNCTION("""COMPUTED_VALUE"""),"J") -> J | G90: =IFERROR(__xludf.DUMMYFUNCTION("""COMPUTED_VALUE"""),4) -> 4 | H90: =IFERROR(__xludf.DUMMYFUNCTION("""COMPUTED_VALUE"""),"CB") -> CB | I90: =IFERROR(__xludf.DUMMYFUNCTION("""COMPUTED_VALUE"""),5) -> 5 | J90: =IFERROR(__xludf.DUMMYFUNCTION("""COMPUTED_VALUE"""),0) -> 0 | Q90: =IFERROR(__xludf.DUMMYFUNCTION("""COMPUTED_VALUE"""),"Annie Madden") -> Annie Madden | R90: =IFERROR(__xludf.DUMMYFUNCTION("""COMPUTED_VALUE"""),"Brian Stegmaier") -> Brian Stegmaier | S90: =IFERROR(__xludf.DUMMYFUNCTION("""COMPUTED_VALUE"""),"Angelina Katsas") -> Angelina Katsas | T90: =IFERROR(__xludf.DUMMYFUNCTION("""COMPUTED_VALUE"""),"Ben Pollack") -> Ben Pollack
A91: =IFERROR(__xludf.DUMMYFUNCTION("""COMPUTED_VALUE"""),"CB") -> CB | B91: =IFERROR(__xludf.DUMMYFUNCTION("""COMPUTED_VALUE"""),"Michael Moss") -> Michael Moss | C91: =IFERROR(__xludf.DUMMYFUNCTION("""COMPUTED_VALUE"""),9) -> 9 | D91: =IFERROR(__xludf.DUMMYFUNCTION("""COMPUTED_VALUE"""),"B") -> B | E91: =IFERROR(__xludf.DUMMYFUNCTION("""COMPUTED_VALUE"""),"F") -> F | F91: =IFERROR(__xludf.DUMMYFUNCTION("""COMPUTED_VALUE"""),"J") -> J | G91: =IFERROR(__xludf.DUMMYFUNCTION("""COMPUTED_VALUE"""),4) -> 4 | H91: =IFERROR(__xludf.DUMMYFUNCTION("""COMPUTED_VALUE"""),"CB") -> CB | I91: =IFERROR(__xludf.DUMMYFUNCTION("""COMPUTED_VALUE"""),5) -> 5 | J91: =IFERROR(__xludf.DUMMYFUNCTION("""COMPUTED_VALUE"""),0) -> 0 | Q91: =IFERROR(__xludf.DUMMYFUNCTION("""COMPUTED_VALUE"""),"Annie Novotny") -> Annie Novotny | R91: =IFERROR(__xludf.DUMMYFUNCTION("""COMPUTED_VALUE"""),"Brodie Kuehne") -> Brodie Kuehne | S91: =IFERROR(__xludf.DUMMYFUNCTION("""COMPUTED_VALUE"""),"Anh Trac") -> Anh Trac | T91: =IFERROR(__xludf.DUMMYFUNCTION("""COMPUTED_VALUE"""),"Ben Root") -> Ben Root
A92: =IFERROR(__xludf.DUMMYFUNCTION("""COMPUTED_VALUE"""),"CB") -> CB | B92: =IFERROR(__xludf.DUMMYFUNCTION("""COMPUTED_VALUE"""),"Nathan Easley") -> Nathan Easley | C92: =IFERROR(__xludf.DUMMYFUNCTION("""COMPUTED_VALUE"""),8) -> 8 | D92: =IFERROR(__xludf.DUMMYFUNCTION("""COMPUTED_VALUE"""),"B") -> B | E92: =IFERROR(__xludf.DUMMYFUNCTION("""COMPUTED_VALUE"""),"F") -> F | F92: =IFERROR(__xludf.DUMMYFUNCTION("""COMPUTED_VALUE"""),"J") -> J | G92: =IFERROR(__xludf.DUMMYFUNCTION("""COMPUTED_VALUE"""),4) -> 4 | H92: =IFERROR(__xludf.DUMMYFUNCTION("""COMPUTED_VALUE"""),"CB") -> CB | I92: =IFERROR(__xludf.DUMMYFUNCTION("""COMPUTED_VALUE"""),5) -> 5 | J92: =IFERROR(__xludf.DUMMYFUNCTION("""COMPUTED_VALUE"""),0) -> 0 | Q92: =IFERROR(__xludf.DUMMYFUNCTION("""COMPUTED_VALUE"""),"Antonella Salcedo") -> Antonella Salcedo | R92: =IFERROR(__xludf.DUMMYFUNCTION("""COMPUTED_VALUE"""),"Brooks Pacheco-Manetti") -> Brooks Pacheco-Manetti | S92: =IFERROR(__xludf.DUMMYFUNCTION("""COMPUTED_VALUE"""),"Anika Chaturvedi") -> Anika Chaturvedi | T92: =IFERROR(__xludf.DUMMYFUNCTION("""COMPUTED_VALUE"""),"Ben Thoman") -> Ben Thoman
A93: =IFERROR(__xludf.DUMMYFUNCTION("""COMPUTED_VALUE"""),"CB") -> CB | B93: =IFERROR(__xludf.DUMMYFUNCTION("""COMPUTED_VALUE"""),"Oliver Roques") -> Oliver Roques | C93: =IFERROR(__xludf.DUMMYFUNCTION("""COMPUTED_VALUE"""),5) -> 5 | D93: =IFERROR(__xludf.DUMMYFUNCTION("""COMPUTED_VALUE"""),"B") -> B | E93: =IFERROR(__xludf.DUMMYFUNCTION("""COMPUTED_VALUE"""),"F") -> F | F93: =IFERROR(__xludf.DUMMYFUNCTION("""COMPUTED_VALUE"""),"J") -> J | G93: =IFERROR(__xludf.DUMMYFUNCTION("""COMPUTED_VALUE"""),4) -> 4 | H93: =IFERROR(__xludf.DUMMYFUNCTION("""COMPUTED_VALUE"""),"CB") -> CB | I93: =IFERROR(__xludf.DUMMYFUNCTION("""COMPUTED_VALUE"""),5) -> 5 | J93: =IFERROR(__xludf.DUMMYFUNCTION("""COMPUTED_VALUE"""),4) -> 4 | K93: =IFERROR(__xludf.DUMMYFUNCTION("""COMPUTED_VALUE"""),36.7) -> 36.7 | M93: =IFERROR(__xludf.DUMMYFUNCTION("""COMPUTED_VALUE"""),34.85) -> 34.85 | O93: =IFERROR(__xludf.DUMMYFUNCTION("""COMPUTED_VALUE"""),36.7) -> 36.7 | Q93: =IFERROR(__xludf.DUMMYFUNCTION("""COMPUTED_VALUE"""),"Arabella Zheng") -> Arabella Zheng | R93: =IFERROR(__xludf.DUMMYFUNCTION("""COMPUTED_VALUE"""),"Brooks Roehrig") -> Brooks Roehrig | S93: =IFERROR(__xludf.DUMMYFUNCTION("""COMPUTED_VALUE"""),"Anika Sander") -> Anika Sander | T93: =IFERROR(__xludf.DUMMYFUNCTION("""COMPUTED_VALUE"""),"Benjamin Weitz") -> Benjamin Weitz
A94: =IFERROR(__xludf.DUMMYFUNCTION("""COMPUTED_VALUE"""),"CB") -> CB | B94: =IFERROR(__xludf.DUMMYFUNCTION("""COMPUTED_VALUE"""),"Ellie Hahn") -> Ellie Hahn | C94: =IFERROR(__xludf.DUMMYFUNCTION("""COMPUTED_VALUE"""),11) -> 11 | D94: =IFERROR(__xludf.DUMMYFUNCTION("""COMPUTED_VALUE"""),"G") -> G | E94: =IFERROR(__xludf.DUMMYFUNCTION("""COMPUTED_VALUE"""),"J") -> J | F94: =IFERROR(__xludf.DUMMYFUNCTION("""COMPUTED_VALUE"""),"I") -> I | G94: =IFERROR(__xludf.DUMMYFUNCTION("""COMPUTED_VALUE"""),4) -> 4 | H94: =IFERROR(__xludf.DUMMYFUNCTION("""COMPUTED_VALUE"""),"CB") -> CB | I94: =IFERROR(__xludf.DUMMYFUNCTION("""COMPUTED_VALUE"""),6) -> 6 | J94: =IFERROR(__xludf.DUMMYFUNCTION("""COMPUTED_VALUE"""),0) -> 0 | Q94: =IFERROR(__xludf.DUMMYFUNCTION("""COMPUTED_VALUE"""),"Arden Allard") -> Arden Allard | R94: =IFERROR(__xludf.DUMMYFUNCTION("""COMPUTED_VALUE"""),"Brouk Yared") -> Brouk Yared | S94: =IFERROR(__xludf.DUMMYFUNCTION("""COMPUTED_VALUE"""),"Anna Barry") -> Anna Barry | T94: =IFERROR(__xludf.DUMMYFUNCTION("""COMPUTED_VALUE"""),"Benjamin Werlinger") -> Benjamin Werlinger
A95: =IFERROR(__xludf.DUMMYFUNCTION("""COMPUTED_VALUE"""),"CB") -> CB | B95: =IFERROR(__xludf.DUMMYFUNCTION("""COMPUTED_VALUE"""),"Evah Pho") -> Evah Pho | C95: =IFERROR(__xludf.DUMMYFUNCTION("""COMPUTED_VALUE"""),12) -> 12 | D95: =IFERROR(__xludf.DUMMYFUNCTION("""COMPUTED_VALUE"""),"G") -> G | E95: =IFERROR(__xludf.DUMMYFUNCTION("""COMPUTED_VALUE"""),"J") -> J | F95: =IFERROR(__xludf.DUMMYFUNCTION("""COMPUTED_VALUE"""),"I") -> I | G95: =IFERROR(__xludf.DUMMYFUNCTION("""COMPUTED_VALUE"""),4) -> 4 | H95: =IFERROR(__xludf.DUMMYFUNCTION("""COMPUTED_VALUE"""),"CB") -> CB | I95: =IFERROR(__xludf.DUMMYFUNCTION("""COMPUTED_VALUE"""),6) -> 6 | J95: =IFERROR(__xludf.DUMMYFUNCTION("""COMPUTED_VALUE"""),3) -> 3 | K95: =IFERROR(__xludf.DUMMYFUNCTION("""COMPUTED_VALUE"""),77.35) -> 77.35 | Q95: =IFERROR(__xludf.DUMMYFUNCTION("""COMPUTED_VALUE"""),"Ari Wiley-Jimenez") -> Ari Wiley-Jimenez | R95: =IFERROR(__xludf.DUMMYFUNCTION("""COMPUTED_VALUE"""),"Bruce Sunderland") -> Bruce Sunderland | S95: =IFERROR(__xludf.DUMMYFUNCTION("""COMPUTED_VALUE"""),"Anna Blauser") -> Anna Blauser | T95: =IFERROR(__xludf.DUMMYFUNCTION("""COMPUTED_VALUE"""),"Bennett Birkelbach") -> Bennett Birkelbach
A96: =IFERROR(__xludf.DUMMYFUNCTION("""COMPUTED_VALUE"""),"CB") -> CB | B96: =IFERROR(__xludf.DUMMYFUNCTION("""COMPUTED_VALUE"""),"Jacqueline Sandridge") -> Jacqueline Sandridge | C96: =IFERROR(__xludf.DUMMYFUNCTION("""COMPUTED_VALUE"""),11) -> 11 | D96: =IFERROR(__xludf.DUMMYFUNCTION("""COMPUTED_VALUE"""),"G") -> G | E96: =IFERROR(__xludf.DUMMYFUNCTION("""COMPUTED_VALUE"""),"J") -> J | F96: =IFERROR(__xludf.DUMMYFUNCTION("""COMPUTED_VALUE"""),"I") -> I | G96: =IFERROR(__xludf.DUMMYFUNCTION("""COMPUTED_VALUE"""),4) -> 4 | H96: =IFERROR(__xludf.DUMMYFUNCTION("""COMPUTED_VALUE"""),"CB") -> CB | I96: =IFERROR(__xludf.DUMMYFUNCTION("""COMPUTED_VALUE"""),6) -> 6 | J96: =IFERROR(__xludf.DUMMYFUNCTION("""COMPUTED_VALUE"""),0) -> 0 | Q96: =IFERROR(__xludf.DUMMYFUNCTION("""COMPUTED_VALUE"""),"Aria Giarraputo") -> Aria Giarraputo | R96: =IFERROR(__xludf.DUMMYFUNCTION("""COMPUTED_VALUE"""),"Bryce Doorley") -> Bryce Doorley | S96: =IFERROR(__xludf.DUMMYFUNCTION("""COMPUTED_VALUE"""),"Anna Dober") -> Anna Dober | T96: =IFERROR(__xludf.DUMMYFUNCTION("""COMPUTED_VALUE"""),"Bennett Gilbert") -> Bennett Gilbert
A97: =IFERROR(__xludf.DUMMYFUNCTION("""COMPUTED_VALUE"""),"CB") -> CB | B97: =IFERROR(__xludf.DUMMYFUNCTION("""COMPUTED_VALUE"""),"Kendall Looney") -> Kendall Looney | C97: =IFERROR(__xludf.DUMMYFUNCTION("""COMPUTED_VALUE"""),12) -> 12 | D97: =IFERROR(__xludf.DUMMYFUNCTION("""COMPUTED_VALUE"""),"G") -> G | E97: =IFERROR(__xludf.DUMMYFUNCTION("""COMPUTED_VALUE"""),"J") -> J | F97: =IFERROR(__xludf.DUMMYFUNCTION("""COMPUTED_VALUE"""),"I") -> I | G97: =IFERROR(__xludf.DUMMYFUNCTION("""COMPUTED_VALUE"""),4) -> 4 | H97: =IFERROR(__xludf.DUMMYFUNCTION("""COMPUTED_VALUE"""),"CB") -> CB | I97: =IFERROR(__xludf.DUMMYFUNCTION("""COMPUTED_VALUE"""),6) -> 6 | J97: =IFERROR(__xludf.DUMMYFUNCTION("""COMPUTED_VALUE"""),0) -> 0 | Q97: =IFERROR(__xludf.DUMMYFUNCTION("""COMPUTED_VALUE"""),"Aria Maru") -> Aria Maru | R97: =IFERROR(__xludf.DUMMYFUNCTION("""COMPUTED_VALUE"""),"Brycen Kwak") -> Brycen Kwak | S97: =IFERROR(__xludf.DUMMYFUNCTION("""COMPUTED_VALUE"""),"Anna Dreyer") -> Anna Dreyer | T97: =IFERROR(__xludf.DUMMYFUNCTION("""COMPUTED_VALUE"""),"Bennett Wozny") -> Bennett Wozny
A98: =IFERROR(__xludf.DUMMYFUNCTION("""COMPUTED_VALUE"""),"CB") -> CB | B98: =IFERROR(__xludf.DUMMYFUNCTION("""COMPUTED_VALUE"""),"Leila Iqbal") -> Leila Iqbal | C98: =IFERROR(__xludf.DUMMYFUNCTION("""COMPUTED_VALUE"""),11) -> 11 | D98: =IFERROR(__xludf.DUMMYFUNCTION("""COMPUTED_VALUE"""),"G") -> G | E98: =IFERROR(__xludf.DUMMYFUNCTION("""COMPUTED_VALUE"""),"J") -> J | F98: =IFERROR(__xludf.DUMMYFUNCTION("""COMPUTED_VALUE"""),"I") -> I | G98: =IFERROR(__xludf.DUMMYFUNCTION("""COMPUTED_VALUE"""),4) -> 4 | H98: =IFERROR(__xludf.DUMMYFUNCTION("""COMPUTED_VALUE"""),"CB") -> CB | I98: =IFERROR(__xludf.DUMMYFUNCTION("""COMPUTED_VALUE"""),6) -> 6 | J98: =IFERROR(__xludf.DUMMYFUNCTION("""COMPUTED_VALUE"""),0) -> 0 | Q98: =IFERROR(__xludf.DUMMYFUNCTION("""COMPUTED_VALUE"""),"Arianna Patrick") -> Arianna Patrick | R98: =IFERROR(__xludf.DUMMYFUNCTION("""COMPUTED_VALUE"""),"Caelum Cox") -> Caelum Cox | S98: =IFERROR(__xludf.DUMMYFUNCTION("""COMPUTED_VALUE"""),"Anna Fitzgerald") -> Anna Fitzgerald | T98: =IFERROR(__xludf.DUMMYFUNCTION("""COMPUTED_VALUE"""),"Benny DeLong") -> Benny DeLong
