Workbook

Sheet Divers
A1: 2026 NVSL Diving Roster
A2: Enter Team from Drop Down Menu | D2: A-Annandale | P2: =LEFT(D2,FIND("-",D2)-1) -> A
A3: Last Updated
P4: A-Annandale
A5: Team Abbr. | C5: First Name | D5: Last Name | E5: Dive Event | F5: Gender G/B | G5: Age 6/1/2026 | H5: Date of Birth | I5: Event Based on Age | J5: Dive UP+1 Event Based on Age | K5: Cross-Check Dive Age | P5: AF-Arlington Forest
E6: F = Freshman | F6: G = Girl | P6: CCC-Camelot Community Club
E7: J = Junior | F7: B = Boy | P7: CH-Cardinal Hill
E8: I = Intermediate | P8: CB-Chesterbrook
E9: S = Senior | P9: CSC-Commonwealth Swim Club
A10: =$P$2 -> A | B10: =$P$2 -> A | C10: John (Sample - Delete This Row) | D10: Doe | E10: J | F10: B | G10: 12 | H10: 41505 | I10: =IF(G10="","",VLOOKUP(G10,Lookups!H:I,2,0)) -> J | J10: =IF(I10="","",VLOOKUP(I10,Lookups!J:K,2,0)) -> I | K10: =IF(OR(G10="",H10=""),"",DATEDIF(H10,Lookups!$G$2,"y")) -> 12 | P10: CP-Crosspointe
A11: =$P$2 -> A | B11: =$P$2 -> A | C11: Jane (Sample - Delete This Row) | D11: Doe | E11: S | F11: G | G11: 16 | H11: 40087 | I11: =IF(G11="","",VLOOKUP(G11,Lookups!H:I,2,0)) -> S | J11: =IF(I11="","",VLOOKUP(I11,Lookups!J:K,2,0)) -> S | K11: =IF(OR(G11="",H11=""),"",DATEDIF(H11,Lookups!$G$2,"y")) -> 16 | P11: DH-Dominion Hills
A12: =$P$2 -> A | I12: =IF(G12="","",VLOOKUP(G12,Lookups!H:I,2,0)) | J12: =IF(I12="","",VLOOKUP(I12,Lookups!J:K,2,0)) | K12: =IF(OR(G12="",H12=""),"",DATEDIF(H12,Lookups!$G$2,"y")) | P12: DR-Donaldson Run
A13: =$P$2 -> A | I13: =IF(G13="","",VLOOKUP(G13,Lookups!H:I,2,0)) | J13: =IF(I13="","",VLOOKUP(I13,Lookups!J:K,2,0)) | K13: =IF(OR(G13="",H13=""),"",DATEDIF(H13,Lookups!$G$2,"y")) | P13: DL-Dunn Loring
A14: =$P$2 -> A | I14: =IF(G14="","",VLOOKUP(G14,Lookups!H:I,2,0)) | J14: =IF(I14="","",VLOOKUP(I14,Lookups!J:K,2,0)) | K14: =IF(OR(G14="",H14=""),"",DATEDIF(H14,Lookups!$G$2,"y")) | P14: F-Fairfax
A15: =$P$2 -> A | I15: =IF(G15="","",VLOOKUP(G15,Lookups!H:I,2,0)) | J15: =IF(I15="","",VLOOKUP(I15,Lookups!J:K,2,0)) | K15: =IF(OR(G15="",H15=""),"",DATEDIF(H15,Lookups!$G$2,"y")) | P15: FS-Fairfax Station
A16: =$P$2 -> A | I16: =IF(G16="","",VLOOKUP(G16,Lookups!H:I,2,0)) | J16: =IF(I16="","",VLOOKUP(I16,Lookups!J:K,2,0)) | K16: =IF(OR(G16="",H16=""),"",DATEDIF(H16,Lookups!$G$2,"y")) | P16: GF-Great Falls
A17: =$P$2 -> A | I17: =IF(G17="","",VLOOKUP(G17,Lookups!H:I,2,0)) | J17: =IF(I17="","",VLOOKUP(I17,Lookups!J:K,2,0)) | K17: =IF(OR(G17="",H17=""),"",DATEDIF(H17,Lookups!$G$2,"y")) | P17: G-Greenbriar
A18: =$P$2 -> A | I18: =IF(G18="","",VLOOKUP(G18,Lookups!H:I,2,0)) | J18: =IF(I18="","",VLOOKUP(I18,Lookups!J:K,2,0)) | K18: =IF(OR(G18="",H18=""),"",DATEDIF(H18,Lookups!$G$2,"y")) | P18: HSC-Hamlet Swim
A19: =$P$2 -> A | I19: =IF(G19="","",VLOOKUP(G19,Lookups!H:I,2,0)) | J19: =IF(I19="","",VLOOKUP(I19,Lookups!J:K,2,0)) | K19: =IF(OR(G19="",H19=""),"",DATEDIF(H19,Lookups!$G$2,"y")) | P19: HF-Hayfield Farm
A20: =$P$2 -> A | I20: =IF(G20="","",VLOOKUP(G20,Lookups!H:I,2,0)) | J20: =IF(I20="","",VLOOKUP(I20,Lookups!J:K,2,0)) | K20: =IF(OR(G20="",H20=""),"",DATEDIF(H20,Lookups!$G$2,"y")) | P20: HP-Highland Park
A21: =$P$2 -> A | I21: =IF(G21="","",VLOOKUP(G21,Lookups!H:I,2,0)) | J21: =IF(I21="","",VLOOKUP(I21,Lookups!J:K,2,0)) | K21: =IF(OR(G21="",H21=""),"",DATEDIF(H21,Lookups!$G$2,"y")) | P21: HS-Highlands Swim
A22: =$P$2 -> A | I22: =IF(G22="","",VLOOKUP(G22,Lookups!H:I,2,0)) | J22: =IF(I22="","",VLOOKUP(I22,Lookups!J:K,2,0)) | K22: =IF(OR(G22="",H22=""),"",DATEDIF(H22,Lookups!$G$2,"y")) | P22: HV-Hunt Valley
A23: =$P$2 -> A | I23: =IF(G23="","",VLOOKUP(G23,Lookups!H:I,2,0)) | J23: =IF(I23="","",VLOOKUP(I23,Lookups!J:K,2,0)) | K23: =IF(OR(G23="",H23=""),"",DATEDIF(H23,Lookups!$G$2,"y")) | P23: IC-Ilda Community
... A51: =$P$2 -> A | I51: =IF(G51="","",VLOOKUP(G51,Lookups!H:I,2,0)) | J51: =IF(I51="","",VLOOKUP(I51,Lookups!J:K,2,0)) | K51: =IF(OR(G51="",H51=""),"",DATEDIF(H51,Lookups!$G$2,"y")) | P51: W-Woodley
A52: =$P$2 -> A | I52: =IF(G52="","",VLOOKUP(G52,Lookups!H:I,2,0)) | J52: =IF(I52="","",VLOOKUP(I52,Lookups!J:K,2,0)) | K52: =IF(OR(G52="",H52=""),"",DATEDIF(H52,Lookups!$G$2,"y"))
A53: =$P$2 -> A | I53: =IF(G53="","",VLOOKUP(G53,Lookups!H:I,2,0)) | J53: =IF(I53="","",VLOOKUP(I53,Lookups!J:K,2,0)) | K53: =IF(OR(G53="",H53=""),"",DATEDIF(H53,Lookups!$G$2,"y"))
A54: =$P$2 -> A | I54: =IF(G54="","",VLOOKUP(G54,Lookups!H:I,2,0)) | J54: =IF(I54="","",VLOOKUP(I54,Lookups!J:K,2,0)) | K54: =IF(OR(G54="",H54=""),"",DATEDIF(H54,Lookups!$G$2,"y"))
A55: =$P$2 -> A | I55: =IF(G55="","",VLOOKUP(G55,Lookups!H:I,2,0)) | J55: =IF(I55="","",VLOOKUP(I55,Lookups!J:K,2,0)) | K55: =IF(OR(G55="",H55=""),"",DATEDIF(H55,Lookups!$G$2,"y"))
A56: =$P$2 -> A | I56: =IF(G56="","",VLOOKUP(G56,Lookups!H:I,2,0)) | J56: =IF(I56="","",VLOOKUP(I56,Lookups!J:K,2,0)) | K56: =IF(OR(G56="",H56=""),"",DATEDIF(H56,Lookups!$G$2,"y"))
A57: =$P$2 -> A | I57: =IF(G57="","",VLOOKUP(G57,Lookups!H:I,2,0)) | J57: =IF(I57="","",VLOOKUP(I57,Lookups!J:K,2,0)) | K57: =IF(OR(G57="",H57=""),"",DATEDIF(H57,Lookups!$G$2,"y"))
A58: =$P$2 -> A | I58: =IF(G58="","",VLOOKUP(G58,Lookups!H:I,2,0)) | J58: =IF(I58="","",VLOOKUP(I58,Lookups!J:K,2,0)) | K58: =IF(OR(G58="",H58=""),"",DATEDIF(H58,Lookups!$G$2,"y"))
A59: =$P$2 -> A | I59: =IF(G59="","",VLOOKUP(G59,Lookups!H:I,2,0)) | J59: =IF(I59="","",VLOOKUP(I59,Lookups!J:K,2,0)) | K59: =IF(OR(G59="",H59=""),"",DATEDIF(H59,Lookups!$G$2,"y"))
A60: =$P$2 -> A | I60: =IF(G60="","",VLOOKUP(G60,Lookups!H:I,2,0)) | J60: =IF(I60="","",VLOOKUP(I60,Lookups!J:K,2,0)) | K60: =IF(OR(G60="",H60=""),"",DATEDIF(H60,Lookups!$G$2,"y"))
A61: =$P$2 -> A | I61: =IF(G61="","",VLOOKUP(G61,Lookups!H:I,2,0)) | J61: =IF(I61="","",VLOOKUP(I61,Lookups!J:K,2,0)) | K61: =IF(OR(G61="",H61=""),"",DATEDIF(H61,Lookups!$G$2,"y"))
A62: =$P$2 -> A | I62: =IF(G62="","",VLOOKUP(G62,Lookups!H:I,2,0)) | J62: =IF(I62="","",VLOOKUP(I62,Lookups!J:K,2,0)) | K62: =IF(OR(G62="",H62=""),"",DATEDIF(H62,Lookups!$G$2,"y"))
A63: =$P$2 -> A | I63: =IF(G63="","",VLOOKUP(G63,Lookups!H:I,2,0)) | J63: =IF(I63="","",VLOOKUP(I63,Lookups!J:K,2,0)) | K63: =IF(OR(G63="",H63=""),"",DATEDIF(H63,Lookups!$G$2,"y"))
... A112: =$P$2 -> A | I112: =IF(G112="","",VLOOKUP(G112,Lookups!H:I,2,0)) | J112: =IF(I112="","",VLOOKUP(I112,Lookups!J:K,2,0)) | K112: =IF(OR(G112="",H112=""),"",DATEDIF(H112,Lookups!$G$2,"y"))

Sheet Lookups
A1: Division | B1: TeamCode | C1: TeamCodeDropdown | D1: TeamName | E1: Event | F1: Gender | G1: Date | H1: Event Age | I1: Event | J1: Current EventLevel | K1: Allowed EventLevel
A2: 8 | B2: A | C2: A-Annandale | D2: Annandale | E2: F | F2: G | G2: 46174 | H2: 1 | I2: F | J2: F | K2: J
A3: 4 | B3: AF | C3: AF-Arlington Forest | D3: Arlington Forest | E3: J | F3: B | H3: 2 | I3: F | J3: J | K3: I
A4: 6 | B4: CCC | C4: CCC-Camelot Community Club | D4: Camelot Community Club | E4: I | H4: 3 | I4: F | J4: I | K4: S
A5: 7 | B5: CH | C5: CH-Cardinal Hill | D5: Cardinal Hill | E5: S | H5: 4 | I5: F | J5: S | K5: S
A6: 4 | B6: CB | C6: CB-Chesterbrook | D6: Chesterbrook | H6: 5 | I6: F
A7: 6 | B7: CSC | C7: CSC-Commonwealth Swim Club | D7: Commonwealth Swim Club | H7: 6 | I7: F
A8: 5 | B8: CP | C8: CP-Crosspointe | D8: Crosspointe | H8: 7 | I8: F
A9: 4 | B9: DH | C9: DH-Dominion Hills | D9: Dominion Hills | H9: 8 | I9: F
A10: 1 | B10: DR | C10: DR-Donaldson Run | D10: Donaldson Run | H10: 9 | I10: F
A11: 5 | B11: DL | C11: DL-Dunn Loring | D11: Dunn Loring | H11: 10 | I11: F
A12: 1 | B12: F | C12: F-Fairfax | D12: Fairfax | H12: 11 | I12: J
A13: 2 | B13: FS | C13: FS-Fairfax Station | D13: Fairfax Station | H13: 12 | I13: J
A14: 4 | B14: GF | C14: GF-Great Falls | D14: Great Falls | H14: 13 | I14: I
A15: 3 | B15: G | C15: G-Greenbriar | D15: Greenbriar | H15: 14 | I15: I
A16: 7 | B16: HSC | C16: HSC-Hamlet Swim | D16: Hamlet Swim | H16: 15 | I16: S
A17: 3 | B17: HF | C17: HF-Hayfield Farm | D17: Hayfield Farm | H17: 16 | I17: S
... A19: 1 | B19: HS | C19: HS-Highlands Swim | D19: Highlands Swim | H19: 18 | I19: S
A20: 2 | B20: HV | C20: HV-Hunt Valley | D20: Hunt Valley
A21: 8 | B21: IC | C21: IC-Ilda Community | D21: Ilda Community
A22: 2 | B22: KG | C22: KG-Kent Gardens | D22: Kent Gardens
A23: 5 | B23: LV | C23: LV-Lakeview | D23: Lakeview
A24: 3 | B24: LG | C24: LG-Lee Graham | D24: Lee Graham
A25: 8 | B25: MHC | C25: MHC-Mansion House | D25: Mansion House
A26: 7 | B26: M | C26: M-Mantua | D26: Mantua
A27: 6 | B27: NS | C27: NS-North Springfield | D27: North Springfield
A28: 1 | B28: OAK | C28: OAK-Oakton | D28: Oakton
A29: 4 | B29: OKM | C29: OKM-Old Keene Mill | D29: Old Keene Mill
A30: 6 | B30: OH | C30: OH-Orange Hunt | D30: Orange Hunt
A31: 3 | B31: O | C31: O-Overlee | D31: Overlee
... A49: 1 | B49: W | C49: W-Woodley | D49: Woodley
